BEGIN:VCALENDAR
VERSION:2.0
PRODID:-//Ecomuseu do Corvo - ECPv6.15.17//NONSGML v1.0//EN
CALSCALE:GREGORIAN
METHOD:PUBLISH
X-WR-CALNAME:Ecomuseu do Corvo
X-ORIGINAL-URL:https://ecomuseu-corvo.cultura.azores.gov.pt
X-WR-CALDESC:Eventos para Ecomuseu do Corvo
REFRESH-INTERVAL;VALUE=DURATION:PT1H
X-Robots-Tag:noindex
X-PUBLISHED-TTL:PT1H
BEGIN:VTIMEZONE
TZID:Atlantic/Azores
BEGIN:DAYLIGHT
TZOFFSETFROM:-0100
TZOFFSETTO:+0000
TZNAME:+00
DTSTART:20230326T010000
END:DAYLIGHT
BEGIN:STANDARD
TZOFFSETFROM:+0000
TZOFFSETTO:-0100
TZNAME:-01
DTSTART:20231029T010000
END:STANDARD
BEGIN:DAYLIGHT
TZOFFSETFROM:-0100
TZOFFSETTO:+0000
TZNAME:+00
DTSTART:20240331T010000
END:DAYLIGHT
BEGIN:STANDARD
TZOFFSETFROM:+0000
TZOFFSETTO:-0100
TZNAME:-01
DTSTART:20241027T010000
END:STANDARD
BEGIN:DAYLIGHT
TZOFFSETFROM:-0100
TZOFFSETTO:+0000
TZNAME:+00
DTSTART:20250330T010000
END:DAYLIGHT
BEGIN:STANDARD
TZOFFSETFROM:+0000
TZOFFSETTO:-0100
TZNAME:-01
DTSTART:20251026T010000
END:STANDARD
END:VTIMEZONE
BEGIN:VEVENT
DTSTART;TZID=Atlantic/Azores:20240627T111500
DTEND;TZID=Atlantic/Azores:20240627T170000
DTSTAMP:20260426T003237
CREATED:20240626T130340Z
LAST-MODIFIED:20240628T175402Z
UID:3812-1719486900-1719507600@ecomuseu-corvo.cultura.azores.gov.pt
SUMMARY:Inauguração da Casa da Vegia
DESCRIPTION:A Secretaria Regional da Educação\, Cultura e Desporto\, por via da Direção Regional da Cultura\, através do Ecomuseu do Corvo\, tem a honra de convidar toda a Comunidade para a inauguração da Casa da Vegia\, que se irá realizar no dia 27 de junho de 2024\, às 11h15.
URL:https://ecomuseu-corvo.cultura.azores.gov.pt/evento/inauguracao-da-casa-da-vegia/
CATEGORIES:Inaugurações
ATTACH;FMTTYPE=image/png:https://ecomuseu-corvo.cultura.azores.gov.pt/wp-content/uploads/2024/06/convite_casa-da-vegia-e1719407993747.png
END:VEVENT
END:VCALENDAR