BEGIN:VCALENDAR
VERSION:2.0
PRODID:-//Ecomuseu do Corvo - ECPv6.15.17//NONSGML v1.0//EN
CALSCALE:GREGORIAN
METHOD:PUBLISH
X-WR-CALNAME:Ecomuseu do Corvo
X-ORIGINAL-URL:https://ecomuseu-corvo.cultura.azores.gov.pt
X-WR-CALDESC:Eventos para Ecomuseu do Corvo
REFRESH-INTERVAL;VALUE=DURATION:PT1H
X-Robots-Tag:noindex
X-PUBLISHED-TTL:PT1H
BEGIN:VTIMEZONE
TZID:Atlantic/Azores
BEGIN:DAYLIGHT
TZOFFSETFROM:-0100
TZOFFSETTO:+0000
TZNAME:+00
DTSTART:20240331T010000
END:DAYLIGHT
BEGIN:STANDARD
TZOFFSETFROM:+0000
TZOFFSETTO:-0100
TZNAME:-01
DTSTART:20241027T010000
END:STANDARD
BEGIN:DAYLIGHT
TZOFFSETFROM:-0100
TZOFFSETTO:+0000
TZNAME:+00
DTSTART:20250330T010000
END:DAYLIGHT
BEGIN:STANDARD
TZOFFSETFROM:+0000
TZOFFSETTO:-0100
TZNAME:-01
DTSTART:20251026T010000
END:STANDARD
BEGIN:DAYLIGHT
TZOFFSETFROM:-0100
TZOFFSETTO:+0000
TZNAME:+00
DTSTART:20260329T010000
END:DAYLIGHT
BEGIN:STANDARD
TZOFFSETFROM:+0000
TZOFFSETTO:-0100
TZNAME:-01
DTSTART:20261025T010000
END:STANDARD
END:VTIMEZONE
BEGIN:VEVENT
DTSTART;TZID=Atlantic/Azores:20250416T210000
DTEND;TZID=Atlantic/Azores:20250416T210000
DTSTAMP:20260425T031408
CREATED:20250217T200422Z
LAST-MODIFIED:20250416T150801Z
UID:4206-1744837200-1744837200@ecomuseu-corvo.cultura.azores.gov.pt
SUMMARY:Extensão Cine’Eco - Corvo
DESCRIPTION:Ecomuseu do Corvo\, em parceria com o Cineclube da Ilha Terceira\, irá dinamizar\, pelo quarto ano consecutivo\, a extensão Cine’Eco Seia – Festival Internacional de Cinema Ambiental da Serra da Estrela.\nDurante cinco sessões serão exibidos os documentários premiados na 30.ª edição do Cine’Eco\, que decorreu em Seia em 2024.\nAs sessões decorrem entre os dias 12 de março a 16 de abril. \nNo dia 12 de março\, pelas 17h00\, decorrerá no Pavilhão Multiusos\, a sessão de abertura desta extensão cinematográfica\, que contará com a presença do Dr. Jorge Bruno Diretor do Cineclube da Ilha Terceira. \nA entrada é gratuita!\nConsulte o programa e marque a sua presença.
URL:https://ecomuseu-corvo.cultura.azores.gov.pt/evento/extensao-cineeco-corvo-2/
CATEGORIES:Cinema
ATTACH;FMTTYPE=image/jpeg:https://ecomuseu-corvo.cultura.azores.gov.pt/wp-content/uploads/2025/02/Cine-Eco_Corvo_Posts-Squares-e1739822726676.jpg
END:VEVENT
END:VCALENDAR