BEGIN:VCALENDAR
VERSION:2.0
PRODID:-//Ecomuseu do Corvo - ECPv6.15.17//NONSGML v1.0//EN
CALSCALE:GREGORIAN
METHOD:PUBLISH
X-WR-CALNAME:Ecomuseu do Corvo
X-ORIGINAL-URL:https://ecomuseu-corvo.cultura.azores.gov.pt
X-WR-CALDESC:Eventos para Ecomuseu do Corvo
REFRESH-INTERVAL;VALUE=DURATION:PT1H
X-Robots-Tag:noindex
X-PUBLISHED-TTL:PT1H
BEGIN:VTIMEZONE
TZID:Atlantic/Azores
BEGIN:DAYLIGHT
TZOFFSETFROM:-0100
TZOFFSETTO:+0000
TZNAME:+00
DTSTART:20240331T010000
END:DAYLIGHT
BEGIN:STANDARD
TZOFFSETFROM:+0000
TZOFFSETTO:-0100
TZNAME:-01
DTSTART:20241027T010000
END:STANDARD
BEGIN:DAYLIGHT
TZOFFSETFROM:-0100
TZOFFSETTO:+0000
TZNAME:+00
DTSTART:20250330T010000
END:DAYLIGHT
BEGIN:STANDARD
TZOFFSETFROM:+0000
TZOFFSETTO:-0100
TZNAME:-01
DTSTART:20251026T010000
END:STANDARD
BEGIN:DAYLIGHT
TZOFFSETFROM:-0100
TZOFFSETTO:+0000
TZNAME:+00
DTSTART:20260329T010000
END:DAYLIGHT
BEGIN:STANDARD
TZOFFSETFROM:+0000
TZOFFSETTO:-0100
TZNAME:-01
DTSTART:20261025T010000
END:STANDARD
BEGIN:DAYLIGHT
TZOFFSETFROM:-0100
TZOFFSETTO:+0000
TZNAME:+00
DTSTART:20270328T010000
END:DAYLIGHT
BEGIN:STANDARD
TZOFFSETFROM:+0000
TZOFFSETTO:-0100
TZNAME:-01
DTSTART:20271031T010000
END:STANDARD
END:VTIMEZONE
BEGIN:VEVENT
DTSTART;TZID=Atlantic/Azores:20251202T080000
DTEND;TZID=Atlantic/Azores:20260112T170000
DTSTAMP:20260425T184005
CREATED:20251127T184826Z
LAST-MODIFIED:20260122T165343Z
UID:4924-1764662400-1768237200@ecomuseu-corvo.cultura.azores.gov.pt
SUMMARY:2.ª Feira do Livro do Ecomuseu do Corvo
DESCRIPTION:Em sintonia com os objetivos do Plano Regional de Leitura\, o Ecomuseu do Corvo realiza\, durante o mês de dezembro\, a 2.ª Feira do Livro.\nEsta iniciativa pretende aproximar o livro das pessoas\, transformando-o num verdadeiro instrumento de acesso à informação\, ao conhecimento e à imaginação. Queremos incentivar o prazer da leitura e criar oportunidades para ampliar a cultura através do lazer e do entretenimento.\nEste ano a feira acontece numa época muito especial: o Natal.\nOfereça livros neste Natal!\nOs livros abrem portas para mundos mágicos\, ajudam-nos a pensar e a escrever\, não precisam de baterias e estão sempre disponíveis para nos acompanhar.\nVisite a nossa feira e descubra o poder dos livros!
URL:https://ecomuseu-corvo.cultura.azores.gov.pt/evento/2-a-feira-do-livro-do-ecomuseu-do-corvo/
CATEGORIES:Feira do Livro
ATTACH;FMTTYPE=image/png:https://ecomuseu-corvo.cultura.azores.gov.pt/wp-content/uploads/2025/11/cartaz-e1764269269625.png
END:VEVENT
BEGIN:VEVENT
DTSTART;TZID=Atlantic/Azores:20251229T203000
DTEND;TZID=Atlantic/Azores:20260105T200000
DTSTAMP:20260425T184005
CREATED:20251226T160008Z
LAST-MODIFIED:20251223T134157Z
UID:4977-1767040200-1767643200@ecomuseu-corvo.cultura.azores.gov.pt
SUMMARY:Desafio "Falar Corvino"
DESCRIPTION:No dia 29 de dezembro\, será lançado o novo desafio “Falar Corvino” da semana.\nAs sugestões quanto ao significado da palavra ou expressão serão dadas através da publicação que estará patente no facebook do Ecomuseu do Corvo. \nNão hesitem em contactar-nos com as vossas sugestões.\nObrigada a todos pela participação e pelos contributos que nos têm enviado.\nPara acompanharem o resultado das vossas sugestões deixamos o link do glossário “Falar Corvino”.
URL:https://ecomuseu-corvo.cultura.azores.gov.pt/evento/desafio-falar-corvino-15/
CATEGORIES:Falar Corvino,Património Imaterial
ATTACH;FMTTYPE=image/png:https://ecomuseu-corvo.cultura.azores.gov.pt/wp-content/uploads/2025/12/52-e1766161296904.png
END:VEVENT
BEGIN:VEVENT
DTSTART;TZID=Atlantic/Azores:20260103T180000
DTEND;TZID=Atlantic/Azores:20260103T220000
DTSTAMP:20260425T184005
CREATED:20251223T140345Z
LAST-MODIFIED:20260112T164825Z
UID:4988-1767463200-1767477600@ecomuseu-corvo.cultura.azores.gov.pt
SUMMARY:Minimaratona de Leitura de Moby Dick.
DESCRIPTION:O Ecomuseu do Corvo junta-se\, pela primeira vez\, à Minimaratona de Leitura de Moby Dick.\nA iniciativa terá lugar no dia 3 de janeiro de 2026\, às 18h00\, no Pavilhão Multiusos do Corvo.\nEsta atividade é promovida pelo Museu de Angra do Heroísmo\, em parceria com o OMA – Observatório do Mar dos Açores\, o New Bedford Whaling Museum\, o Museu das Flores\, o Museu da Baleia da Madeira (MBM)\, a Biblioteca Nacional de Cabo Verde\, o Museu de Santa Maria e o Museu Marítimo de Sesimbra.\nO objetivo é reforçar a rede cultural lusófona e atlântica\, celebrando a vitalidade da leitura pública e o poder simbólico desta obra\, considerada uma das maiores criações da literatura mundial.\nPublicado em 1851\, Moby Dick\, de Herman Melville\, permanece um clássico intemporal que nos convida a refletir sobre os limites da ambição humana e a eterna luta entre razão e instinto.\nA Minimaratona será realizada em simultâneo por todas as instituições participantes\, cada uma dinamizando a leitura localmente. No Corvo\, os excertos serão lidos por participantes da comunidade.\nOs textos serão disponibilizados aos leitores com antecedência.\nAs inscrições para leitores estão abertas a crianças e adultos e podem ser feitas através dos seguintes endereços de e-mail:ecomuseu.corvo.info@azores.gov.pt e ana.tl.mota@azores.gov.pt\nContamos com a sua participação nesta celebração de uma obra fundamental para a cultura lusófona e atlântica!
URL:https://ecomuseu-corvo.cultura.azores.gov.pt/evento/minimaratona-de-leitura-de-moby-dick/
CATEGORIES:Literatura
ATTACH;FMTTYPE=image/jpeg:https://ecomuseu-corvo.cultura.azores.gov.pt/wp-content/uploads/2025/12/moby-e1766498611393.jpg
END:VEVENT
BEGIN:VEVENT
DTSTART;TZID=Atlantic/Azores:20260105T203000
DTEND;TZID=Atlantic/Azores:20260112T200000
DTSTAMP:20260425T184005
CREATED:20260102T160055Z
LAST-MODIFIED:20251223T134131Z
UID:4979-1767645000-1768248000@ecomuseu-corvo.cultura.azores.gov.pt
SUMMARY:Desafio "Falar Corvino"
DESCRIPTION:No dia 5 de janeiro\, será lançado o novo desafio “Falar Corvino” da semana.\nAs sugestões quanto ao significado da palavra ou expressão serão dadas através da publicação que estará patente no facebook do Ecomuseu do Corvo. \nNão hesitem em contactar-nos com as vossas sugestões.\nObrigada a todos pela participação e pelos contributos que nos têm enviado.\nPara acompanharem o resultado das vossas sugestões deixamos o link do glossário “Falar Corvino”.
URL:https://ecomuseu-corvo.cultura.azores.gov.pt/evento/desafio-falar-corvino-16/
CATEGORIES:Falar Corvino,Património Imaterial
ATTACH;FMTTYPE=image/png:https://ecomuseu-corvo.cultura.azores.gov.pt/wp-content/uploads/2025/12/1-e1766161387520.png
END:VEVENT
BEGIN:VEVENT
DTSTART;TZID=Atlantic/Azores:20260112T203000
DTEND;TZID=Atlantic/Azores:20260119T200000
DTSTAMP:20260425T184005
CREATED:20260109T124400Z
LAST-MODIFIED:20260114T115858Z
UID:4994-1768249800-1768852800@ecomuseu-corvo.cultura.azores.gov.pt
SUMMARY:Desafio "Falar Corvino"
DESCRIPTION:No dia 12 de janeiro\, será lançado o novo desafio “Falar Corvino” da semana.\nAs sugestões quanto ao significado da palavra ou expressão serão dadas através da publicação que estará patente no facebook do Ecomuseu do Corvo. \nNão hesitem em contactar-nos com as vossas sugestões.\nObrigada a todos pela participação e pelos contributos que nos têm enviado.\nPara acompanharem o resultado das vossas sugestões deixamos o link do glossário “Falar Corvino”.
URL:https://ecomuseu-corvo.cultura.azores.gov.pt/evento/desafio-falar-corvino-17/
CATEGORIES:Falar Corvino,Património Imaterial
ATTACH;FMTTYPE=image/png:https://ecomuseu-corvo.cultura.azores.gov.pt/wp-content/uploads/2026/01/2-e1767962628134.png
END:VEVENT
BEGIN:VEVENT
DTSTART;TZID=Atlantic/Azores:20260115T080000
DTEND;TZID=Atlantic/Azores:20260115T153000
DTSTAMP:20260425T184005
CREATED:20260114T115621Z
LAST-MODIFIED:20260122T164726Z
UID:5011-1768464000-1768491000@ecomuseu-corvo.cultura.azores.gov.pt
SUMMARY:Encontros com Memória
DESCRIPTION:Iniciamos 2026 com o regresso dos nossos “Encontros com Memória”\, uma iniciativa que valoriza as histórias\, os saberes e as vivências que moldam a identidade da ilha do Corvo e que\, ao mesmo tempo\, promove a inclusão geracional e a ocupação ativa e significativa do tempo dos participantes.\nAo longo dos últimos anos\, esta atividade tem aproximado crianças\, jovens\, adultos e\, de forma muito especial\, os anciãos da Santa Casa da Misericórdia do Corvo\, verdadeiros guardiões de um património imaterial único. Estes encontros são um momento de convívio\, partilha e aprendizagem mútua\, permitindo que diferentes gerações se encontrem\, dialoguem e reconheçam o valor da experiência acumulada ao longo de vidas inteiras.\nNeste novo ciclo\, reforçamos o compromisso de recolher relatos\, tradições\, expressões\, gestos e memórias que fazem parte da história da nossa comunidade. Cada conversa é também uma oportunidade para promover o bem-estar dos participantes mais idosos\, oferecendo-lhes um espaço ativo de participação social\, de valorização pessoal e de continuidade das suas vivências através da transmissão às gerações mais novas.\nOs “Encontros com Memória” são\, acima de tudo\, um espaço de escuta\, diálogo e inclusão\, onde revisitar o passado nos ajuda a compreender melhor o presente e a projetar um futuro mais enraizado na identidade local.\nQue 2026 seja mais um ano de histórias vivas\, aprendizagens partilhadas e celebração da memória coletiva do Corvo\, alimentando laços comunitários e fortalecendo o sentimento de pertença.\nA primeira sessão deste ano terá lugar a 15 de janeiro\, dando início a mais um ciclo de encontros que unem pessoas\, memórias e gerações.
URL:https://ecomuseu-corvo.cultura.azores.gov.pt/evento/encontros-com-memoria-4/
CATEGORIES:Projeto social
ATTACH;FMTTYPE=image/png:https://ecomuseu-corvo.cultura.azores.gov.pt/wp-content/uploads/2026/01/Divulgacao-e1768391756291.png
END:VEVENT
BEGIN:VEVENT
DTSTART;TZID=Atlantic/Azores:20260119T080000
DTEND;TZID=Atlantic/Azores:20260119T170000
DTSTAMP:20260425T184005
CREATED:20260119T163202Z
LAST-MODIFIED:20260122T164709Z
UID:5030-1768809600-1768842000@ecomuseu-corvo.cultura.azores.gov.pt
SUMMARY:Artistas no Ecomuseu - Santo Antão e os Animais
DESCRIPTION:O Ecomuseu do Corvo retoma\, em 2026\, a atividade mensal “Artistas no Ecomuseu”\, dando continuidade a esta iniciativa de caráter educativo\, desenvolvida em parceria com o Jardim de Infância Planeta Azul\, da Santa Casa da Misericórdia do Corvo.\n\n\nA temática da primeira sessão de 2026 será “Santo Antão e os Animais”\, decorrendo no próximo dia 20 de janeiro\, proporcionando às crianças uma nova oportunidade de contacto com o património cultural do Corvo\, através de uma abordagem lúdica e pedagógica.\n\n\nEsta iniciativa enquadra-se na missão do Ecomuseu do Corvo de promover a educação patrimonial desde a infância\, reforçando a ligação entre a comunidade\, a cultura local e as instituições educativas locais.\n\n\n#corvo #culturacores #acores #ecomuseudocorvo #cultura #museusdosacores #educação #educacaoinfantil
URL:https://ecomuseu-corvo.cultura.azores.gov.pt/evento/artistas-no-ecomuseu-santo-antao-e-os-animais/
CATEGORIES:Serviço educativo
ATTACH;FMTTYPE=image/png:https://ecomuseu-corvo.cultura.azores.gov.pt/wp-content/uploads/2026/01/redes_sociais.png
END:VEVENT
BEGIN:VEVENT
DTSTART;TZID=Atlantic/Azores:20260119T203000
DTEND;TZID=Atlantic/Azores:20260126T200000
DTSTAMP:20260425T184005
CREATED:20260116T132914Z
LAST-MODIFIED:20260116T132914Z
UID:5022-1768854600-1769457600@ecomuseu-corvo.cultura.azores.gov.pt
SUMMARY:Desafio "Falar Corvino"
DESCRIPTION:No dia 19 de janeiro\, será lançado o novo desafio “Falar Corvino” da semana.\nAs sugestões quanto ao significado da palavra ou expressão serão dadas através da publicação que estará patente no facebook do Ecomuseu do Corvo. \nNão hesitem em contactar-nos com as vossas sugestões.\nObrigada a todos pela participação e pelos contributos que nos têm enviado.\nPara acompanharem o resultado das vossas sugestões deixamos o link do glossário “Falar Corvino”.
URL:https://ecomuseu-corvo.cultura.azores.gov.pt/evento/desafio-falar-corvino-18/
CATEGORIES:Falar Corvino,Património Imaterial
ATTACH;FMTTYPE=image/png:https://ecomuseu-corvo.cultura.azores.gov.pt/wp-content/uploads/2026/01/3-e1768570141941.png
END:VEVENT
BEGIN:VEVENT
DTSTART;TZID=Atlantic/Azores:20260121T160000
DTEND;TZID=Atlantic/Azores:20261231T170000
DTSTAMP:20260425T184005
CREATED:20260112T164809Z
LAST-MODIFIED:20260122T164743Z
UID:5004-1769011200-1798736400@ecomuseu-corvo.cultura.azores.gov.pt
SUMMARY:3.ª edição da formação: “A Hora da Barreta”
DESCRIPTION:O Ecomuseu do Corvo informa que abertas as inscrições para a frequência da 3.ª edição da formação: “A Hora da Barreta”.\nPara participar neste workshop em Barretas do Corvo só necessita inscrever-se.\nQuem já se inscreveu no ano transato deverá inscrever-se novamente\, para nos indicar qual o local da sua preferência para frequentar este curso\, uma vez que o mesmo será dinamizado\, em simultâneo\, no Multiusos e na Casa da Memória.\nO curso é gratuito\, terá início a 21 de janeiro de 2026 e decorrerá todas as quartas-feiras\, entre as 16h00 e as 17h00.\nPara mais pormenores e inscrições basta seguir o seguinte link:\nhttps://forms.office.com/e/unPDNHwRt9\nCom esta ação\, iniciada em dezembro de 2023\, o Ecomuseu pretende preservar o saber fazer.\nTrata-se de uma ação prolongada no tempo\, que desenvolvemos semanalmente\, à quarta-feira\, com a duração de apenas uma hora\, onde os inscritos podem comparecer conforme a sua disponibilidade.\nPretende-se\, assim\, transmitir a arte de produzir a típica barreta do Corvo e capacitar a comunidade para a importância da preservação deste património único.\nTal como tem vindo a acontecer\, pretendemos articular esta atividade com os nossos anciãos\, durante a atividade “Encontros com Memória”\, com o intuito de com eles reavivarmos memórias de tempos antigos e aprendermos mais sobre este elemento único do património da ilha do Corvo.\nPara mais informações sobre a barreta típica do Corvo poderá consultar o site do Ecomuseu do Corvo: https://ecomuseu-corvo.cultura.azores.gov.pt/boina-de-la-do-corvo/\nAgradecemos o interesse da comunidade pela preservação do património do Corvo!
URL:https://ecomuseu-corvo.cultura.azores.gov.pt/evento/3-a-edicao-da-formacao-a-hora-da-barreta/
CATEGORIES:Workshops
ATTACH;FMTTYPE=image/png:https://ecomuseu-corvo.cultura.azores.gov.pt/wp-content/uploads/2026/01/Hora-da-barreta_divulgacao--e1768236361421.png
END:VEVENT
BEGIN:VEVENT
DTSTART;TZID=Atlantic/Azores:20260122T080000
DTEND;TZID=Atlantic/Azores:20260131T170000
DTSTAMP:20260425T184005
CREATED:20260122T165229Z
LAST-MODIFIED:20260122T165259Z
UID:5037-1769068800-1769878800@ecomuseu-corvo.cultura.azores.gov.pt
SUMMARY:A Feira do Feira do Livro continua até 31 de janeiro
DESCRIPTION:Devido ao enorme carinho e entusiasmo da nossa comunidade\, a 2.ª Feira do Livro do Ecomuseu do Corvo será prolongada até ao final do mês de janeiro.\nPorque os livros iluminam os nossos dias\, despertam sonhos e aquecem o coração\, queremos dar mais tempo para descobrir histórias que inspiram e transformam.\n“Ler é viajar sem sair de casa\, é voar mesmo sem ter asas e crescer sem mudar de estatura.” António Costta\nDeixe‑se envolver pela magia da leitura\, porque cada página que abrimos não só emociona\, como educa. Ler amplia a nossa sensibilidade\, fortalece o pensamento e ajuda-nos a compreender melhor a nós mesmos e ao mundo.\nÉ através dos livros que crescemos por dentro\, despertamos novas ideias e descobrimos horizontes que jamais imaginaríamos alcançar.\nVisite-nos até 31 de janeiro.\n\n\nO Ecomuseu do Corvo agradece a todos os que tornam esta feira tão especial.
URL:https://ecomuseu-corvo.cultura.azores.gov.pt/evento/a-feira-do-feira-do-livro-continua-ate-31-de-janeiro/
CATEGORIES:Literatura
ATTACH;FMTTYPE=image/png:https://ecomuseu-corvo.cultura.azores.gov.pt/wp-content/uploads/2026/01/feira-do-livro_janeiro-e1769100724171.png
END:VEVENT
BEGIN:VEVENT
DTSTART;TZID=Atlantic/Azores:20260127T103000
DTEND;TZID=Atlantic/Azores:20260127T170000
DTSTAMP:20260425T184005
CREATED:20260122T163825Z
LAST-MODIFIED:20260122T163931Z
UID:5034-1769509800-1769533200@ecomuseu-corvo.cultura.azores.gov.pt
SUMMARY:Dia Aberto do Conservador-Restaurador
DESCRIPTION:O Ecomuseu do Corvo associa‑se às comemorações do Dia Internacional do Conservador‑Restaurador\, que se assinala no dia 27 de janeiro\, promovendo um Dia Aberto da Conservação e Restauro dos Bens do Património Móvel do Corvo\, a partir das 10h30\, no Edifício Multiusos.\nEsta atividade pretende aproximar a comunidade do trabalho fundamental desenvolvido na conservação e restauro dos bens que integram o património móvel da ilha. Será uma oportunidade para conhecer de perto os procedimentos\, técnicas e cuidados que garantem a preservação destes testemunhos materiais da nossa história e identidade.\nCom esta iniciativa\, o Ecomuseu do Corvo reforça o seu compromisso com a salvaguarda do património cultural local\, convidando todos a participar num momento de partilha\, sensibilização e valorização do trabalho técnico e científico dos profissionais de conservação e restauro.\nJunte‑se a nós nesta celebração!\nPorque preservar o nosso património é proteger as memórias que nos definem.
URL:https://ecomuseu-corvo.cultura.azores.gov.pt/evento/dia-aberto-do-conservador-restaurador/
CATEGORIES:Oficinas/Cursos/Workshops,Património
ATTACH;FMTTYPE=image/png:https://ecomuseu-corvo.cultura.azores.gov.pt/wp-content/uploads/2026/01/Dia-aberto-conservador-restaurador-insta-e1769099959230.png
END:VEVENT
END:VCALENDAR