BEGIN:VCALENDAR
VERSION:2.0
PRODID:-//Ecomuseu do Corvo - ECPv6.15.17//NONSGML v1.0//EN
CALSCALE:GREGORIAN
METHOD:PUBLISH
X-WR-CALNAME:Ecomuseu do Corvo
X-ORIGINAL-URL:https://ecomuseu-corvo.cultura.azores.gov.pt
X-WR-CALDESC:Eventos para Ecomuseu do Corvo
REFRESH-INTERVAL;VALUE=DURATION:PT1H
X-Robots-Tag:noindex
X-PUBLISHED-TTL:PT1H
BEGIN:VTIMEZONE
TZID:Atlantic/Azores
BEGIN:DAYLIGHT
TZOFFSETFROM:-0100
TZOFFSETTO:+0000
TZNAME:+00
DTSTART:20240331T010000
END:DAYLIGHT
BEGIN:STANDARD
TZOFFSETFROM:+0000
TZOFFSETTO:-0100
TZNAME:-01
DTSTART:20241027T010000
END:STANDARD
BEGIN:DAYLIGHT
TZOFFSETFROM:-0100
TZOFFSETTO:+0000
TZNAME:+00
DTSTART:20250330T010000
END:DAYLIGHT
BEGIN:STANDARD
TZOFFSETFROM:+0000
TZOFFSETTO:-0100
TZNAME:-01
DTSTART:20251026T010000
END:STANDARD
BEGIN:DAYLIGHT
TZOFFSETFROM:-0100
TZOFFSETTO:+0000
TZNAME:+00
DTSTART:20260329T010000
END:DAYLIGHT
BEGIN:STANDARD
TZOFFSETFROM:+0000
TZOFFSETTO:-0100
TZNAME:-01
DTSTART:20261025T010000
END:STANDARD
END:VTIMEZONE
BEGIN:VEVENT
DTSTART;TZID=Atlantic/Azores:20250101T153000
DTEND;TZID=Atlantic/Azores:20250731T170000
DTSTAMP:20260425T152315
CREATED:20250410T115045Z
LAST-MODIFIED:20250917T184306Z
UID:4316-1735745400-1753981200@ecomuseu-corvo.cultura.azores.gov.pt
SUMMARY:Encontros com Memória
DESCRIPTION:A realizar mensalmente junto dos utentes da Santa Casa da Misericórdia para com eles interagirmos e recordarmos\, através de diversas atividades\, tempos e vivências de antigamente.\nEsta é uma atividade que tem como objetivos principais a criação de momentos de convívio com os idosos\, que propiciem a retoma de histórias e memórias passadas\, bem como proporcionar situações de bem-estar social\, que quebrem a monotonia do quotidiano e que permitam incrementar o relacionamento intergeracional.
URL:https://ecomuseu-corvo.cultura.azores.gov.pt/evento/encontros-com-memoria-3/
CATEGORIES:Encontros com Memória
ATTACH;FMTTYPE=image/png:https://ecomuseu-corvo.cultura.azores.gov.pt/wp-content/uploads/2025/04/Encontros-com-memoria.png
END:VEVENT
BEGIN:VEVENT
DTSTART;TZID=Atlantic/Azores:20250110T080000
DTEND;TZID=Atlantic/Azores:20251231T170000
DTSTAMP:20260425T152315
CREATED:20250110T182624Z
LAST-MODIFIED:20250124T142443Z
UID:4166-1736496000-1767200400@ecomuseu-corvo.cultura.azores.gov.pt
SUMMARY:Grupo de colaboradores do Ecomuseu
DESCRIPTION:Grupo de Colaboradores do Ecomuseu do Corvo \n“Os Grupos de [colaboradores] de Museus e Monumentos são associações sem fins lucrativos\, constituídos por pessoas individuais ou coletivas que decidem desenvolver iniciativas e atividades em prol do estudo\, inventário\, preservação e valorização dos bens imóveis e móveis geridos pelas entidades museológicas e patrimoniais.\nDe um modo geral\, [estes Grupos]\, através do trabalho voluntário e do mecenato\, têm como objetivos da sua atividade o enriquecimento das coleções\, a promoção de investigação\, a realização de exposições\, a edição de publicações\, o desenvolvimento de ações de formação\, a defesa do património próprio e o existente nas áreas envolventes de museus e monumentos e a cooperação com outras entidades empenhadas na defesa e valorização do Património Cultural.”\nin\, Direção-Geral do Património Cultural (DGPC)\nConsideramos\, assim\, da máxima importância dar continuidade à dinamização de um grupo de colaboradores do Ecomuseu do Corvo que possa contribuir para o desenvolvimento local\, preservação e valorização do Património e da Memória Histórica da ilha do Corvo. Um Património que é de todos nós!\nSe ainda não faz parte deste grupo preencha\, por favor\, o presente formulário ( https://forms.office.com/r/64jqpPxMZn). O tratamento dos dados pessoais será limitado à finalidade para a qual os dados são recolhidos.\nObjetivos:\n– Divulgar o trabalho do Ecomuseu e o Património corvino nas suas múltiplas vertentes e dimensões;\n– Criar uma rede de colaboradores que possa contribuir\, de acordo com as suas aspirações\, conhecimento e experiência\, para o trabalho do Ecomuseu;\n– Assegurar o envolvimento da comunidade nos processos ecomuseológicos;\n– Incentivar à apropriação consciente do Património\, por parte da comunidade que é sua herdeira;\n– Contribuir com ideias de projetos que possam promover a valorização\, salvaguarda e transmissão do património corvino\, com vista ao desenvolvimento local que o Ecomuseu prevê.\nSendo este um Museu de Território\, onde a Comunidade é a protagonista\, é nosso dever garantir e incentivar o envolvimento desta\, pois também eles são os atores no processo dinâmico que é o Ecomuseu. Assim\, propõe-se a ampliação de uma “rede de amigos e colaboradores” que inclua todos aqueles que entenderem colaborar e trabalhar com a equipa do Ecomuseu nas várias ações e projetos que se pretendem desenvolver.\nAs “novas” práticas museológicas e\, em particular\, o nosso Ecomuseu tem assumido um papel importante na conservação e valorização do património natural e cultural nas suas diferentes vertentes e\, também\, nos processos de desenvolvimento do território que se vão alargando continuamente\, e que incluam todos aqueles que entenderem colaborar e trabalhar com a equipa do Ecomuseu. O Ecomuseu do Corvo assume-se como um verdadeiro centro de conservação da Memória e da Identidade cultural da Ilha do Corvo e dos seus habitantes. O seu contributo e colaboração são muito importantes para o Ecomuseu\, pois o Ecomuseu somos todos nós!\nObrigada por colaborar e contribuir para que o Ecomuseu do Corvo prossiga a sua Missão!\nA equipa do Ecomuseu do Corvo
URL:https://ecomuseu-corvo.cultura.azores.gov.pt/evento/grupo-de-colaboradores-do-ecomuseu/
CATEGORIES:Divulgação
ATTACH;FMTTYPE=image/png:https://ecomuseu-corvo.cultura.azores.gov.pt/wp-content/uploads/2025/01/Grupo-de-amigos-e1736533543134.png
END:VEVENT
BEGIN:VEVENT
DTSTART;TZID=Atlantic/Azores:20250205T160000
DTEND;TZID=Atlantic/Azores:20251231T170000
DTSTAMP:20260425T152315
CREATED:20250124T140548Z
LAST-MODIFIED:20250124T143933Z
UID:4184-1738771200-1767200400@ecomuseu-corvo.cultura.azores.gov.pt
SUMMARY:Workshop: A Hora da Barreta
DESCRIPTION:Vimos informar que estão abertas as inscrições para a frequência da 2.ª edição da formação: “A Hora da Barreta”.\nPara participar neste workshop em Barretas do Corvo só necessita inscrever-se.\nQuem já se inscreveu no ano transato deverá inscrever-se novamente\, para nos indicar qual o local da sua preferência para frequentar este curso\, uma vez que o mesmo será dinamizado\, em simultâneo\, no Multiusos e na Casa da Memória.\nO curso é gratuito\, terá início a 05 de fevereiro de 2025 e decorrerá todas as quartas-feiras\, entre as 16h00 e as 17h00.\nPara mais pormenores e inscrições basta seguir o seguinte link:\nhttps://forms.office.com/e/bwubj05Jbm?origin=lprLinkhttps://forms.office.com/e/bwubj05Jbm?origin=lprLink\nCom esta ação\, iniciada em dezembro de 2023\, o Ecomuseu pretende preservar o saber fazer.\nTrata-se de uma ação prolongada no tempo\, que desenvolvemos semanalmente\, à quarta-feira\, com a duração de apenas uma hora\, onde os inscritos podem comparecer conforme a sua disponibilidade.\nPretende-se\, assim\, transmitir a arte de produzir a típica barreta do Corvo e capacitar a comunidade para a importância da preservação deste património único.\nTal como tem vindo a acontecer\, pretendemos articular esta atividade com os nossos anciãos\, durante a atividade “Encontros com Memória”\, com o intuito de com eles reavivarmos memórias de tempos antigos e aprendermos mais sobre este elemento único do património da ilha do Corvo. \nMais informações sobre a barreta típica do Corvo poderá consultar »»
URL:https://ecomuseu-corvo.cultura.azores.gov.pt/evento/workshop-a-hora-da-barreta/
CATEGORIES:Oficinas/Cursos/Workshops
ATTACH;FMTTYPE=image/png:https://ecomuseu-corvo.cultura.azores.gov.pt/wp-content/uploads/2025/01/Hora-da-barreta--e1737727513186.png
END:VEVENT
BEGIN:VEVENT
DTSTART;TZID=Atlantic/Azores:20250630T080000
DTEND;TZID=Atlantic/Azores:20250705T200000
DTSTAMP:20260425T152315
CREATED:20250623T115842Z
LAST-MODIFIED:20250714T105655Z
UID:4579-1751270400-1751745600@ecomuseu-corvo.cultura.azores.gov.pt
SUMMARY:Workshop de Vimes
DESCRIPTION:Entre os dias 30 de junho e 5 de julho\, no Multiusos do Corvo\, realiza-se o Workshop de Vimes\, orientado pelo artesão Alcídio Andrade.\nVem aprender as técnicas deste artesanato tão característico dos Açores e dá vida às tuas próprias peças feitas à mão!\n\nHorário: a partir das 18h00\nParticipação GRATUITA\n\nNão percas esta oportunidade de explorar a tua criatividade e mergulhar num universo de técnicas manuais.\nEsta é uma atividade promovida pelo Orçamento Participativo dos Açores\, com o apoio local do Ecomuseu do Corvo.
URL:https://ecomuseu-corvo.cultura.azores.gov.pt/evento/workshop-de-vimes/
CATEGORIES:Oficinas/Cursos/Workshops
ATTACH;FMTTYPE=image/jpeg:https://ecomuseu-corvo.cultura.azores.gov.pt/wp-content/uploads/2025/06/DestaqueCA_OPVimes-e1750680338867.jpg
END:VEVENT
BEGIN:VEVENT
DTSTART;TZID=Atlantic/Azores:20250707T080000
DTEND;TZID=Atlantic/Azores:20250707T170000
DTSTAMP:20260425T152315
CREATED:20250707T114332Z
LAST-MODIFIED:20250916T172713Z
UID:4641-1751875200-1751907600@ecomuseu-corvo.cultura.azores.gov.pt
SUMMARY:Férias de verão no Ecomuseu
DESCRIPTION:As atividades de verão com as crianças continuam!\nO Ecomuseu do Corvo\, em articulação com serviço de desporto e com o serviço de ambiente e alterações climáticas\, irá promover atividades de ocupação dos tempos livres\, no período de verão\, para os mais jovens.\nTemos um programa diversificado\, para tal bastará fazer a inscrição do seu educando junto dos nossos serviços\, através do preenchimento do formulário online:\nhttps://forms.office.com/e/kPMbXYAgkp\nAs atividades são semanais\, terão início no dia 09 de julho e terminarão a 08 de agosto.\nCalendário das atividades:\n3.ª feira | Das 14h30 até às 16h00 – Atividades de Educação Patrimonial (tecelagem\, jogos didáticos\, trabalhos manuais\, puzzles\, entre muitos outros) – Local: Casa da Memória e Pavilhão Multiusos\n4.ª feira | das 09h30 às 11h30 – “Movimento na praia”- Aconselha-se que levem chapéu\, protetor solar\, toalha de praia e água. Local de encontro: Pavilhão Multiusos. Quando o tempo não o permita realizaremos outras ações educativas.\n5.ª feira | Das 14h30 até às 16h00 – “Cinema à quinta” Local: Pavilhão Multiusos. Com oferta de pipocas.\nAs atividades são gratuitas e direcionadas às crianças a partir dos 6 anos de idade.\nFérias é no Ecomuseu!
URL:https://ecomuseu-corvo.cultura.azores.gov.pt/evento/ferias-de-verao-no-ecomuseu-2/
CATEGORIES:Serviço educativo
ATTACH;FMTTYPE=image/jpeg:https://ecomuseu-corvo.cultura.azores.gov.pt/wp-content/uploads/2025/07/Copia-de-Ferias-no-Ecomuseu-1-e1751888603174.jpg
END:VEVENT
BEGIN:VEVENT
DTSTART;TZID=Atlantic/Azores:20250707T080000
DTEND;TZID=Atlantic/Azores:20250708T170000
DTSTAMP:20260425T152315
CREATED:20250707T113654Z
LAST-MODIFIED:20250721T161856Z
UID:4637-1751875200-1751994000@ecomuseu-corvo.cultura.azores.gov.pt
SUMMARY:Cozinha de Antigamente – Oficina de Sabores e Saberes
DESCRIPTION:Cozinha de Antigamente – Oficina de Sabores e Saberes valoriza tradições gastronómicas do Corvo \nO Ecomuseu do Corvo promove nos dias 7 e 8 de julho\, pelas 14h00\, no Pavilhão Multiusos\, mais uma edição da Oficina de Sabores e Saberes\, integrada no projeto Cozinha de Antigamente. \nNa segunda-feira\, dia 7\, será confecionado pão de milho segundo os métodos tradicionais. Na terça-feira\, dia 8\, será a vez da emblemática Carne da Barça\, uma receita profundamente enraizada na identidade alimentar da ilha. Ambas as sessões contarão com a orientação de membros da comunidade que generosamente partilham o seu saber e experiência. \nDesde 2022\, o projeto Cozinha de Antigamente tem-se dedicado à recolha participativa da gastronomia tradicional corvina\, envolvendo a população local no registo de receitas\, práticas e memórias ligadas à cozinha dos tempos antigos. Este trabalho tem permitido reconhecer e valorizar um património vivo que importa preservar. \nA Oficina de Sabores e Saberes constitui a vertente prática desta iniciativa\, permitindo experimentar\, testar e aprofundar o conhecimento sobre técnicas e produtos tradicionais. Apesar de ter um caráter interno\, esta ação representa mais um passo no esforço contínuo de salvaguarda do património alimentar da ilha do Corvo.
URL:https://ecomuseu-corvo.cultura.azores.gov.pt/evento/https-ecomuseu-corvo-cultura-azores-gov-pt-evento-4637/
CATEGORIES:Gastronomia,Património Imaterial
ATTACH;FMTTYPE=image/png:https://ecomuseu-corvo.cultura.azores.gov.pt/wp-content/uploads/2025/07/Cozinha-de-antigamente-oficina-de-sabores-e-saberes-2-e1751888143383.png
END:VEVENT
BEGIN:VEVENT
DTSTART;TZID=Atlantic/Azores:20250714T080000
DTEND;TZID=Atlantic/Azores:20250714T170000
DTSTAMP:20260425T152315
CREATED:20250714T105425Z
LAST-MODIFIED:20250916T172658Z
UID:4646-1752480000-1752512400@ecomuseu-corvo.cultura.azores.gov.pt
SUMMARY:Exposição Temporária “Guarda Fiscal – GNR” no Ecomuseu do Corvo
DESCRIPTION:A Secretaria Regional da Educação\, Cultura e Desporto\, através da Direção Regional da Cultura (DRC)\, em colaboração com o Ecomuseu do Corvo e com o Comando Territorial dos Açores da Guarda Nacional Republicana\, promove a exposição temporária “Guarda Fiscal – GNR”. \nA exposição estará patente ao público entre os dias  15 a 25 de julho\,  na Casa do Tempo – Ecomuseu do Corvo – no seguinte horário: de terça-feira a sábado\, entre as 10h00 e as 12h30 e as 13h30 e as 17h30. \nEsta mostra assinala a quinta edição de um ciclo expositivo dedicado à divulgação da história e da presença da Guarda Nacional Republicana nos Açores. Antes de chegar ao Corvo\, a exposição esteve patente no Museu das Flores. \nA exposição propõe uma viagem pela história da atuação da GNR na Região Autónoma dos Açores\, desde o final do século XIX até à atualidade. Através de uma seleção de objetos emblemáticos do passado e do presente da instituição\, o visitante pode acompanhar os principais marcos históricos e compreender as mudanças estruturais e operacionais que moldaram a sua evolução. \nMais do que um olhar sobre o passado\, esta iniciativa destaca o papel fundamental desempenhado pela Guarda Fiscal  e\, mais tarde\, pela GNR  na proteção da segurança\, da ordem pública e do património regional. Ao valorizar a memória institucional partilhada\, a exposição pretende reforçar os laços entre a GNR e as comunidades locais\, promovendo o conhecimento da sua história no contexto açoriano. \nA Direção Regional da Cultura informa que este e outros eventos podem ser consultados na Agenda Cultural do Portal Cultura Açores: www.culturaacores.azores.gov.pt
URL:https://ecomuseu-corvo.cultura.azores.gov.pt/evento/https-ecomuseu-corvo-cultura-azores-gov-pt-evento/
ATTACH;FMTTYPE=image/png:https://ecomuseu-corvo.cultura.azores.gov.pt/wp-content/uploads/2025/07/cartaz-e1752490875397.png
END:VEVENT
BEGIN:VEVENT
DTSTART;TZID=Atlantic/Azores:20250717T123000
DTEND;TZID=Atlantic/Azores:20250721T200000
DTSTAMP:20260425T152315
CREATED:20250718T162100Z
LAST-MODIFIED:20250721T174911Z
UID:4657-1752755400-1753128000@ecomuseu-corvo.cultura.azores.gov.pt
SUMMARY:Desafio "Falar Corvino"
DESCRIPTION:No dia 17 de julho\, foi lançado o novo desafio “Falar Corvino” da semana.\nAs sugestões quanto ao significado da palavra ou expressão são dadas através da publicação que está patente no facebook do Ecomuseu do Corvo. \nNão hesitem em contactar-nos com as vossas sugestões.\nObrigada a todos pela participação e pelos contributos que nos têm enviado.\nPara acompanharem o resultado das vossas sugestões deixamos o link do glossário “Falar Corvino”:
URL:https://ecomuseu-corvo.cultura.azores.gov.pt/evento/desafio-falar-corvino-4/
CATEGORIES:Falar Corvino,Património Imaterial
ATTACH;FMTTYPE=image/png:https://ecomuseu-corvo.cultura.azores.gov.pt/wp-content/uploads/2025/07/28-e1752755375682.png
END:VEVENT
BEGIN:VEVENT
DTSTART;TZID=Atlantic/Azores:20250722T080000
DTEND;TZID=Atlantic/Azores:20250722T170000
DTSTAMP:20260425T152315
CREATED:20250721T162114Z
LAST-MODIFIED:20250909T183442Z
UID:4661-1753171200-1753203600@ecomuseu-corvo.cultura.azores.gov.pt
SUMMARY:Cozinha de Antigamente – Oficina de Sabores e Saberes
DESCRIPTION:Cozinha de Antigamente – Oficina de Sabores e Saberes valoriza tradições gastronómicas do Corvo \nO Ecomuseu do Corvo promove no dia 22 de julho\, às 10h30\, no Pavilhão Multiusos\, mais uma edição da Oficina de Sabores e Saberes\, integrada no projeto Cozinha de Antigamente. Nesta sessão\, serão confecionadas duas receitas tradicionais corvinas: o pão mexido e o molho de peixe. \nA atividade contará com a participação de um membro da comunidade que\, com generosidade\, partilhará os seus saberes\, técnicas e memórias associadas à preparação destes pratos\, profundamente ligados à vivência alimentar da ilha. \nDesde 2022\, o projeto Cozinha de Antigamente tem-se dedicado à recolha participativa da gastronomia tradicional corvina\, envolvendo a população no registo de receitas\, práticas e histórias ligadas à cozinha dos tempos antigos. Este trabalho tem permitido reconhecer e valorizar um património vivo que importa preservar. \nA Oficina de Sabores e Saberes constitui a vertente prática desta iniciativa\, permitindo experimentar\, testar e transmitir conhecimentos sobre técnicas e produtos tradicionais. Apesar de ter um caráter interno\, esta ação representa mais um passo no esforço contínuo de salvaguarda do património alimentar da ilha do Corvo.
URL:https://ecomuseu-corvo.cultura.azores.gov.pt/evento/cozinha-de-antigamente-oficina-de-sabores-e-saberes-2/
CATEGORIES:Gastronomia,Património Imaterial
ATTACH;FMTTYPE=image/png:https://ecomuseu-corvo.cultura.azores.gov.pt/wp-content/uploads/2025/07/Cozinha-de-antigamente-oficina-de-sabores-e-saberes-1-e1753114839243.png
END:VEVENT
BEGIN:VEVENT
DTSTART;TZID=Atlantic/Azores:20250728T203000
DTEND;TZID=Atlantic/Azores:20250804T200000
DTSTAMP:20260425T152315
CREATED:20250730T100618Z
LAST-MODIFIED:20250730T100618Z
UID:4674-1753734600-1754337600@ecomuseu-corvo.cultura.azores.gov.pt
SUMMARY:Desafio "Falar Corvino"
DESCRIPTION:No dia 28 de julho\, foi lançado o novo desafio “Falar Corvino” da semana.\nAs sugestões quanto ao significado da palavra ou expressão são dadas através da publicação que está patente no facebook do Ecomuseu do Corvo. \nNão hesitem em contactar-nos com as vossas sugestões.\nObrigada a todos pela participação e pelos contributos que nos têm enviado.\nPara acompanharem o resultado das vossas sugestões deixamos o link do glossário “Falar Corvino”:
URL:https://ecomuseu-corvo.cultura.azores.gov.pt/evento/desafio-falar-corvino-5/
CATEGORIES:Falar Corvino,Património Imaterial
ATTACH;FMTTYPE=image/png:https://ecomuseu-corvo.cultura.azores.gov.pt/wp-content/uploads/2025/07/30-e1753869966264.png
END:VEVENT
END:VCALENDAR