BEGIN:VCALENDAR
VERSION:2.0
PRODID:-//Ecomuseu do Corvo - ECPv6.15.17//NONSGML v1.0//EN
CALSCALE:GREGORIAN
METHOD:PUBLISH
X-WR-CALNAME:Ecomuseu do Corvo
X-ORIGINAL-URL:https://ecomuseu-corvo.cultura.azores.gov.pt
X-WR-CALDESC:Eventos para Ecomuseu do Corvo
REFRESH-INTERVAL;VALUE=DURATION:PT1H
X-Robots-Tag:noindex
X-PUBLISHED-TTL:PT1H
BEGIN:VTIMEZONE
TZID:Atlantic/Azores
BEGIN:DAYLIGHT
TZOFFSETFROM:-0100
TZOFFSETTO:+0000
TZNAME:+00
DTSTART:20220327T010000
END:DAYLIGHT
BEGIN:STANDARD
TZOFFSETFROM:+0000
TZOFFSETTO:-0100
TZNAME:-01
DTSTART:20221030T010000
END:STANDARD
BEGIN:DAYLIGHT
TZOFFSETFROM:-0100
TZOFFSETTO:+0000
TZNAME:+00
DTSTART:20230326T010000
END:DAYLIGHT
BEGIN:STANDARD
TZOFFSETFROM:+0000
TZOFFSETTO:-0100
TZNAME:-01
DTSTART:20231029T010000
END:STANDARD
BEGIN:DAYLIGHT
TZOFFSETFROM:-0100
TZOFFSETTO:+0000
TZNAME:+00
DTSTART:20240331T010000
END:DAYLIGHT
BEGIN:STANDARD
TZOFFSETFROM:+0000
TZOFFSETTO:-0100
TZNAME:-01
DTSTART:20241027T010000
END:STANDARD
END:VTIMEZONE
BEGIN:VEVENT
DTSTART;VALUE=DATE:20230626
DTEND;VALUE=DATE:20230703
DTSTAMP:20260425T164622
CREATED:20230626T122240Z
LAST-MODIFIED:20230713T122402Z
UID:2660-1687737600-1688342399@ecomuseu-corvo.cultura.azores.gov.pt
SUMMARY:Falar Corvino - 26 de junho
DESCRIPTION:Um início da semana sem o desafio “Falar Corvino” não é o mesmo.\nQuem tiver sugestões por favor entre em contacto connosco.\nObrigada a todos pela participação e pelos contributos que nos têm enviado.\nPara acompanharem o resultado dos vossos contributos deixamos o link do glossário “Falar Corvino”: https://padlet.com/ecomuseu/5zdomsu4rcejijqy\nVotos de uma boa semana para todos!
URL:https://ecomuseu-corvo.cultura.azores.gov.pt/evento/falar-corvino-26-de-junho/
LOCATION:Ecomuseu do Corvo
CATEGORIES:Falar Corvino
ATTACH;FMTTYPE=image/png:https://ecomuseu-corvo.cultura.azores.gov.pt/wp-content/uploads/2023/02/Imagem2.png
END:VEVENT
BEGIN:VEVENT
DTSTART;VALUE=DATE:20230701
DTEND;VALUE=DATE:20230801
DTSTAMP:20260425T164622
CREATED:20230706T162022Z
LAST-MODIFIED:20230710T170441Z
UID:2644-1688169600-1690847999@ecomuseu-corvo.cultura.azores.gov.pt
SUMMARY:Peça do Mês - julho
DESCRIPTION:A peça do mês de julho é dedicada à área da carpintaria. Trata-se da faca de tanoeiro.\nQuem nos sabe dizer para que servia?\nPrecisamos de ajuda na identificação\, bem como de informação sobre a sua utilização.\nA sua participação é muito importante para o trabalho que o Ecomuseu do Corvo está a realizar\, no âmbito do inventário participativo do património móvel do Corvo.\nO Ecomuseu somos todos nós!\nPara acompanharem o resultado dos vossos contributos deixamos o link das informações recolhidas da “Peça do Mês”:\nhttps://padlet.com/tatianamfragata/sd9vd5npqbzulcoj
URL:https://ecomuseu-corvo.cultura.azores.gov.pt/evento/peca-do-mes-julho-2/
LOCATION:Ecomuseu do Corvo
CATEGORIES:Peça do Mês
ATTACH;FMTTYPE=image/png:https://ecomuseu-corvo.cultura.azores.gov.pt/wp-content/uploads/2023/07/Peca-do-Mes-1.png
END:VEVENT
BEGIN:VEVENT
DTSTART;VALUE=DATE:20230704
DTEND;VALUE=DATE:20230710
DTSTAMP:20260425T164622
CREATED:20230704T122422Z
LAST-MODIFIED:20230713T122532Z
UID:2663-1688428800-1688947199@ecomuseu-corvo.cultura.azores.gov.pt
SUMMARY:Falar Corvino - 4 de julho
DESCRIPTION:Um início da semana sem o desafio “Falar Corvino” não é o mesmo.\nQuem tiver sugestões por favor entre em contacto connosco.\nObrigada a todos pela participação e pelos contributos que nos têm enviado.\nPara acompanharem o resultado dos vossos contributos deixamos o link do glossário “Falar Corvino”: https://padlet.com/ecomuseu/5zdomsu4rcejijqy\nVotos de uma boa semana para todos!
URL:https://ecomuseu-corvo.cultura.azores.gov.pt/evento/falar-corvino-4-de-julho-2/
LOCATION:Ecomuseu do Corvo
CATEGORIES:Falar Corvino
ATTACH;FMTTYPE=image/png:https://ecomuseu-corvo.cultura.azores.gov.pt/wp-content/uploads/2023/02/Imagem2.png
END:VEVENT
BEGIN:VEVENT
DTSTART;TZID=Atlantic/Azores:20230704T143000
DTEND;TZID=Atlantic/Azores:20230704T160000
DTSTAMP:20260425T164622
CREATED:20230629T165853Z
LAST-MODIFIED:20230720T170013Z
UID:2678-1688481000-1688486400@ecomuseu-corvo.cultura.azores.gov.pt
SUMMARY:Férias no Ecomuseu - Património
DESCRIPTION:No dia 4 de julho\, às 14:30\, iremos dar início às nossas Férias no Ecomuseu com um grande desafio: “À Descoberta dos Edifícios”. Estão preparados? O ponto de encontro é junto à Casa do Tempo.\nEsta atividade percorre o circuito interpretativo da vila do Corvo\, pelo que aconselhamos que tragam boné\, protetor solar e água.\nSe ainda não inscreveu o seu filho(a) ainda está tempo de o fazer através do preenchimento do formulário online:\nhttps://forms.office.com/r/TGDxeWRWJs\nEcomuseu.corvo.info@azores.gov 292596063
URL:https://ecomuseu-corvo.cultura.azores.gov.pt/evento/ferias-no-ecomuseu-patrimonio/
LOCATION:Ecomuseu do Corvo
CATEGORIES:Férias no Ecomuseu
ATTACH;FMTTYPE=image/png:https://ecomuseu-corvo.cultura.azores.gov.pt/wp-content/uploads/2023/07/17.png
END:VEVENT
BEGIN:VEVENT
DTSTART;TZID=Atlantic/Azores:20230704T143000
DTEND;TZID=Atlantic/Azores:20230728T163000
DTSTAMP:20260425T164622
CREATED:20230628T161543Z
LAST-MODIFIED:20231010T150903Z
UID:2639-1688481000-1690561800@ecomuseu-corvo.cultura.azores.gov.pt
SUMMARY:Férias no Ecomuseu
DESCRIPTION:O Ecomuseu do Corvo\, em articulação com serviço de desporto\, promove atividades de ocupação dos tempos livres\, no período de Verão\, para os mais jovens. Temos um programa diversificado\, para tal bastará fazer a inscrição do seu educando junto dos nossos serviços: Ecomuseu.corvo.info@azores.gov 292596063Poderá\, também\, preencher o formulário online: https://forms.office.com/r/TGDxeWRWJs \nCalendário das atividades: \n3.ª feira | Das 14h30 até às 16h00 – Atividades de Educação Patrimonial (tecelagem\, jogos didáticos\, trabalhos manuais\, puzzles\, entre muitos outros) – Local: Pavilhão Multiusos \n4.ª feira | das 09h30 às 11h30 – “Movimento na praia”- Aconselha-se que levem chapéu\, protetor solar\, toalha de praia e água. Local de encontro: Casa do Tempo Quando o tempo não o permita realizaremos outras ações educativas. \n5.ª feira | Das 14h30 até às 16h00 – “Cinema à quinta” Local: Pavilhão Multiusos. Com oferta de pipocas. \nAs atividades decorrerão ao longo do mês de julho\, com início no dia 04. Atividades gratuitas destinadas a crianças a partir dos 6 anos de idade. \nFérias é no Ecomuseu!
URL:https://ecomuseu-corvo.cultura.azores.gov.pt/evento/2639/
LOCATION:Ecomuseu do Corvo
CATEGORIES:Férias no Ecomuseu
ATTACH;FMTTYPE=image/png:https://ecomuseu-corvo.cultura.azores.gov.pt/wp-content/uploads/2023/07/13.png
END:VEVENT
BEGIN:VEVENT
DTSTART;VALUE=DATE:20230710
DTEND;VALUE=DATE:20230717
DTSTAMP:20260425T164622
CREATED:20230710T122535Z
LAST-MODIFIED:20230713T122651Z
UID:2666-1688947200-1689551999@ecomuseu-corvo.cultura.azores.gov.pt
SUMMARY:Falar Corvino - 10 de julho
DESCRIPTION:Esta semana também há desafio “Falar Corvino”.\nQuem tiver sugestões por favor entre em contacto connosco.\nObrigada a todos pela participação e pelos contributos que nos têm enviado.\nPara acompanharem o resultado dos vossos contributos deixamos o link do glossário “Falar Corvino”: https://padlet.com/ecomuseu/5zdomsu4rcejijqy\nVotos de uma boa semana para todos!
URL:https://ecomuseu-corvo.cultura.azores.gov.pt/evento/falar-corvino-10-de-julho/
LOCATION:Ecomuseu do Corvo
CATEGORIES:Falar Corvino
ATTACH;FMTTYPE=image/png:https://ecomuseu-corvo.cultura.azores.gov.pt/wp-content/uploads/2023/02/Imagem2.png
END:VEVENT
BEGIN:VEVENT
DTSTART;TZID=Atlantic/Azores:20230711T143000
DTEND;TZID=Atlantic/Azores:20230711T160000
DTSTAMP:20260425T164622
CREATED:20230720T170239Z
LAST-MODIFIED:20231010T150526Z
UID:2681-1689085800-1689091200@ecomuseu-corvo.cultura.azores.gov.pt
SUMMARY:Férias no Ecomuseu - Património
DESCRIPTION:Dia 25 de julho\, a partir das 14:30\, temos para os nossos meninos a atividade “Conservação Preventiva\, para que serve?”. Venham explorar connosco! \n 
URL:https://ecomuseu-corvo.cultura.azores.gov.pt/evento/ferias-no-ecomuseu-patrimonio-2/
LOCATION:Espaço Cultural Multiusos
CATEGORIES:Férias no Ecomuseu
ATTACH;FMTTYPE=image/png:https://ecomuseu-corvo.cultura.azores.gov.pt/wp-content/uploads/2023/07/19-1.png
END:VEVENT
BEGIN:VEVENT
DTSTART;TZID=Atlantic/Azores:20230715T140000
DTEND;TZID=Atlantic/Azores:20230715T170000
DTSTAMP:20260425T164622
CREATED:20230713T120951Z
LAST-MODIFIED:20231010T150547Z
UID:2651-1689429600-1689440400@ecomuseu-corvo.cultura.azores.gov.pt
SUMMARY:Dia Aberto dos Moinhos
DESCRIPTION:O Ecomuseu do Corvo irá promover\, pelo terceiro ano consecutivo\, o Dia Aberto dos Moinhos\, sob o mote “Moinhos que guardam Memórias”. Esta atividade irá decorrer no próximo dia 15 de julho\, a partir das 14h30\, junto aos moinhos de vento.\nOs moinhos de vento\, tal como as eiras e a atafona do “Lourenço”\, são testemunhos construídos de um passado não muito longínquo\, em que os cereais eram a base da alimentação e o trigo era a moeda que saldava os pesados impostos a que a comunidade corvina esteve sujeita.\nNeste dia pretende-se dar vida a este património\, chamar a atenção para o inestimável valor patrimonial dos moinhos tradicionais\, valorizar as memórias e as tradições a eles associadas\, garantindo a sua salvaguarda e\, em simultâneo\, criar processos educativos e de capacitação da comunidade.\nPretende-se\, assim\, promover um dia aberto dos moinhos de vento\, em que se prevê a abertura ao público dos três moinhos de vento que vão estar a funcionar em fases distintas do seu processo de funcionamento. Com esta atividade visa-se dar a conhecer à comunidade\, principalmente aos mais jovens\, todo o processo de moagem\, desde a montagem das velas\, ao rodar da carapuça e à sua fixação\, a moagem propriamente dita\, a travagem e controlo do grão da moagem\, culminando no ensacar da farinha\, pesagem e pagamento ao moleiro.\nPara tal contaremos com a colaboração dos seus proprietários e dos anciãos\, testemunhos vivos desta atividade\, que assumirão o papel de guias intérpretes.\nEm simultâneo\, decorrerá uma exposição de réplicas em miniatura de moinhos\, atafonas e eiras; uma mostra artesanal\, desenvolvida em parceria com os artesãos locais e o CADA (Centro de Artesanato e Design dos Açores); jogos do património e desafios do “Falar Corvino”\, bem como outras recriações.\nEsta atividade conta também com o apoio dos serviços de ilha da Secretaria Regional do Turismo\, Mobilidade e Infraestruturas e da Secretaria Regional do Ambiente e Alterações Climáticas.
URL:https://ecomuseu-corvo.cultura.azores.gov.pt/evento/dia-aberto-dos-moinhos/
LOCATION:Canada dos Moinhos
CATEGORIES:Exposições
ATTACH;FMTTYPE=image/jpeg:https://ecomuseu-corvo.cultura.azores.gov.pt/wp-content/uploads/2023/07/Div_DiaAbertodosMoinhos_DestaqueCA.jpg
END:VEVENT
BEGIN:VEVENT
DTSTART;VALUE=DATE:20230717
DTEND;VALUE=DATE:20230724
DTSTAMP:20260425T164622
CREATED:20230717T140353Z
LAST-MODIFIED:20230720T170515Z
UID:2685-1689552000-1690156799@ecomuseu-corvo.cultura.azores.gov.pt
SUMMARY:Falar Corvino - 17 de julho
DESCRIPTION:Participem!\nQuem tiver sugestões por favor entre em contacto connosco.\nObrigada a todos pela participação e pelos contributos que nos têm enviado.\nPara acompanharem o resultado dos vossos contributos deixamos o link do glossário “Falar Corvino”: https://padlet.com/ecomuseu/5zdomsu4rcejijqy\nVotos de uma boa semana para todos!
URL:https://ecomuseu-corvo.cultura.azores.gov.pt/evento/falar-corvino-17-de-julho/
LOCATION:Ecomuseu do Corvo
CATEGORIES:Falar Corvino
ATTACH;FMTTYPE=image/png:https://ecomuseu-corvo.cultura.azores.gov.pt/wp-content/uploads/2023/02/Imagem2.png
END:VEVENT
BEGIN:VEVENT
DTSTART;VALUE=DATE:20230724
DTEND;VALUE=DATE:20230731
DTSTAMP:20260425T164622
CREATED:20230724T135142Z
LAST-MODIFIED:20231004T135548Z
UID:2952-1690156800-1690761599@ecomuseu-corvo.cultura.azores.gov.pt
SUMMARY:Falar Corvino - 24 de julho
DESCRIPTION:Um início da semana sem o desafio “Falar Corvino” não é o mesmo.\nQuem tiver sugestões por favor entre em contacto connosco.\nObrigada a todos pela participação e pelos contributos que nos têm enviado.\nPara acompanharem o resultado dos vossos contributos deixamos o link do glossário “Falar Corvino”: https://padlet.com/ecomuseu/5zdomsu4rcejijqy\nVotos de uma boa semana para todos!
URL:https://ecomuseu-corvo.cultura.azores.gov.pt/evento/falar-corvino-24-de-julho/
LOCATION:Ecomuseu do Corvo
CATEGORIES:Falar Corvino
ATTACH;FMTTYPE=image/png:https://ecomuseu-corvo.cultura.azores.gov.pt/wp-content/uploads/2023/02/Imagem2.png
END:VEVENT
BEGIN:VEVENT
DTSTART;TZID=Atlantic/Azores:20230726T093000
DTEND;TZID=Atlantic/Azores:20230726T113000
DTSTAMP:20260425T164622
CREATED:20230720T165637Z
LAST-MODIFIED:20231010T150422Z
UID:2671-1690363800-1690371000@ecomuseu-corvo.cultura.azores.gov.pt
SUMMARY:Férias no Ecomuseu - Praia
DESCRIPTION:Nesta quarta-feira\, dia 05/07\, teremos “Movimento na Praia”. Esta atividade pretende estimular nas crianças e jovens hábitos de vida saudáveis\, e conta com o apoio do serviço de desporto da ilha do Corvo.\nLocal de Encontro: Casa do Tempo às 09h30\nAconselha-se que levem chapéu\, protetor solar\, toalha de praia e água.\nInscreva o seu filho(a) nas atividades das “férias no Ecomuseu”:\nhttps://forms.office.com/r/TGDxeWRWJs\nEcomuseu.corvo.info@azores.gov 292596063
URL:https://ecomuseu-corvo.cultura.azores.gov.pt/evento/ferias-no-ecomuseu-praia/
LOCATION:Ecomuseu do Corvo
CATEGORIES:Férias no Ecomuseu
ATTACH;FMTTYPE=image/png:https://ecomuseu-corvo.cultura.azores.gov.pt/wp-content/uploads/2023/07/16.png
END:VEVENT
BEGIN:VEVENT
DTSTART;TZID=Atlantic/Azores:20230727T143000
DTEND;TZID=Atlantic/Azores:20230727T163000
DTSTAMP:20260425T164622
CREATED:20230720T165830Z
LAST-MODIFIED:20231010T150357Z
UID:2674-1690468200-1690475400@ecomuseu-corvo.cultura.azores.gov.pt
SUMMARY:Férias no Ecomuseu - Cinema
DESCRIPTION:No dia 27/07 temos “Cinema à Quinta”\, com oferta das pipocas.\nÀs 14:30 no Pavilhão Multiusos.\nFérias é no Ecomuseu!
URL:https://ecomuseu-corvo.cultura.azores.gov.pt/evento/ferias-no-ecomuseu-cinema/
LOCATION:Espaço Cultural Multiusos
CATEGORIES:Férias no Ecomuseu
ATTACH;FMTTYPE=image/png:https://ecomuseu-corvo.cultura.azores.gov.pt/wp-content/uploads/2023/07/14-1.png
END:VEVENT
BEGIN:VEVENT
DTSTART;VALUE=DATE:20230731
DTEND;VALUE=DATE:20230807
DTSTAMP:20260425T164622
CREATED:20230731T135554Z
LAST-MODIFIED:20231004T135849Z
UID:2957-1690761600-1691366399@ecomuseu-corvo.cultura.azores.gov.pt
SUMMARY:Falar Corvino - 31 de julho
DESCRIPTION:O que acham deste “Falar Corvino”?\nQuem tiver sugestões por favor entre em contacto connosco.\nObrigada a todos pela participação e pelos contributos que nos têm enviado.\nPara acompanharem o resultado dos vossos contributos deixamos o link do glossário “Falar Corvino”: https://padlet.com/ecomuseu/5zdomsu4rcejijqy\nVotos de uma boa semana para todos!
URL:https://ecomuseu-corvo.cultura.azores.gov.pt/evento/falar-corvino-31-de-julho/
LOCATION:Ecomuseu do Corvo
CATEGORIES:Falar Corvino
ATTACH;FMTTYPE=image/png:https://ecomuseu-corvo.cultura.azores.gov.pt/wp-content/uploads/2023/02/Imagem2.png
END:VEVENT
END:VCALENDAR