BEGIN:VCALENDAR
VERSION:2.0
PRODID:-//Ecomuseu do Corvo - ECPv6.15.17//NONSGML v1.0//EN
CALSCALE:GREGORIAN
METHOD:PUBLISH
X-WR-CALNAME:Ecomuseu do Corvo
X-ORIGINAL-URL:https://ecomuseu-corvo.cultura.azores.gov.pt
X-WR-CALDESC:Eventos para Ecomuseu do Corvo
REFRESH-INTERVAL;VALUE=DURATION:PT1H
X-Robots-Tag:noindex
X-PUBLISHED-TTL:PT1H
BEGIN:VTIMEZONE
TZID:Atlantic/Azores
BEGIN:DAYLIGHT
TZOFFSETFROM:-0100
TZOFFSETTO:+0000
TZNAME:+00
DTSTART:20210328T010000
END:DAYLIGHT
BEGIN:STANDARD
TZOFFSETFROM:+0000
TZOFFSETTO:-0100
TZNAME:-01
DTSTART:20211031T010000
END:STANDARD
BEGIN:DAYLIGHT
TZOFFSETFROM:-0100
TZOFFSETTO:+0000
TZNAME:+00
DTSTART:20220327T010000
END:DAYLIGHT
BEGIN:STANDARD
TZOFFSETFROM:+0000
TZOFFSETTO:-0100
TZNAME:-01
DTSTART:20221030T010000
END:STANDARD
BEGIN:DAYLIGHT
TZOFFSETFROM:-0100
TZOFFSETTO:+0000
TZNAME:+00
DTSTART:20230326T010000
END:DAYLIGHT
BEGIN:STANDARD
TZOFFSETFROM:+0000
TZOFFSETTO:-0100
TZNAME:-01
DTSTART:20231029T010000
END:STANDARD
BEGIN:DAYLIGHT
TZOFFSETFROM:-0100
TZOFFSETTO:+0000
TZNAME:+00
DTSTART:20240331T010000
END:DAYLIGHT
BEGIN:STANDARD
TZOFFSETFROM:+0000
TZOFFSETTO:-0100
TZNAME:-01
DTSTART:20241027T010000
END:STANDARD
END:VTIMEZONE
BEGIN:VEVENT
DTSTART;VALUE=DATE:20221115
DTEND;VALUE=DATE:20230401
DTSTAMP:20260425T214354
CREATED:20221115T154239Z
LAST-MODIFIED:20221118T154949Z
UID:2276-1668470400-1680307199@ecomuseu-corvo.cultura.azores.gov.pt
SUMMARY:Exposição de Pintura de Henning von Gierke: “A Mudança Constante”
DESCRIPTION:O Ecomuseu do Corvo\, numa articulação inédita com o Museu da Horta\, o Museu das Flores e o Museu de Arte Sacra da Horta\, está a promover a Exposição de pintura intitulada “A Mudança Constante” do artista plástico Henning von Gierke.\nHenning von Gierke é um prestigiado pintor alemão\, cenógrafo\, designer de produção e produtor de arte.\nAs suas telas demonstram uma sensibilidade e um realismo que o tornam inconfundível.\nA sua técnica e as suas temáticas\, inspiradas na natureza\, na fantasia\, na mitologia e na religiosidade\, fazem de Henning von Gierke um dos mais reconhecidos representantes da pintura realista do séc. XXI.\nA temática da exposição patente no Corvo incide na Paisagem e na Natureza Morta que\, segundo o autor\, é uma fonte inesgotável de inspiração. São “momentos de reconhecimento\, reflexão\, memória pessoal e associações\, narrativas pintadas da vida quotidiana. Natureza morta é o tempo capturado\, espaço para a expressão de palavras não ditas numa língua que não necessita de tradução”.\nEsta exposição poderá ser visitada no Multiusos do Corvo\, até março de 2023\, de segunda a sexta-feira\, entre as 10h30 e as 12h30 e entre as 14h30 e as 17h00.
URL:https://ecomuseu-corvo.cultura.azores.gov.pt/evento/exposicao-de-pintura-de-henning-von-gierke-a-mudanca-constante/
LOCATION:Espaço Cultural Multiusos
CATEGORIES:Exposições
ATTACH;FMTTYPE=image/jpeg:https://ecomuseu-corvo.cultura.azores.gov.pt/wp-content/uploads/2022/11/Cartaz-Henning-Ecomuseu-do-Corvo-scaled-e1678963731268.jpg
END:VEVENT
BEGIN:VEVENT
DTSTART;VALUE=DATE:20230227
DTEND;VALUE=DATE:20230307
DTSTAMP:20260425T214354
CREATED:20230227T150402Z
LAST-MODIFIED:20230307T150533Z
UID:2390-1677456000-1678147199@ecomuseu-corvo.cultura.azores.gov.pt
SUMMARY:Falar Corvino - 27 de fevereiro
DESCRIPTION:O que acham deste “Falar Corvino”?\n\n\nQuem tiver sugestões por favor entre em contacto connosco.\nObrigada a todos pela participação e pelos contributos que nos têm enviado.\nPara acompanharem o resultado dos vossos contributos deixamos o link do glossário “Falar Corvino”: https://padlet.com/ecomuseu/5zdomsu4rcejijqy\nVotos de uma boa semana para todos!
URL:https://ecomuseu-corvo.cultura.azores.gov.pt/evento/falar-corvino-27-de-fevereiro/
LOCATION:Ecomuseu do Corvo
CATEGORIES:Falar Corvino
ATTACH;FMTTYPE=image/png:https://ecomuseu-corvo.cultura.azores.gov.pt/wp-content/uploads/2023/02/Imagem2.png
END:VEVENT
BEGIN:VEVENT
DTSTART;VALUE=DATE:20230301
DTEND;VALUE=DATE:20230401
DTSTAMP:20260425T214354
CREATED:20230307T132522Z
LAST-MODIFIED:20230320T125706Z
UID:2376-1677628800-1680307199@ecomuseu-corvo.cultura.azores.gov.pt
SUMMARY:Peça do Mês - março
DESCRIPTION:A peça do mês de março é dedicada à área da pecuária. Trata-se da lata de leite.\n\n\n \n\n\nEste bem móvel passou recentemente por um procedimento de intervenção de conservação preventiva com limpeza mecânica da peça e aplicação de cera microcristalina.\n\n\nQuem nos sabe dizer para que servia?\n\n\nPrecisamos de ajuda na identificação\, bem como de informação sobre a sua utilização.\n\n\nA sua participação é muito importante para o trabalho que o Ecomuseu do Corvo está a realizar\, no âmbito do inventário participativo do património móvel do Corvo.\n\n\nO Ecomuseu somos todos nós!\n\n\nPara acompanharem o resultado dos vossos contributos deixamos o link das informações recolhidas da “Peça do Mês”:\n\n\nhttps://padlet.com/tatianamfragata/sd9vd5npqbzulcoj
URL:https://ecomuseu-corvo.cultura.azores.gov.pt/evento/peca-do-mes-marco-2/
LOCATION:Ecomuseu do Corvo
CATEGORIES:Peça do Mês
ATTACH;FMTTYPE=image/png:https://ecomuseu-corvo.cultura.azores.gov.pt/wp-content/uploads/2023/03/Copia-de-Publicacao-para-Twitter-de-Oficina-de-Artesanato-e1678963504706.png
END:VEVENT
BEGIN:VEVENT
DTSTART;VALUE=DATE:20230306
DTEND;VALUE=DATE:20230314
DTSTAMP:20260425T214354
CREATED:20230306T150539Z
LAST-MODIFIED:20230307T150706Z
UID:2393-1678060800-1678751999@ecomuseu-corvo.cultura.azores.gov.pt
SUMMARY:Falar Corvino - 6 de março
DESCRIPTION:Participem!\n\n\nQuem tiver sugestões por favor entre em contacto connosco.\nObrigada a todos pela participação e pelos contributos que nos têm enviado.\nPara acompanharem o resultado dos vossos contributos deixamos o link do glossário “Falar Corvino”: https://padlet.com/ecomuseu/5zdomsu4rcejijqy\nVotos de uma boa semana para todos!
URL:https://ecomuseu-corvo.cultura.azores.gov.pt/evento/falar-corvino-6-de-marco/
LOCATION:Ecomuseu do Corvo
CATEGORIES:Falar Corvino
ATTACH;FMTTYPE=image/png:https://ecomuseu-corvo.cultura.azores.gov.pt/wp-content/uploads/2023/02/Imagem2.png
END:VEVENT
BEGIN:VEVENT
DTSTART;VALUE=DATE:20230313
DTEND;VALUE=DATE:20230321
DTSTAMP:20260425T214354
CREATED:20230313T150710Z
LAST-MODIFIED:20230330T155554Z
UID:2396-1678665600-1679356799@ecomuseu-corvo.cultura.azores.gov.pt
SUMMARY:Falar Corvino - 13 de março
DESCRIPTION:Quem sabe esta?\n\n\n \n\n\nQuem tiver sugestões por favor entre em contacto connosco.\n\n\nObrigada a todos pela participação e pelos contributos que nos têm enviado.\n\n\nPara acompanharem o resultado dos vossos contributos deixamos o link do glossário “Falar Corvino”: https://padlet.com/ecomuseu/5zdomsu4rcejijqy\n\n\nVotos de uma boa semana para todos!
URL:https://ecomuseu-corvo.cultura.azores.gov.pt/evento/falar-corvino-13-de-marco-2/
LOCATION:Ecomuseu do Corvo
CATEGORIES:Falar Corvino
ATTACH;FMTTYPE=image/png:https://ecomuseu-corvo.cultura.azores.gov.pt/wp-content/uploads/2023/02/Imagem2.png
END:VEVENT
BEGIN:VEVENT
DTSTART;TZID=Atlantic/Azores:20230317T093000
DTEND;TZID=Atlantic/Azores:20230317T110000
DTSTAMP:20260425T214354
CREATED:20230315T100614Z
LAST-MODIFIED:20231010T151436Z
UID:2400-1679045400-1679050800@ecomuseu-corvo.cultura.azores.gov.pt
SUMMARY:Artistas no Ecomuseu
DESCRIPTION:No próximo dia 17 de março (próxima sexta-feira)\, entre as 09h30 e as 11h00\, será dinamizada\, no Pavilhão Multiusos\, uma atividade educativa\, intitulada “Artistas no Ecomuseu”. Esta atividade será desenvolvida em articulação com o jardim-de-infância “Planeta Azul” e destina-se\, especificamente\, ao grupo de alunos do ensino pré-escolar.\nEsta é uma atividade que será realizada mensalmente nas seguintes datas: 04 de abril\, 2 de maio\, 6 de junho e 4 de julho.\nCom estas atividades pretende-se estimular a criatividade e despertar nas crianças o gosto pela arte e pelos ofícios tradicionais.
URL:https://ecomuseu-corvo.cultura.azores.gov.pt/evento/artistas-no-ecomuseu-2/
LOCATION:Espaço Cultural Multiusos
CATEGORIES:Serviço educativo
ATTACH;FMTTYPE=image/png:https://ecomuseu-corvo.cultura.azores.gov.pt/wp-content/uploads/2023/03/Divulgacao-fotos-e1678963456605.png
END:VEVENT
BEGIN:VEVENT
DTSTART;VALUE=DATE:20230320
DTEND;VALUE=DATE:20230327
DTSTAMP:20260425T214354
CREATED:20230320T170043Z
LAST-MODIFIED:20230330T160154Z
UID:2420-1679270400-1679875199@ecomuseu-corvo.cultura.azores.gov.pt
SUMMARY:Falar Corvino - 20 de março
DESCRIPTION:E o desafio prossegue…\nQuem tiver sugestões por favor entre em contacto connosco.\nObrigada a todos pela participação e pelos contributos que nos têm enviado.\nPara acompanharem o resultado dos vossos contributos deixamos o link do glossário “Falar Corvino”: https://padlet.com/ecomuseu/5zdomsu4rcejijqy\nUma boa semana para todos!
URL:https://ecomuseu-corvo.cultura.azores.gov.pt/evento/falar-corvino-20-de-marco/
LOCATION:Ecomuseu do Corvo
CATEGORIES:Falar Corvino
ATTACH;FMTTYPE=image/png:https://ecomuseu-corvo.cultura.azores.gov.pt/wp-content/uploads/2023/02/Imagem2.png
END:VEVENT
BEGIN:VEVENT
DTSTART;VALUE=DATE:20230327
DTEND;VALUE=DATE:20230403
DTSTAMP:20260425T214354
CREATED:20230327T160200Z
LAST-MODIFIED:20230330T160314Z
UID:2423-1679875200-1680479999@ecomuseu-corvo.cultura.azores.gov.pt
SUMMARY:Falar Corvino - 27 de março
DESCRIPTION:Um início da semana sem o desafio “Falar Corvino” não é o mesmo.\nQuem tiver sugestões por favor entre em contacto connosco.\nObrigada a todos pela participação e pelos contributos que nos têm enviado.\nPara acompanharem o resultado dos vossos contributos deixamos o link do glossário “Falar Corvino”: https://padlet.com/ecomuseu/5zdomsu4rcejijqy\nVotos de uma boa semana para todos!
URL:https://ecomuseu-corvo.cultura.azores.gov.pt/evento/falar-corvino-27-de-marco/
LOCATION:Ecomuseu do Corvo
CATEGORIES:Falar Corvino
ATTACH;FMTTYPE=image/png:https://ecomuseu-corvo.cultura.azores.gov.pt/wp-content/uploads/2023/02/Imagem2.png
END:VEVENT
BEGIN:VEVENT
DTSTART;TZID=Atlantic/Azores:20230329T203000
DTEND;TZID=Atlantic/Azores:20230329T223000
DTSTAMP:20260425T214354
CREATED:20230307T132110Z
LAST-MODIFIED:20230330T155507Z
UID:2369-1680121800-1680129000@ecomuseu-corvo.cultura.azores.gov.pt
SUMMARY:Extensão Cine'Eco- Corvo
DESCRIPTION:O Ecomuseu do Corvo\, em parceria com o Cineclube da Ilha Terceira\, irá dinamizar a extensão Cine’Eco Seia -Festival Internacional de Cinema Ambiental da Serra da Estrela. \nDurante cinco sessões serão exibidos os documentários premiados na 28.ª edição do Cine’Eco\, que decorreu em Seia em 2022. \nAs sessões decorrem todas as quartas-feiras\, pelas 20H30\, entre os dias 08 de março a 05 de abril\, na Casa do Tempo. \nA entrada é gratuita!
URL:https://ecomuseu-corvo.cultura.azores.gov.pt/evento/extensao-cineeco-corvo/
LOCATION:Casa do Tempo
CATEGORIES:Cinema
ATTACH;FMTTYPE=image/jpeg:https://ecomuseu-corvo.cultura.azores.gov.pt/wp-content/uploads/2023/03/331783791_1561335644372562_543511987657457343_n-e1678963518304.jpg
END:VEVENT
BEGIN:VEVENT
DTSTART;TZID=Atlantic/Azores:20230330T210000
DTEND;TZID=Atlantic/Azores:20230330T223000
DTSTAMP:20260425T214354
CREATED:20230315T100926Z
LAST-MODIFIED:20231010T151518Z
UID:2403-1680210000-1680215400@ecomuseu-corvo.cultura.azores.gov.pt
SUMMARY:Encontros à Quinta - Desafio Falar Corvino
DESCRIPTION:Informamos que damos início a uma nova atividade intitulada “Encontros à Quinta”.\nA partir do dia 30 de março\, e todas as últimas quintas-feiras de cada mês\, vamos encontrar-nos a partir das 21h00 na Casa do Tempo\, e online\, via zoom\, para aqueles que não podem estar presencialmente.\nO objetivo é conviver\, aproximar os corvinos que estão longe da sua terra e partilhar memórias de tempos antigos.\nPara cada quinta-feira teremos preparado um pequeno desafio: “Desafio Falar Corvino” que coloca à prova os conhecimentos sobre os falares do Corvo.\nEste desafio servirá de mote para conversarmos sobre muitas coisas\, mas sobretudo de memórias e tradições de antigamente.\nPara enviarmos o link da sessão do zoom precisamos que se inscrevam e\, por isso\, solicitamos que preencham alguns dados nesta ficha de inscrição.\nhttps://forms.office.com/e/CbuPbaw9vP\nPara a comunidade residente na ilha do Corvo basta aparecerem na Casa do Tempo às 21h00\, na última quinta-feira de cada mês.\nEsta é\, também\, uma forma de retribuirmos e agradecermos todos os contributos que têm sido dados\, ao longo do ano transato e deste ano\, para a atividade “Falar Corvino”- Recolha participativa do léxico e dos falares do Corvo.\nEsperamos por vós e agradecemos o vosso interesse e a vossa preciosa colaboração. O Ecomuseu somos todos nós!
URL:https://ecomuseu-corvo.cultura.azores.gov.pt/evento/encontros-a-quinta-desafio-falar-corvino/
LOCATION:Casa do Tempo
CATEGORIES:Falar Corvino
ATTACH;FMTTYPE=image/jpeg:https://ecomuseu-corvo.cultura.azores.gov.pt/wp-content/uploads/2023/03/335591958_763077821698138_2981577225322543834_n-e1678963479377.jpg
END:VEVENT
END:VCALENDAR