BEGIN:VCALENDAR
VERSION:2.0
PRODID:-//Ecomuseu do Corvo - ECPv6.15.17//NONSGML v1.0//EN
CALSCALE:GREGORIAN
METHOD:PUBLISH
X-WR-CALNAME:Ecomuseu do Corvo
X-ORIGINAL-URL:https://ecomuseu-corvo.cultura.azores.gov.pt
X-WR-CALDESC:Eventos para Ecomuseu do Corvo
REFRESH-INTERVAL;VALUE=DURATION:PT1H
X-Robots-Tag:noindex
X-PUBLISHED-TTL:PT1H
BEGIN:VTIMEZONE
TZID:Atlantic/Azores
BEGIN:DAYLIGHT
TZOFFSETFROM:-0100
TZOFFSETTO:+0000
TZNAME:+00
DTSTART:20210328T010000
END:DAYLIGHT
BEGIN:STANDARD
TZOFFSETFROM:+0000
TZOFFSETTO:-0100
TZNAME:-01
DTSTART:20211031T010000
END:STANDARD
BEGIN:DAYLIGHT
TZOFFSETFROM:-0100
TZOFFSETTO:+0000
TZNAME:+00
DTSTART:20220327T010000
END:DAYLIGHT
BEGIN:STANDARD
TZOFFSETFROM:+0000
TZOFFSETTO:-0100
TZNAME:-01
DTSTART:20221030T010000
END:STANDARD
BEGIN:DAYLIGHT
TZOFFSETFROM:-0100
TZOFFSETTO:+0000
TZNAME:+00
DTSTART:20230326T010000
END:DAYLIGHT
BEGIN:STANDARD
TZOFFSETFROM:+0000
TZOFFSETTO:-0100
TZNAME:-01
DTSTART:20231029T010000
END:STANDARD
BEGIN:DAYLIGHT
TZOFFSETFROM:-0100
TZOFFSETTO:+0000
TZNAME:+00
DTSTART:20240331T010000
END:DAYLIGHT
BEGIN:STANDARD
TZOFFSETFROM:+0000
TZOFFSETTO:-0100
TZNAME:-01
DTSTART:20241027T010000
END:STANDARD
END:VTIMEZONE
BEGIN:VEVENT
DTSTART;VALUE=DATE:20220103
DTEND;VALUE=DATE:20230101
DTSTAMP:20260425T184729
CREATED:20220103T111254Z
LAST-MODIFIED:20221031T111612Z
UID:834-1641168000-1672531199@ecomuseu-corvo.cultura.azores.gov.pt
SUMMARY:Inventário Participativo do Património Cultural do Corvo
DESCRIPTION:O Ecomuseu do Corvo iniciou o trabalho de resgate e inventário do Património Cultural Imaterial da ilha do Corvo. \nA Unesco define como Património Cultural Imaterial “as práticas\, representações\, expressões\, conhecimentos e técnicas – juntamente com os instrumentos\, objetos\, artefactos e lugares culturais que lhes são associados – que as comunidades\, os grupos e\, em alguns casos\, os indivíduos reconhecem como parte integrante de seu património cultural.” \nPretende-se com esta ação incorporar no acervo do Património móvel do Ecomuseu do Corvo os instrumentos\, objetos e artefactos ligados ao quotidiano ancestral da comunidade corvina e\, assim\, preservar a sua História e a sua Memória para as gerações vindouras. \nCom esta ação o Ecomuseu do Corvo iniciará um processo de resgate do rico Património móvel ainda existente na ilha. Esta ação é de extrema importância\, pois pretende-se que o Património móvel seja transmitido de geração em geração e constantemente recriado pelas comunidades e pelos grupos em função do seu ambiente\, da sua interação com a natureza e da sua História\, gerando um sentimento de identidade e de continuidade\, contribuindo\, assim\, para promover o respeito pela diversidade cultural e pela criatividade humana.
URL:https://ecomuseu-corvo.cultura.azores.gov.pt/evento/inventario-participativo-do-patrimonio-cultural-do-corvo/
LOCATION:Ecomuseu do Corvo
CATEGORIES:Património
ATTACH;FMTTYPE=image/png:https://ecomuseu-corvo.cultura.azores.gov.pt/wp-content/uploads/2022/03/Copia-de-inventario-participativo-do-patrimonio-movel.png
END:VEVENT
BEGIN:VEVENT
DTSTART;VALUE=DATE:20221010
DTEND;VALUE=DATE:20221217
DTSTAMP:20260425T184729
CREATED:20221003T160236Z
LAST-MODIFIED:20231010T155142Z
UID:2213-1665360000-1671235199@ecomuseu-corvo.cultura.azores.gov.pt
SUMMARY:Exposição “Cápsulas do Tempo\, o Património Cultural Subaquático dos Açores”
DESCRIPTION:A Secretaria Regional da Educação e Assuntos Culturais\, por via da Direção Regional dos Assuntos Culturais\, através do Ecomuseu do Corvo\, promove\, a exposição temporária “Cápsulas do Tempo\, o Património Cultural Subaquático dos Açores”. \nO projeto expositivo itinerário estará patente ao público a partir do dia 10 de outubro até ao dia 16 de dezembro de 2022 e surge no âmbito do Projeto Margullar 2\, com co-financiamento Interreg-MAC. \nPretende-se com esta exposição dar a conhecer as histórias dos naufrágios documentalmente registados nos mares açorianos e a importância geoestratégica do arquipélago na expansão europeia do século XV.
URL:https://ecomuseu-corvo.cultura.azores.gov.pt/evento/exposicao-capsulas-do-tempo-o-patrimonio-cultural-subaquatico-dos-acores/
LOCATION:Espaço Cultural Multiusos
CATEGORIES:Exposições
ATTACH;FMTTYPE=image/jpeg:https://ecomuseu-corvo.cultura.azores.gov.pt/wp-content/uploads/2022/10/311139137_509618954504637_3526616468521854691_n-e1678963805827.jpg
END:VEVENT
BEGIN:VEVENT
DTSTART;VALUE=DATE:20221025
DTEND;VALUE=DATE:20230101
DTSTAMP:20260425T184729
CREATED:20221025T101630Z
LAST-MODIFIED:20231010T155204Z
UID:2228-1666656000-1672531199@ecomuseu-corvo.cultura.azores.gov.pt
SUMMARY:Cozinha de Antigamente
DESCRIPTION:Iniciamos hoje uma nova atividade de recolha participativa intitulada: “Cozinha de antigamente – Levantamento de receitas típicas e tradições gastronómicas do Corvo”.\nSe conheces as receitas típicas da ilha do Corvo partilha-as\, pois iremos elaborar um livro com os contributos de todos.\nEnvia as tuas receitas típicas para: ecomuseu.corvo.info@ azores.gov.pt ou escreve-as no livro das receitas https://padlet.com/ecomuseu/rq9xslsb2jyfoimp\nJá temos alguns contributos. Depois da recolha o próximo passo será a sua confeção e partilha. Vamos a isso que o melhor está para vir.
URL:https://ecomuseu-corvo.cultura.azores.gov.pt/evento/cozinha-de-antigamente/
LOCATION:Ecomuseu do Corvo
CATEGORIES:Património
ATTACH;FMTTYPE=image/jpeg:https://ecomuseu-corvo.cultura.azores.gov.pt/wp-content/uploads/2022/10/312810155_494770599379312_1581622990641894503_n-e1678963773548.jpg
END:VEVENT
BEGIN:VEVENT
DTSTART;TZID=Atlantic/Azores:20221031T080000
DTEND;TZID=Atlantic/Azores:20221106T170000
DTSTAMP:20260425T184729
CREATED:20221031T113040Z
LAST-MODIFIED:20221031T113119Z
UID:2241-1667203200-1667754000@ecomuseu-corvo.cultura.azores.gov.pt
SUMMARY:Falar Corvino - 31 de outubro
DESCRIPTION:Apresentamos mais uma palavra do “Falar Corvino” \nQuem tiver sugestões por favor entre em contacto connosco.\nObrigada a todos pela participação e pelos contributos que nos têm enviado.\nPara acompanharem o resultado dos vossos contributos deixamos o link do glossário “Falar Corvino”: https://padlet.com/ecomuseu/5zdomsu4rcejijqy\nUma boa semana para todos!
URL:https://ecomuseu-corvo.cultura.azores.gov.pt/evento/falar-corvino-31-de-outubro/
LOCATION:Ecomuseu do Corvo
CATEGORIES:Falar Corvino
ATTACH;FMTTYPE=image/png:https://ecomuseu-corvo.cultura.azores.gov.pt/wp-content/uploads/2022/09/falar-corvino-1-1.png
END:VEVENT
BEGIN:VEVENT
DTSTART;TZID=Atlantic/Azores:20221101T143000
DTEND;TZID=Atlantic/Azores:20221101T163000
DTSTAMP:20260425T184729
CREATED:20221128T130421Z
LAST-MODIFIED:20221202T130704Z
UID:2291-1667313000-1667320200@ecomuseu-corvo.cultura.azores.gov.pt
SUMMARY:Dias com História - 1 de dezembro
DESCRIPTION:O Ecomuseu do Corvo\, em parceria com a Biblioteca Escolar da EBS Mouzinho da Silveira\, irá assinalar o 1.º de Dezembro de 1640 com várias atividades\, que irão decorrer no pavilhão multiusos\, no dia 01 de dezembro\, a partir das 14h30\, a saber:\nProjeção de um documentário sobre a Restauração da Independência e desafios sobre a História\, nomeadamente sobre a Restauração da Independência e do feriado que se quer assinalar.\nCom estas atividades pretendemos promover a relação Ecomuseu/Escola/Comunidade\, dinamizar atividades de leitura e proporcionar momentos de aprendizagem de História de uma forma lúdica.
URL:https://ecomuseu-corvo.cultura.azores.gov.pt/evento/dias-co-historia-1-de-dezembro/
LOCATION:Espaço Cultural Multiusos
CATEGORIES:Serviço educativo
ATTACH;FMTTYPE=image/jpeg:https://ecomuseu-corvo.cultura.azores.gov.pt/wp-content/uploads/2022/12/317619797_521930623329976_6011194816019660586_n-e1678963691942.jpg
END:VEVENT
BEGIN:VEVENT
DTSTART;VALUE=DATE:20221107
DTEND;VALUE=DATE:20221114
DTSTAMP:20260425T184729
CREATED:20221107T210022Z
LAST-MODIFIED:20221118T154225Z
UID:2244-1667779200-1668383999@ecomuseu-corvo.cultura.azores.gov.pt
SUMMARY:Falar Corvino - 7 de novembro
DESCRIPTION:E o desafio prossegue… \nQuem tiver sugestões por favor entre em contacto connosco.\nObrigada a todos pela participação e pelos contributos que nos têm enviado.\nPara acompanharem o resultado dos vossos contributos deixamos o link do glossário “Falar Corvino”: https://padlet.com/ecomuseu/5zdomsu4rcejijqy\nUma boa semana para todos!
URL:https://ecomuseu-corvo.cultura.azores.gov.pt/evento/falar-corvino-7-de-novembro/
LOCATION:Ecomuseu do Corvo
CATEGORIES:Falar Corvino
ATTACH;FMTTYPE=image/png:https://ecomuseu-corvo.cultura.azores.gov.pt/wp-content/uploads/2022/09/falar-corvino-1-1.png
END:VEVENT
BEGIN:VEVENT
DTSTART;VALUE=DATE:20221114
DTEND;VALUE=DATE:20221121
DTSTAMP:20260425T184729
CREATED:20221114T210054Z
LAST-MODIFIED:20221118T154231Z
UID:2246-1668384000-1668988799@ecomuseu-corvo.cultura.azores.gov.pt
SUMMARY:Falar Corvino - 14 de novembro
DESCRIPTION:Será que nos podem ajudar com esta palavra?\nQuem tiver sugestões por favor entre em contacto connosco.\nObrigada a todos pela participação e pelos contributos que nos têm enviado.\nPara acompanharem o resultado dos vossos contributos deixamos o link do glossário “Falar Corvino”: https://padlet.com/ecomuseu/5zdomsu4rcejijqy\nUma boa semana para todos!
URL:https://ecomuseu-corvo.cultura.azores.gov.pt/evento/falar-corvino-14-de-novembro/
LOCATION:Ecomuseu do Corvo
CATEGORIES:Falar Corvino
ATTACH;FMTTYPE=image/png:https://ecomuseu-corvo.cultura.azores.gov.pt/wp-content/uploads/2022/09/falar-corvino-1-1.png
END:VEVENT
BEGIN:VEVENT
DTSTART;VALUE=DATE:20221115
DTEND;VALUE=DATE:20230401
DTSTAMP:20260425T184729
CREATED:20221115T154239Z
LAST-MODIFIED:20221118T154949Z
UID:2276-1668470400-1680307199@ecomuseu-corvo.cultura.azores.gov.pt
SUMMARY:Exposição de Pintura de Henning von Gierke: “A Mudança Constante”
DESCRIPTION:O Ecomuseu do Corvo\, numa articulação inédita com o Museu da Horta\, o Museu das Flores e o Museu de Arte Sacra da Horta\, está a promover a Exposição de pintura intitulada “A Mudança Constante” do artista plástico Henning von Gierke.\nHenning von Gierke é um prestigiado pintor alemão\, cenógrafo\, designer de produção e produtor de arte.\nAs suas telas demonstram uma sensibilidade e um realismo que o tornam inconfundível.\nA sua técnica e as suas temáticas\, inspiradas na natureza\, na fantasia\, na mitologia e na religiosidade\, fazem de Henning von Gierke um dos mais reconhecidos representantes da pintura realista do séc. XXI.\nA temática da exposição patente no Corvo incide na Paisagem e na Natureza Morta que\, segundo o autor\, é uma fonte inesgotável de inspiração. São “momentos de reconhecimento\, reflexão\, memória pessoal e associações\, narrativas pintadas da vida quotidiana. Natureza morta é o tempo capturado\, espaço para a expressão de palavras não ditas numa língua que não necessita de tradução”.\nEsta exposição poderá ser visitada no Multiusos do Corvo\, até março de 2023\, de segunda a sexta-feira\, entre as 10h30 e as 12h30 e entre as 14h30 e as 17h00.
URL:https://ecomuseu-corvo.cultura.azores.gov.pt/evento/exposicao-de-pintura-de-henning-von-gierke-a-mudanca-constante/
LOCATION:Espaço Cultural Multiusos
CATEGORIES:Exposições
ATTACH;FMTTYPE=image/jpeg:https://ecomuseu-corvo.cultura.azores.gov.pt/wp-content/uploads/2022/11/Cartaz-Henning-Ecomuseu-do-Corvo-scaled-e1678963731268.jpg
END:VEVENT
BEGIN:VEVENT
DTSTART;TZID=Atlantic/Azores:20221118T093000
DTEND;TZID=Atlantic/Azores:20221118T110000
DTSTAMP:20260425T184729
CREATED:20221116T155008Z
LAST-MODIFIED:20221118T155322Z
UID:2278-1668763800-1668769200@ecomuseu-corvo.cultura.azores.gov.pt
SUMMARY:Artistas no Ecomuseu
DESCRIPTION:No próximo dia 18 de novembro\, a partir das 09h45\, será dinamizada\, no Pavilhão Multiusos\, uma atividade educativa\, intitulada “Artistas no Ecomuseu”. Esta atividade será desenvolvida em articulação com o jardim-de-infância “Planeta Azul” e destina-se\, especificamente\, ao grupo de alunos do ensino pré-escolar.\nA iniciativa tem como objetivos dar a conhecer\, aos mais novos\, as atividades do Ecomuseu\, nomeadamente a exposição “Cápsulas do Tempo”\, que se encontra a decorrer naquele espaço e\, simultaneamente\, promover atividades educativas relacionadas com o património cultural subaquático do Arquipélago dos Açores.
URL:https://ecomuseu-corvo.cultura.azores.gov.pt/evento/artistas-no-ecomuseu/
LOCATION:Espaço Cultural Multiusos
CATEGORIES:Serviço educativo
ATTACH;FMTTYPE=image/jpeg:https://ecomuseu-corvo.cultura.azores.gov.pt/wp-content/uploads/2022/11/315830444_511014804421558_4392891741231263529_n-e1678963719399.jpg
END:VEVENT
BEGIN:VEVENT
DTSTART;TZID=Atlantic/Azores:20221121T080000
DTEND;TZID=Atlantic/Azores:20221127T170000
DTSTAMP:20260425T184729
CREATED:20221121T210030Z
LAST-MODIFIED:20221129T160308Z
UID:2251-1669017600-1669568400@ecomuseu-corvo.cultura.azores.gov.pt
SUMMARY:Falar Corvino - 21 de novembro
DESCRIPTION:E o desafio prossegue… \nQuem tiver sugestões por favor entre em contacto connosco.\nObrigada a todos pela participação e pelos contributos que nos têm enviado.\nPara acompanharem o resultado dos vossos contributos deixamos o link do glossário “Falar Corvino”: https://padlet.com/ecomuseu/5zdomsu4rcejijqy\nUma boa semana para todos!
URL:https://ecomuseu-corvo.cultura.azores.gov.pt/evento/falar-corvino-21-de-novembro/
LOCATION:Ecomuseu do Corvo
CATEGORIES:Falar Corvino
ATTACH;FMTTYPE=image/png:https://ecomuseu-corvo.cultura.azores.gov.pt/wp-content/uploads/2022/09/falar-corvino-1-1.png
END:VEVENT
BEGIN:VEVENT
DTSTART;TZID=Atlantic/Azores:20221122T140000
DTEND;TZID=Atlantic/Azores:20221122T150000
DTSTAMP:20260425T184729
CREATED:20221115T131417Z
LAST-MODIFIED:20221202T131641Z
UID:2300-1669125600-1669129200@ecomuseu-corvo.cultura.azores.gov.pt
SUMMARY:Oficinas "Cápsulas do Tempo"
DESCRIPTION:No dia 22 de novembro\, pelas 14h00\, os alunos do 1.º ciclo da EBS Mouzinho da Silveira irão visitar a exposição “Cápsulas do Tempo\, o Património Cultural Subaquático dos Açores”\, patente no multiusos\, e realizar uma oficina de trabalhos manuais em torno desta exposição.\nCom base nesta exposição será feita uma breve apresentação sobre os naufrágios que ocorreram ao largo dos Açores\, destacando-se a importância estratégica do território açoriano\, que serviu de acesso privilegiado e único à Europa\, território de trânsito e comércio livre e um importante ponto de apoio às grandes navegações\, através das quais se concretizou a expansão europeia.\nPretende-se\, igualmente\, dar a conhecer alguns naufrágios identificados e demonstrar que estes se constituem como testemunhos silenciosos de vários momentos da História\, como que cápsulas do tempo de épocas remotas\, “caixas mágicas” guardiãs do passado e do rico património subaquático.
URL:https://ecomuseu-corvo.cultura.azores.gov.pt/evento/oficinas-capsulas-do-tempo/
LOCATION:Espaço Cultural Multiusos
CATEGORIES:Serviço educativo
ATTACH;FMTTYPE=image/jpeg:https://ecomuseu-corvo.cultura.azores.gov.pt/wp-content/uploads/2022/12/316548893_517675260422179_6444053432097440429_n-e1678963668808.jpg
END:VEVENT
BEGIN:VEVENT
DTSTART;TZID=Atlantic/Azores:20221126T150000
DTEND;TZID=Atlantic/Azores:20221126T170000
DTSTAMP:20260425T184729
CREATED:20221120T131055Z
LAST-MODIFIED:20231010T154758Z
UID:2297-1669474800-1669482000@ecomuseu-corvo.cultura.azores.gov.pt
SUMMARY:Talk and Walk
DESCRIPTION:No próximo dia 26 de novembro\, a partir das 15h00\, o Ecomuseu irá organizar um passeio cultural na Vila do Corvo intitulado “Talk and Walk”-“Anda e Conversa”. Durante este passeio será proporcionada à comunidade uma visita guiada à Casa do Tempo e à Atafona e será\, também\, realizado o circuito interpretativo da Vila do Corvo.\nO passeio terminará no Multiusos para conversarmos com Henning von Gierke sobre a sua exposição “A Mudança Constante”\, patente naquele edifício.\nO evento é aberto a toda a comunidade e o ponto de encontro será na Casa do Tempo.\nCom esta atividade pretende-se divulgar o trabalho desenvolvido pelo Ecomuseu\, partilhar ideias e projetos e dar a conhecer a História e as tradições da ilha do Corvo.
URL:https://ecomuseu-corvo.cultura.azores.gov.pt/evento/talk-and-walk/
LOCATION:Casa do Tempo
CATEGORIES:Património
ATTACH;FMTTYPE=image/jpeg:https://ecomuseu-corvo.cultura.azores.gov.pt/wp-content/uploads/2022/12/316407792_515601607296211_3186122003941314423_n-e1678963678109.jpg
END:VEVENT
BEGIN:VEVENT
DTSTART;TZID=Atlantic/Azores:20221126T170000
DTEND;TZID=Atlantic/Azores:20221126T183000
DTSTAMP:20260425T184729
CREATED:20221120T130709Z
LAST-MODIFIED:20221202T130920Z
UID:2295-1669482000-1669487400@ecomuseu-corvo.cultura.azores.gov.pt
SUMMARY:Conversas com Henning von Gierke - Artist Talk
DESCRIPTION:O artista vem\, em ambiente intimista\, falar-nos sobre o seu processo de criação\, as suas fontes de inspiração\, os motivos da sua inquietude\, inseridos numa biografia singular e num percurso profissional particular que assenta\, fundamentalmente\, no desassossego introspetivo pessoal\, encontrando no espaço do singular pontes para o outro\, que o tornam facilmente entendível por todos nós. Esta conversa permite\, portanto\, entrar no interior do seu estúdio pessoal de forma informal e descobrir a pessoa que se esconde por detrás de um artista consagrado\, que pese embora alemão de nascimento\, é já açoriano de pleno direito.\nThe artist comes to us\, in an intimate atmosphere\, to talk about his creative process\, his sources of inspiration\, the reasons for his restlessness\, embedded in a singular biography and a particular professional path that is fundamentally based on personal introspective restlessness\, finding in the space of the singular bridges to the other\, which make it easily understandable for all of us. Therefore This conversation allows us to enter inside his personal studio in an informal way and discover the person hidden behind an established artist\, who although German by birth\, is already an Azorean in his own right.\nDer Künstler besucht uns\, um in einer intimen Atmosphäre über seinen kreativen Prozess\, seine Inspirationsquellen und auch die Gründe seiner Schaffenskraft zu sprechen. Eingebettet in eine einzigartige Biografie und seinen besonderen künstlerischen Weg\, der im Wesentlichen auf seiner persönlichen\, sich selbst erkennenden Rastlosigkeit beruht. Mit seiner besonderen Arbeit entstehen Brücken\, die einen Weg zum Betrachter finden und so sein Werk uns allen leicht verständlich machen. Dieser ARTIST TALK ermöglicht es uns\, auf informelle Weise\, in sein persönliches Atelier einzutreten um die Person zu entdecken\, die sich hinter einem etablierten Künstler verbirgt. Ein gebürtiger Deutscher und jetzt auch ein Azoreaner.\nO artista vem\, em ambiente intimista\, falar-nos sobre o seu processo de criação\, as suas fontes de inspiração\, os motivos da sua inquietude\, inseridos numa biografia singular e num percurso profissional particular que assenta\, fundamentalmente\, no desassossego introspetivo pessoal\, encontrando no espaço do singular pontes para o outro\, que o tornam facilmente entendível por todos nós. Esta conversa permite\, portanto\, entrar no interior do seu estúdio pessoal de forma informal e descobrir a pessoa que se esconde por detrás de um artista consagrado\, que pese embora alemão de nascimento\, é já açoriano de pleno direito.\nThe artist comes to us\, in an intimate atmosphere\, to talk about his creative process\, his sources of inspiration\, the reasons for his restlessness\, embedded in a singular biography and a particular professional path that is fundamentally based on personal introspective restlessness\, finding in the space of the singular bridges to the other\, which make it easily understandable for all of us. Therefore This conversation allows us to enter inside his personal studio in an informal way and discover the person hidden behind an established artist\, who although German by birth\, is already an Azorean in his own right.\nDer Künstler besucht uns\, um in einer intimen Atmosphäre über seinen kreativen Prozess\, seine Inspirationsquellen und auch die Gründe seiner Schaffenskraft zu sprechen. Eingebettet in eine einzigartige Biografie und seinen besonderen künstlerischen Weg\, der im Wesentlichen auf seiner persönlichen\, sich selbst erkennenden Rastlosigkeit beruht. Mit seiner besonderen Arbeit entstehen Brücken\, die einen Weg zum Betrachter finden und so sein Werk uns allen leicht verständlich machen. Dieser ARTIST TALK ermöglicht es uns\, auf informelle Weise\, in sein persönliches Atelier einzutreten um die Person zu entdecken\, die sich hinter einem etablierten Künstler verbirgt. Ein gebürtiger Deutscher und jetzt auch ein Azoreaner.
URL:https://ecomuseu-corvo.cultura.azores.gov.pt/evento/conversas-com-henning-von-gierke-artist-talk/
LOCATION:Espaço Cultural Multiusos
CATEGORIES:Exposições
END:VEVENT
BEGIN:VEVENT
DTSTART;TZID=Atlantic/Azores:20221128T080000
DTEND;TZID=Atlantic/Azores:20221204T170000
DTSTAMP:20260425T184729
CREATED:20221128T210054Z
LAST-MODIFIED:20221129T160313Z
UID:2254-1669622400-1670173200@ecomuseu-corvo.cultura.azores.gov.pt
SUMMARY:Falar Corvino - 28 de novembro
DESCRIPTION:Apresentamos mais uma palavra do “Falar Corvino” \nQuem tiver sugestões por favor entre em contacto connosco.\nObrigada a todos pela participação e pelos contributos que nos têm enviado.\nPara acompanharem o resultado dos vossos contributos deixamos o link do glossário “Falar Corvino”: https://padlet.com/ecomuseu/5zdomsu4rcejijqy\nUma boa semana para todos!
URL:https://ecomuseu-corvo.cultura.azores.gov.pt/evento/falar-corvino-28-de-novembro/
LOCATION:Ecomuseu do Corvo
CATEGORIES:Falar Corvino
ATTACH;FMTTYPE=image/png:https://ecomuseu-corvo.cultura.azores.gov.pt/wp-content/uploads/2022/09/falar-corvino-1-1.png
END:VEVENT
BEGIN:VEVENT
DTSTART;VALUE=DATE:20221130
DTEND;VALUE=DATE:20221201
DTSTAMP:20260425T184729
CREATED:20221103T112039Z
LAST-MODIFIED:20221130T171820Z
UID:2231-1669766400-1669852799@ecomuseu-corvo.cultura.azores.gov.pt
SUMMARY:Peça do mês - novembro
DESCRIPTION:A peça do mês de novembro é dedicada à área da carpintaria. Trata-se do graminho! \nEste bem móvel passou recentemente por um procedimento de desinfestação com xilofene\, seguido de um processo de intervenção de conservação preventiva com limpeza mecânica da peça e aplicação de cera de abelha com aguarrás. \nQuem nos sabe dizer para que servia? \nPrecisamos de ajuda na identificação\, bem como de informação sobre a sua utilização.\nA sua participação é muito importante para o trabalho que o Ecomuseu do Corvo está a realizar\, no âmbito do inventário participativo do património móvel do Corvo.\nO Ecomuseu somos todos nós!\nPara acompanharem o resultado dos vossos contributos deixamos o link das informações recolhidas da “Peça do Mês”:\nhttps://padlet.com/tatianamfragata/sd9vd5npqbzulcoj
URL:https://ecomuseu-corvo.cultura.azores.gov.pt/evento/peca-do-mes-novembro/
LOCATION:Ecomuseu do Corvo
CATEGORIES:Peça do Mês
ATTACH;FMTTYPE=image/png:https://ecomuseu-corvo.cultura.azores.gov.pt/wp-content/uploads/2022/10/Publicacao-para-Twitter-de-Oficina-de-Artesanato-e1678963760656.png
END:VEVENT
END:VCALENDAR