BEGIN:VCALENDAR
VERSION:2.0
PRODID:-//Ecomuseu do Corvo - ECPv6.15.17//NONSGML v1.0//EN
CALSCALE:GREGORIAN
METHOD:PUBLISH
X-WR-CALNAME:Ecomuseu do Corvo
X-ORIGINAL-URL:https://ecomuseu-corvo.cultura.azores.gov.pt
X-WR-CALDESC:Eventos para Ecomuseu do Corvo
REFRESH-INTERVAL;VALUE=DURATION:PT1H
X-Robots-Tag:noindex
X-PUBLISHED-TTL:PT1H
BEGIN:VTIMEZONE
TZID:Atlantic/Azores
BEGIN:DAYLIGHT
TZOFFSETFROM:-0100
TZOFFSETTO:+0000
TZNAME:+00
DTSTART:20200329T010000
END:DAYLIGHT
BEGIN:STANDARD
TZOFFSETFROM:+0000
TZOFFSETTO:-0100
TZNAME:-01
DTSTART:20201025T010000
END:STANDARD
BEGIN:DAYLIGHT
TZOFFSETFROM:-0100
TZOFFSETTO:+0000
TZNAME:+00
DTSTART:20210328T010000
END:DAYLIGHT
BEGIN:STANDARD
TZOFFSETFROM:+0000
TZOFFSETTO:-0100
TZNAME:-01
DTSTART:20211031T010000
END:STANDARD
BEGIN:DAYLIGHT
TZOFFSETFROM:-0100
TZOFFSETTO:+0000
TZNAME:+00
DTSTART:20220327T010000
END:DAYLIGHT
BEGIN:STANDARD
TZOFFSETFROM:+0000
TZOFFSETTO:-0100
TZNAME:-01
DTSTART:20221030T010000
END:STANDARD
BEGIN:DAYLIGHT
TZOFFSETFROM:-0100
TZOFFSETTO:+0000
TZNAME:+00
DTSTART:20230326T010000
END:DAYLIGHT
BEGIN:STANDARD
TZOFFSETFROM:+0000
TZOFFSETTO:-0100
TZNAME:-01
DTSTART:20231029T010000
END:STANDARD
END:VTIMEZONE
BEGIN:VEVENT
DTSTART;VALUE=DATE:20211208
DTEND;VALUE=DATE:20220801
DTSTAMP:20260425T182225
CREATED:20211208T172510Z
LAST-MODIFIED:20220310T173427Z
UID:813-1638921600-1659311999@ecomuseu-corvo.cultura.azores.gov.pt
SUMMARY:Exposição "Retalho da Saudade"
DESCRIPTION:Uma imagem vale mais que mil palavras! \nMais do que a objetividade de um texto\, a fotografia contextualiza uma vivência\, uma tradição\, uma época\, a História de uma Comunidade e a sua Identidade. \nNesta exposição\, intitulada Retalho de Saudade\, a Comunidade corvina vai poder relembrar e contar um pouco da sua História\, tal como um “retalho”\, narrado visualmente. Aqui poderá estabelecer uma relação entre o passado e o presente e isto acontece porque as fotografias têm o poder da sensibilização – ou seja\, atingem quem as observa tanto a nível estético como emocional – por vezes marcada pela “Saudade”. \nQuem nos visita poderá\, através destas fotografias\, retalhos de um passado próximo\, imaginar a História e as tradições desta Comunidade ancestral e resiliente. \nApós a inauguração\, a exposição ficará patente até ao mês de julho de 2022 no seguinte horário: de segunda a sexta-feira das 10h30 às 12h30 e das 14h30 às 17h00. \nNo atual contexto pandémico\, serão cumpridas todas as regras determinadas pela Autoridade de Saúde\, nomeadamente o uso de máscara\, o distanciamento social e a desinfeção das mãos.
URL:https://ecomuseu-corvo.cultura.azores.gov.pt/evento/exposicao-retalho-da-saudade/
LOCATION:Espaço Cultural Multiusos
CATEGORIES:Exposições
ATTACH;FMTTYPE=image/png:https://ecomuseu-corvo.cultura.azores.gov.pt/wp-content/uploads/2022/03/CartazA4_retalhosdesaudade_v4OT-1.png
END:VEVENT
BEGIN:VEVENT
DTSTART;VALUE=DATE:20220103
DTEND;VALUE=DATE:20230101
DTSTAMP:20260425T182225
CREATED:20220103T111254Z
LAST-MODIFIED:20221031T111612Z
UID:834-1641168000-1672531199@ecomuseu-corvo.cultura.azores.gov.pt
SUMMARY:Inventário Participativo do Património Cultural do Corvo
DESCRIPTION:O Ecomuseu do Corvo iniciou o trabalho de resgate e inventário do Património Cultural Imaterial da ilha do Corvo. \nA Unesco define como Património Cultural Imaterial “as práticas\, representações\, expressões\, conhecimentos e técnicas – juntamente com os instrumentos\, objetos\, artefactos e lugares culturais que lhes são associados – que as comunidades\, os grupos e\, em alguns casos\, os indivíduos reconhecem como parte integrante de seu património cultural.” \nPretende-se com esta ação incorporar no acervo do Património móvel do Ecomuseu do Corvo os instrumentos\, objetos e artefactos ligados ao quotidiano ancestral da comunidade corvina e\, assim\, preservar a sua História e a sua Memória para as gerações vindouras. \nCom esta ação o Ecomuseu do Corvo iniciará um processo de resgate do rico Património móvel ainda existente na ilha. Esta ação é de extrema importância\, pois pretende-se que o Património móvel seja transmitido de geração em geração e constantemente recriado pelas comunidades e pelos grupos em função do seu ambiente\, da sua interação com a natureza e da sua História\, gerando um sentimento de identidade e de continuidade\, contribuindo\, assim\, para promover o respeito pela diversidade cultural e pela criatividade humana.
URL:https://ecomuseu-corvo.cultura.azores.gov.pt/evento/inventario-participativo-do-patrimonio-cultural-do-corvo/
LOCATION:Ecomuseu do Corvo
CATEGORIES:Património
ATTACH;FMTTYPE=image/png:https://ecomuseu-corvo.cultura.azores.gov.pt/wp-content/uploads/2022/03/Copia-de-inventario-participativo-do-patrimonio-movel.png
END:VEVENT
BEGIN:VEVENT
DTSTART;VALUE=DATE:20220627
DTEND;VALUE=DATE:20220704
DTSTAMP:20260425T182225
CREATED:20220627T163412Z
LAST-MODIFIED:20220804T163536Z
UID:1907-1656288000-1656892799@ecomuseu-corvo.cultura.azores.gov.pt
SUMMARY:Falar Corvino - 27 de junho
DESCRIPTION:Apresentamos mais uma palavra do “Falar Corvino”\nQuem tiver sugestões por favor entre em contacto connosco.\nObrigada a todos pela participação e pelos contributos que nos têm enviado.\nPara acompanharem o resultado dos vossos contributos deixamos o link do glossário “Falar Corvino”: https://padlet.com/ecomuseu/5zdomsu4rcejijqy\nUma boa semana para todos!
URL:https://ecomuseu-corvo.cultura.azores.gov.pt/evento/falar-corvino-27-de-junho/
LOCATION:Ecomuseu do Corvo
CATEGORIES:Falar Corvino
ATTACH;FMTTYPE=image/png:https://ecomuseu-corvo.cultura.azores.gov.pt/wp-content/uploads/2022/08/falar-corvino-1-1.png
END:VEVENT
BEGIN:VEVENT
DTSTART;VALUE=DATE:20220701
DTEND;VALUE=DATE:20220801
DTSTAMP:20260425T182225
CREATED:20220701T112353Z
LAST-MODIFIED:20231010T155709Z
UID:1606-1656633600-1659311999@ecomuseu-corvo.cultura.azores.gov.pt
SUMMARY:Peça do mês - julho
DESCRIPTION:Estamos a realizar o inventário desta peça!\nPrecisamos de ajuda na identificação\, bem como de informação sobre a sua utilização.\nA sua participação é muito importante para o trabalho que o Ecomuseu do Corvo está a realizar\, no âmbito do inventário participativo do património móvel do Corvo.\nO Ecomuseu somos todos nós!\nPara acompanharem o resultado dos vossos contributos deixamos o link das informações recolhidas da “Peça do Mês“.
URL:https://ecomuseu-corvo.cultura.azores.gov.pt/evento/peca-do-mes-julho/
LOCATION:Ecomuseu do Corvo
ATTACH;FMTTYPE=image/png:https://ecomuseu-corvo.cultura.azores.gov.pt/wp-content/uploads/2022/06/Publicacao-para-Twitter-de-Oficina-de-Artesanato.png
END:VEVENT
BEGIN:VEVENT
DTSTART;TZID=Atlantic/Azores:20220701T093000
DTEND;TZID=Atlantic/Azores:20220701T120000
DTSTAMP:20260425T182225
CREATED:20220629T114224Z
LAST-MODIFIED:20231010T155716Z
UID:1622-1656667800-1656676800@ecomuseu-corvo.cultura.azores.gov.pt
SUMMARY:Blue Climate March
DESCRIPTION:Amigos do Clima!\nDia 01 de julho iremos organizar uma descida ao Caldeirão do Corvo associada à iniciativa “Marcha Azul pelo Clima”\, promovida pela Fundação “Oceano Azul”.\nEstão já previstas ações em várias ilhas\, de formatos e dimensões diferentes\, mas todas bem originais e com o mesmo objetivo: demonstrar o apoio dos Açores à #BlueClimateMarch e ao oceano.\nPara demonstrar o nosso apoio à “Marcha pelo Clima” iremos vestir-nos com uma t-shirt azul e organizar uma descida ao Caldeirão.\nEstão todos convidados!\nO Ponto de encontro será no Ribeirão\, a partir das 09h30. Teremos transporte até ao Caldeirão e a partir de lá organizaremos a descida.\nSalvar o Oceano é salvar o clima!\nOceano Azul Foundation United Nations\n#MarchaAzulPeloClima #BlueClimateMarch #UNOceanConference #BlueAzores #SDG14 #OceanDecade
URL:https://ecomuseu-corvo.cultura.azores.gov.pt/evento/blue-climate-march/
LOCATION:Ecomuseu do Corvo
CATEGORIES:Serviço educativo
ATTACH;FMTTYPE=image/png:https://ecomuseu-corvo.cultura.azores.gov.pt/wp-content/uploads/2022/06/290942523_406590301518629_3400704062008881625_n-2.png
END:VEVENT
BEGIN:VEVENT
DTSTART;VALUE=DATE:20220704
DTEND;VALUE=DATE:20220711
DTSTAMP:20260425T182225
CREATED:20220704T163540Z
LAST-MODIFIED:20220804T163728Z
UID:1910-1656892800-1657497599@ecomuseu-corvo.cultura.azores.gov.pt
SUMMARY:Falar Corvino - 4 de julho
DESCRIPTION:Começamos julho com mais uma palavra do “Falar Corvino”\nQuem tiver sugestões por favor entre em contacto connosco.\nObrigada a todos pela participação e pelos contributos que nos têm enviado.\nPara acompanharem o resultado dos vossos contributos deixamos o link do glossário “Falar Corvino”: https://padlet.com/ecomuseu/5zdomsu4rcejijqy\nUma boa semana para todos!
URL:https://ecomuseu-corvo.cultura.azores.gov.pt/evento/falar-corvino-4-de-julho/
LOCATION:Ecomuseu do Corvo
CATEGORIES:Falar Corvino
ATTACH;FMTTYPE=image/png:https://ecomuseu-corvo.cultura.azores.gov.pt/wp-content/uploads/2022/08/falar-corvino-1-1.png
END:VEVENT
BEGIN:VEVENT
DTSTART;TZID=Atlantic/Azores:20220705T080000
DTEND;TZID=Atlantic/Azores:20220812T170000
DTSTAMP:20260425T182225
CREATED:20220703T163330Z
LAST-MODIFIED:20220912T163507Z
UID:1983-1657008000-1660323600@ecomuseu-corvo.cultura.azores.gov.pt
SUMMARY:Férias no Ecomuseu
DESCRIPTION:Este verão o Ecomuseu promove atividades de ocupação dos tempos livres para os mais jovens.\nTemos um programa diversificado\, para tal bastará fazer a inscrição do seu educando junto dos nossos serviços. Poderá\, também\, preencher o formulário online: https://forms.office.com/r/TGDxeWRWJs\nEcomuseu.corvo.info@azores.gov\n292596063\nCalendário das atividades:\n3.ª feira (apenas a partir do dia 12/07) | das 09h30 às 11h30 – “Leitura na praia”- Aconselha-se que levem chapéu\, protetor solar\, toalha de praia e água. Local de encontro: Casa do Tempo\n4.ª feira (apenas a partir do dia 13/07)| Das 14h30 até às 16h00 – Oficina de Pintura e jogos didáticos- Realização de pinturas sobre a história lida na terça-feira e realização de jogos didáticos sobre o património. Local de encontro: Multiusos\n5.ª feira a partir das 09h30\, com início a 07 de de julho – “Caminhadas à quinta”. Iremos fazer uma descida ao Caldeirão do Corvo e uma ação de sensibilização pelo clima: “Marcha Azul pelo Clima”\, no dia 07 de julho. Também iremos desenvolver outras ações de sensibilização ambiental\, nomeadamente a organização de alguns trilhos. Quando o tempo não o permita realizaremos outras ações educativas. Quando se trate de percursos pedestres ao Caldeirão ou à Cara do Índio só poderão participar crianças a partir dos 9 anos de idade. Semanalmente anunciaremos\, na nossa página do facebook\, as caminhadas que iremos realizar. Local de encontro: Largo do Ribeirão\n6.ª feira\, das 14h30 às 16h00\, com início no dia 08 de julho – Cinema à sexta com pipocas e oficina de expressões. Local de encontro: Multiusos
URL:https://ecomuseu-corvo.cultura.azores.gov.pt/evento/ferias-no-ecomuseu-2/
LOCATION:Ecomuseu do Corvo
CATEGORIES:Férias no Ecomuseu
ATTACH;FMTTYPE=image/png:https://ecomuseu-corvo.cultura.azores.gov.pt/wp-content/uploads/2022/09/292040884_411412641036395_457851805674652236_n-1.png
END:VEVENT
BEGIN:VEVENT
DTSTART;TZID=Atlantic/Azores:20220709T210000
DTEND;TZID=Atlantic/Azores:20220709T223000
DTSTAMP:20260425T182225
CREATED:20220701T114450Z
LAST-MODIFIED:20231010T155404Z
UID:1625-1657400400-1657405800@ecomuseu-corvo.cultura.azores.gov.pt
SUMMARY:FADOalado
DESCRIPTION:A Direção Regional dos Assuntos Culturais promove o concerto dos FADOalado na ilha do Corvo no âmbito das celebrações do centenário do nascimento de Pedro da Silveira. \nOs FADOalado trazem-nos um concerto inteiramente de originais\, músicas e poemas feitas e escritas por eles. \nSerá um concerto diversificado\, desde fado purista\, a fado canção\, bem como marchas. \n– Biografia do grupo: \nOs FADOalado são um grupo Terceirense que iniciou o seu projeto em 2016 depois de atuar numa festa de freguesia a convite de um amigos dos elementos. \nJá atuaram em 6 ilhas do arquipélago dos Açores\, Portugal Continental\, Canadá e Estados Unidos. \nO grupo é composto por 10 elementos\, 5 músicos e 5 vozes\, Ricardo Martins no bandolim\, Gonçalo Fouto no acordeão\, Diogo Brasil na guitarra clássica\, Tânia Gaspar no piano\,  Bernardo Oliveira na percussão\, mas vozes Sara Mota\, Leandra Mota\, Ivânia Pires\, Lizélia Toste e Filipa Lima. \n“A sua musicalidade apela aos 5 sentidos e a sua originalidade levar-nos a sentir sensações únicas.” \n“O seu fado é capaz de nos entrar na alma e corpo através das suas vozes e os seus arranjos musicais”. \nRecentemente o grupo venceu o programa “Got Talent Portugal 2021”
URL:https://ecomuseu-corvo.cultura.azores.gov.pt/evento/fadoalado/
CATEGORIES:Concerto
ATTACH;FMTTYPE=image/jpeg:https://ecomuseu-corvo.cultura.azores.gov.pt/wp-content/uploads/2022/07/289974337_404040678440258_6579276943749559814_n-3.jpg
END:VEVENT
BEGIN:VEVENT
DTSTART;TZID=Atlantic/Azores:20220711T080000
DTEND;TZID=Atlantic/Azores:20220717T170000
DTSTAMP:20260425T182225
CREATED:20220711T163731Z
LAST-MODIFIED:20220804T163835Z
UID:1913-1657526400-1658077200@ecomuseu-corvo.cultura.azores.gov.pt
SUMMARY:Falar Corvino - 11 de julho
DESCRIPTION:E o desafio prossegue…\nQuem tiver sugestões por favor entre em contacto connosco.\nObrigada a todos pela participação e pelos contributos que nos têm enviado.\nPara acompanharem o resultado dos vossos contributos deixamos o link do glossário “Falar Corvino”: https://padlet.com/ecomuseu/5zdomsu4rcejijqy\nUma boa semana para todos!
URL:https://ecomuseu-corvo.cultura.azores.gov.pt/evento/falar-corvino-11-de-julho/
LOCATION:Ecomuseu do Corvo
CATEGORIES:Falar Corvino
ATTACH;FMTTYPE=image/png:https://ecomuseu-corvo.cultura.azores.gov.pt/wp-content/uploads/2022/08/falar-corvino-1-1.png
END:VEVENT
BEGIN:VEVENT
DTSTART;VALUE=DATE:20220718
DTEND;VALUE=DATE:20220725
DTSTAMP:20260425T182225
CREATED:20220718T163859Z
LAST-MODIFIED:20220804T164027Z
UID:1916-1658102400-1658707199@ecomuseu-corvo.cultura.azores.gov.pt
SUMMARY:Falar Corvino - 18 de julho
DESCRIPTION:Será que nos podem ajudar com esta palavra?\nQuem tiver sugestões por favor entre em contacto connosco.\nObrigada a todos pela participação e pelos contributos que nos têm enviado.\nPara acompanharem o resultado dos vossos contributos deixamos o link do glossário “Falar Corvino”: https://padlet.com/ecomuseu/5zdomsu4rcejijqy\nUma boa semana para todos!
URL:https://ecomuseu-corvo.cultura.azores.gov.pt/evento/falar-corvino-18-de-julho/
LOCATION:Ecomuseu do Corvo
CATEGORIES:Falar Corvino
ATTACH;FMTTYPE=image/png:https://ecomuseu-corvo.cultura.azores.gov.pt/wp-content/uploads/2022/08/falar-corvino-1-1.png
END:VEVENT
BEGIN:VEVENT
DTSTART;VALUE=DATE:20220725
DTEND;VALUE=DATE:20220801
DTSTAMP:20260425T182225
CREATED:20220725T164031Z
LAST-MODIFIED:20220804T164202Z
UID:1919-1658707200-1659311999@ecomuseu-corvo.cultura.azores.gov.pt
SUMMARY:Falar Corvino - 25 de julho
DESCRIPTION:A propósito do desafio “Falar Corvino”….\nQuem tiver sugestões por favor entre em contacto connosco.\nObrigada a todos pela participação e pelos contributos que nos têm enviado.\nPara acompanharem o resultado dos vossos contributos deixamos o link do glossário “Falar Corvino”: https://padlet.com/ecomuseu/5zdomsu4rcejijqy\nUma boa semana para todos!
URL:https://ecomuseu-corvo.cultura.azores.gov.pt/evento/falar-corvino-25-de-julho/
LOCATION:Ecomuseu do Corvo
CATEGORIES:Falar Corvino
ATTACH;FMTTYPE=image/png:https://ecomuseu-corvo.cultura.azores.gov.pt/wp-content/uploads/2022/08/falar-corvino-1-1.png
END:VEVENT
END:VCALENDAR