BEGIN:VCALENDAR
VERSION:2.0
PRODID:-//Ecomuseu do Corvo - ECPv6.15.17//NONSGML v1.0//EN
CALSCALE:GREGORIAN
METHOD:PUBLISH
X-WR-CALNAME:Ecomuseu do Corvo
X-ORIGINAL-URL:https://ecomuseu-corvo.cultura.azores.gov.pt
X-WR-CALDESC:Eventos para Ecomuseu do Corvo
REFRESH-INTERVAL;VALUE=DURATION:PT1H
X-Robots-Tag:noindex
X-PUBLISHED-TTL:PT1H
BEGIN:VTIMEZONE
TZID:Atlantic/Azores
BEGIN:DAYLIGHT
TZOFFSETFROM:-0100
TZOFFSETTO:+0000
TZNAME:+00
DTSTART:20200329T010000
END:DAYLIGHT
BEGIN:STANDARD
TZOFFSETFROM:+0000
TZOFFSETTO:-0100
TZNAME:-01
DTSTART:20201025T010000
END:STANDARD
BEGIN:DAYLIGHT
TZOFFSETFROM:-0100
TZOFFSETTO:+0000
TZNAME:+00
DTSTART:20210328T010000
END:DAYLIGHT
BEGIN:STANDARD
TZOFFSETFROM:+0000
TZOFFSETTO:-0100
TZNAME:-01
DTSTART:20211031T010000
END:STANDARD
BEGIN:DAYLIGHT
TZOFFSETFROM:-0100
TZOFFSETTO:+0000
TZNAME:+00
DTSTART:20220327T010000
END:DAYLIGHT
BEGIN:STANDARD
TZOFFSETFROM:+0000
TZOFFSETTO:-0100
TZNAME:-01
DTSTART:20221030T010000
END:STANDARD
END:VTIMEZONE
BEGIN:VEVENT
DTSTART;VALUE=DATE:20210407
DTEND;VALUE=DATE:20210801
DTSTAMP:20260425T181134
CREATED:20210402T143950Z
LAST-MODIFIED:20220308T154826Z
UID:646-1617753600-1627775999@ecomuseu-corvo.cultura.azores.gov.pt
SUMMARY:Exposição “Açores: Silêncio e Ser”
DESCRIPTION:Encontrar-se-á patente no Centro Cultural Multiusos do Corvo a exposição “Açores: Silêncio e Ser” da autoria de Jorge Barros.\nEsta exposição\, organizada pela ALRAA\, com a colaboração do Ecomuseu do Corvo\, ficará patente durante os próximos três meses e pode ser visitada de terça a sexta-feira\, das 11h30 às 12h30 e das 16h30 às 17h30.\nA mesma retrata a interpretação de Jorge Barros sobre a obra de Raúl Brandão: “As Ilhas Desconhecidas Notas e Paisagens”. \nA exposição fotográfica espelha\, de forma única\, a paisagem natural e as vivências das nove ilhas do arquipélago captadas\, entre 2008 a 2011\, por Jorge Barros durante as suas visitas aos Açores. \nJorge Barros é um conceituado fotógrafo\, natural de Alcobaça\, cujo trabalho se encontra reproduzido em diversas publicações\, sendo frequentemente associado a textos de autores de reconhecido mérito.
URL:https://ecomuseu-corvo.cultura.azores.gov.pt/evento/exposicao-acores-silencio-e-ser/
LOCATION:Espaço Cultural Multiusos
CATEGORIES:Exposições
ATTACH;FMTTYPE=image/jpeg:https://ecomuseu-corvo.cultura.azores.gov.pt/wp-content/uploads/2022/03/cartaz_novo-horario.jpg
END:VEVENT
BEGIN:VEVENT
DTSTART;VALUE=DATE:20210518
DTEND;VALUE=DATE:20210519
DTSTAMP:20260425T181134
CREATED:20210510T143445Z
LAST-MODIFIED:20220308T153940Z
UID:641-1621296000-1621382399@ecomuseu-corvo.cultura.azores.gov.pt
SUMMARY:Dia Internacional dos Museus
DESCRIPTION:No dia 18 de maio assinala-se o Dia Internacional dos Museus. Para assinalar este dia a equipa do Ecomuseu do Corvo desafia toda a comunidade a testar os seus conhecimentos sobre o Património e a História do Corvo.\nO desafio consiste em algumas questões de resposta rápida. Para acederem às questões basta fazer a leitura do código QR no telemóvel e testar os vossos conhecimentos. Poderão\, também\, aceder ao seguinte link: https://kahoot.it/ e introduzir o código PIN: 07496304. \nEsperamos excelentes resultados! \nA celebração desta data é feita desde o dia 18 de maio de 1977\, por proposta do ICOM – Conselho Internacional de Museus – com o objetivo de promover\, junto da sociedade\, uma reflexão sobre o papel dos Museus no seu desenvolvimento.
URL:https://ecomuseu-corvo.cultura.azores.gov.pt/evento/dia-internacional-dos-museus/
LOCATION:Ecomuseu do Corvo
CATEGORIES:Datas comemorativas
ATTACH;FMTTYPE=image/png:https://ecomuseu-corvo.cultura.azores.gov.pt/wp-content/uploads/2022/03/Dia-Internacional-dos-Museus-3-Copia.png
END:VEVENT
BEGIN:VEVENT
DTSTART;VALUE=DATE:20210524
DTEND;VALUE=DATE:20220101
DTSTAMP:20260425T181134
CREATED:20210520T125140Z
LAST-MODIFIED:20220308T145325Z
UID:411-1621814400-1640995199@ecomuseu-corvo.cultura.azores.gov.pt
SUMMARY:Exposição Comemorativa dos 150 anos da Casa do Espírito Santo
DESCRIPTION:O Ecomuseu do Corvo vai inaugurar a 24 de maio uma exposição de fotografias comemorativa dos 150 anos da Casa do Espírito Santo do Corvo\, que ficará patente até ao final do ano na Casa do Espírito Santo do Corvo\, localizada no Largo do Outeiro\, no Núcleo Antigo da Vila.\n\n\n\n\nEsta exposição\, constituída por 50 fotografias pertencentes ao Arquivo Fotográfico do Corvo\, procura homenagear esta tradição secular e refletir a evolução que ocorreu ao longo das décadas\, naquelas que são as manifestações associadas ao Culto do Espírito Santo na mais pequena ilha dos Açores e que remontam aos primórdios do povoamento.
URL:https://ecomuseu-corvo.cultura.azores.gov.pt/evento/awesome-event/
LOCATION:Casa do Espírito Santo do Corvo\, Largo do Outeiro
CATEGORIES:Exposições
ATTACH;FMTTYPE=image/png:https://ecomuseu-corvo.cultura.azores.gov.pt/wp-content/uploads/2021/05/cartaz-impressao-horario-2.png
END:VEVENT
END:VCALENDAR