BEGIN:VCALENDAR
VERSION:2.0
PRODID:-//Ecomuseu do Corvo - ECPv6.15.17//NONSGML v1.0//EN
CALSCALE:GREGORIAN
METHOD:PUBLISH
X-WR-CALNAME:Ecomuseu do Corvo
X-ORIGINAL-URL:https://ecomuseu-corvo.cultura.azores.gov.pt
X-WR-CALDESC:Eventos para Ecomuseu do Corvo
REFRESH-INTERVAL;VALUE=DURATION:PT1H
X-Robots-Tag:noindex
X-PUBLISHED-TTL:PT1H
BEGIN:VTIMEZONE
TZID:Atlantic/Azores
BEGIN:DAYLIGHT
TZOFFSETFROM:-0100
TZOFFSETTO:+0000
TZNAME:+00
DTSTART:20250330T010000
END:DAYLIGHT
BEGIN:STANDARD
TZOFFSETFROM:+0000
TZOFFSETTO:-0100
TZNAME:-01
DTSTART:20251026T010000
END:STANDARD
BEGIN:DAYLIGHT
TZOFFSETFROM:-0100
TZOFFSETTO:+0000
TZNAME:+00
DTSTART:20260329T010000
END:DAYLIGHT
BEGIN:STANDARD
TZOFFSETFROM:+0000
TZOFFSETTO:-0100
TZNAME:-01
DTSTART:20261025T010000
END:STANDARD
BEGIN:DAYLIGHT
TZOFFSETFROM:-0100
TZOFFSETTO:+0000
TZNAME:+00
DTSTART:20270328T010000
END:DAYLIGHT
BEGIN:STANDARD
TZOFFSETFROM:+0000
TZOFFSETTO:-0100
TZNAME:-01
DTSTART:20271031T010000
END:STANDARD
END:VTIMEZONE
BEGIN:VEVENT
DTSTART;TZID=Atlantic/Azores:20260121T160000
DTEND;TZID=Atlantic/Azores:20261231T170000
DTSTAMP:20260422T001115
CREATED:20260112T164809Z
LAST-MODIFIED:20260122T164743Z
UID:5004-1769011200-1798736400@ecomuseu-corvo.cultura.azores.gov.pt
SUMMARY:3.ª edição da formação: “A Hora da Barreta”
DESCRIPTION:O Ecomuseu do Corvo informa que abertas as inscrições para a frequência da 3.ª edição da formação: “A Hora da Barreta”.\nPara participar neste workshop em Barretas do Corvo só necessita inscrever-se.\nQuem já se inscreveu no ano transato deverá inscrever-se novamente\, para nos indicar qual o local da sua preferência para frequentar este curso\, uma vez que o mesmo será dinamizado\, em simultâneo\, no Multiusos e na Casa da Memória.\nO curso é gratuito\, terá início a 21 de janeiro de 2026 e decorrerá todas as quartas-feiras\, entre as 16h00 e as 17h00.\nPara mais pormenores e inscrições basta seguir o seguinte link:\nhttps://forms.office.com/e/unPDNHwRt9\nCom esta ação\, iniciada em dezembro de 2023\, o Ecomuseu pretende preservar o saber fazer.\nTrata-se de uma ação prolongada no tempo\, que desenvolvemos semanalmente\, à quarta-feira\, com a duração de apenas uma hora\, onde os inscritos podem comparecer conforme a sua disponibilidade.\nPretende-se\, assim\, transmitir a arte de produzir a típica barreta do Corvo e capacitar a comunidade para a importância da preservação deste património único.\nTal como tem vindo a acontecer\, pretendemos articular esta atividade com os nossos anciãos\, durante a atividade “Encontros com Memória”\, com o intuito de com eles reavivarmos memórias de tempos antigos e aprendermos mais sobre este elemento único do património da ilha do Corvo.\nPara mais informações sobre a barreta típica do Corvo poderá consultar o site do Ecomuseu do Corvo: https://ecomuseu-corvo.cultura.azores.gov.pt/boina-de-la-do-corvo/\nAgradecemos o interesse da comunidade pela preservação do património do Corvo!
URL:https://ecomuseu-corvo.cultura.azores.gov.pt/evento/3-a-edicao-da-formacao-a-hora-da-barreta/
CATEGORIES:Workshops
ATTACH;FMTTYPE=image/png:https://ecomuseu-corvo.cultura.azores.gov.pt/wp-content/uploads/2026/01/Hora-da-barreta_divulgacao--e1768236361421.png
END:VEVENT
BEGIN:VEVENT
DTSTART;TZID=Atlantic/Azores:20260318T153000
DTEND;TZID=Atlantic/Azores:20260506T170000
DTSTAMP:20260422T001115
CREATED:20260304T103324Z
LAST-MODIFIED:20260330T121724Z
UID:5080-1773847800-1778086800@ecomuseu-corvo.cultura.azores.gov.pt
SUMMARY:Extensão Cine’Eco Seia – Festival Internacional de Cinema Ambiental da Serra da Estrela
DESCRIPTION:O Ecomuseu do Corvo\, em parceria com o Cineclube da Ilha Terceira\, irá dinamizar\, pelo quinto ano consecutivo\, a extensão Cine’Eco Seia – Festival Internacional de Cinema Ambiental da Serra da Estrela.\nDurante seis sessões serão exibidos os documentários premiados na 31.ª edição do Cine’Eco\, que decorreu em Seia em 2025.\nAs sessões decorrem entre os dias 18 de março a 6 de maio\, na ilha do Corvo.\nNo dia 18 de março\, pelas 15h30\, decorrerá no Pavilhão Multiusos\, a sessão de abertura desta extensão cinematográfica\, que contará com a presença do Dr. Jorge Bruno Diretor do Cineclube da Ilha Terceira.\nA entrada é gratuita!\nConsulte o programa e marque a sua presença.Programa:https://ecomuseu-corvo.cultura.azores.gov.pt/wp-content/uploads/2026/03/Programacao_Divulgacao_Ilha-do-Corvscaled.jpg \n \n 
URL:https://ecomuseu-corvo.cultura.azores.gov.pt/evento/extensao-cineeco-seia-festival-internacional-de-cinema-ambiental-da-serra-da-estrela-2/
CATEGORIES:Meio ambiente
ATTACH;FMTTYPE=image/jpeg:https://ecomuseu-corvo.cultura.azores.gov.pt/wp-content/uploads/2026/03/Redes_Divulgacao_Ilha-do-Corvo-e1772620597838.jpg
END:VEVENT
BEGIN:VEVENT
DTSTART;TZID=Atlantic/Azores:20260401T203000
DTEND;TZID=Atlantic/Azores:20260506T200000
DTSTAMP:20260422T001115
CREATED:20260330T123004Z
LAST-MODIFIED:20260406T155311Z
UID:5176-1775075400-1778097600@ecomuseu-corvo.cultura.azores.gov.pt
SUMMARY:Fotografia do Mês - Abril
DESCRIPTION:No dia 1 de abril\, será lançada a Fotografia do Mês de Abril de 2026.\nAs informações quanto à identidade das pessoas e o local fotografados poderão ser dadas através da publicação que estará patente no facebook do Ecomuseu do Corvo. \nNecessitamos de ajuda na identificação das pessoas fotografadas e do local onde foi captada a fotografia. A vossa ajuda é preciosa para podermos preservar a História e a Memória da comunidade corvina. Poderá fazer a identificação através dos números constantes na foto\, fazendo um comentário à publicação. \nPoderá\, em alternativa\, endereçar um e-mail ao Ecomuseu do Corvo: ecomuseu.corvo.info@azores.gov.pt. \nA sua participação e contributos são muito importantes e o Ecomuseu agradece. \nO Ecomuseu somos todos nós! \nPara acompanharem o resultado dos vosso contributos deixamos o link do Padlet “A Foto do Mês“.
URL:https://ecomuseu-corvo.cultura.azores.gov.pt/evento/fotografia-do-mes-abril/
CATEGORIES:Fotografia do Mês
ATTACH;FMTTYPE=image/jpeg:https://ecomuseu-corvo.cultura.azores.gov.pt/wp-content/uploads/2026/03/foto-abril.jpg
END:VEVENT
BEGIN:VEVENT
DTSTART;TZID=Atlantic/Azores:20260408T203000
DTEND;TZID=Atlantic/Azores:20260513T200000
DTSTAMP:20260422T001115
CREATED:20260406T123058Z
LAST-MODIFIED:20260330T115234Z
UID:5179-1775680200-1778702400@ecomuseu-corvo.cultura.azores.gov.pt
SUMMARY:Peça do Mês - Abril
DESCRIPTION:No dia 8 de abril\, será lançada a Peça do Mês de Abril de 2026.\nAs informações quanto à denominação e função da peça poderão ser dadas através da publicação que estará patente no facebook do Ecomuseu do Corvo. \nEsta peça pertence Esta peça pertence ao Ecomuseu do Corvo\, graças à amável doação da Srª. Margarida Pimentel. Quem nos sabe dizer que objeto é este e para que seria utilizado? \nA sua participação é muito importante para o trabalho que o Ecomuseu do Corvo está a realizar no âmbito do inventário participativo do património móvel do Corvo. \nO Ecomuseu somos todos nós! Para acompanharem o resultado dos vossos contributos deixamos o link das informações recolhidas da Peça do Mês.
URL:https://ecomuseu-corvo.cultura.azores.gov.pt/evento/peca-do-mes-abril-2/
CATEGORIES:Peça do Mês
ATTACH;FMTTYPE=image/png:https://ecomuseu-corvo.cultura.azores.gov.pt/wp-content/uploads/2026/03/04_2026-1-e1774617780621.png
END:VEVENT
BEGIN:VEVENT
DTSTART;TZID=Atlantic/Azores:20260420T080000
DTEND;TZID=Atlantic/Azores:20260423T170000
DTSTAMP:20260422T001115
CREATED:20260406T144939Z
LAST-MODIFIED:20260420T123219Z
UID:5196-1776672000-1776963600@ecomuseu-corvo.cultura.azores.gov.pt
SUMMARY:Costura Criativa – Do Tear à Costura
DESCRIPTION:O workshop de costura criativa “Do Tear à Costura” convida os participantes a explorar a continuidade entre o trabalho artesanal do tear e a criação de pequenas peças de costura. A partir do tecido produzido no tear\, cada participante poderá confeccionar objetos simples\, como bolsas\, marcadores de livros entre outras peças\, aprendendo pontos básicos de costura e técnicas criativas de reaproveitamento do tecido artesanal. Esta é uma atividade prática que valoriza o saber-fazer tradicional\, promovendo a criatividade e o contacto direto com materiais produzidos localmente. \nTodos os materiais necessários são fornecidos pela organização. \nAs inscrições são limitadas a 6 formandos e podem ser feitas online na seguinte ligação: https://shorturl.at/93bk1\nA seleção dos participantes será realizada com base nos pré-requisitos\, nomeadamente conhecimentos básicos de costura\, de forma a garantir o bom acompanhamento da atividade. \nData: de 20 a 23 de abril entre as 17h30 e as 21h30
URL:https://ecomuseu-corvo.cultura.azores.gov.pt/evento/costura-criativa-do-tear-a-costura/
ATTACH;FMTTYPE=image/jpeg:https://ecomuseu-corvo.cultura.azores.gov.pt/wp-content/uploads/2026/04/costura.jpg
END:VEVENT
BEGIN:VEVENT
DTSTART;TZID=Atlantic/Azores:20260420T203000
DTEND;TZID=Atlantic/Azores:20260504T200000
DTSTAMP:20260422T001115
CREATED:20260417T123012Z
LAST-MODIFIED:20260330T115156Z
UID:5174-1776717000-1777924800@ecomuseu-corvo.cultura.azores.gov.pt
SUMMARY:Desafio "Falar Corvino"
DESCRIPTION:No dia 20 de abril\, será lançado um novo desafio “Falar Corvino”.\nAs sugestões quanto ao significado da palavra ou expressão serão dadas através da publicação que estará patente no facebook do Ecomuseu do Corvo. \nNão hesitem em contactar-nos com as vossas sugestões.\nObrigada a todos pela participação e pelos contributos que nos têm enviado.\nPara acompanharem o resultado das vossas sugestões deixamos o link do glossário “Falar Corvino”.
URL:https://ecomuseu-corvo.cultura.azores.gov.pt/evento/desafio-falar-corvino-27/
CATEGORIES:Falar Corvino,Património Imaterial
ATTACH;FMTTYPE=image/png:https://ecomuseu-corvo.cultura.azores.gov.pt/wp-content/uploads/2026/03/15-e1774615475328.png
END:VEVENT
BEGIN:VEVENT
DTSTART;TZID=Atlantic/Azores:20260422T093000
DTEND;TZID=Atlantic/Azores:20260422T113000
DTSTAMP:20260422T001115
CREATED:20260420T120153Z
LAST-MODIFIED:20260420T123203Z
UID:5228-1776850200-1776857400@ecomuseu-corvo.cultura.azores.gov.pt
SUMMARY:Artistas no Ecomuseu – Moinhos de Vento do Corvo
DESCRIPTION:No próximo dia 22 de abril\, pelas 09h30\, retomam-se as atividades do programa “Artistas no Ecomuseu”\, uma iniciativa dedicada à expressão criativa das crianças\, promovendo a descoberta de tradições\, histórias e manifestações artísticas que integram o património cultural da nossa comunidade.\n\n\nNesta sessão\, a temática abordada serão os Moinhos de Vento do Corvo e o processo de moagem e fabrico de farinha\, sublinhando a relevância histórica e simbólica desta atividade na preservação das identidades locais.\nA iniciativa tem como objetivo fortalecer os laços comunitários\, valorizar a diversidade cultural e sensibilizar os participantes para a importância de proteger e celebrar o nosso património artístico e imaterial.\nConvidamos todos os pequenos artistas a juntarem-se a nós para uma manhã repleta de imaginação\, partilha e criatividade.
URL:https://ecomuseu-corvo.cultura.azores.gov.pt/evento/artistas-no-ecomuseu-moinhos-de-vento-do-corvo/
CATEGORIES:Artista no Ecomuseu
ATTACH;FMTTYPE=image/png:https://ecomuseu-corvo.cultura.azores.gov.pt/wp-content/uploads/2026/04/cartaz_22_04-e1776687233535.png
END:VEVENT
BEGIN:VEVENT
DTSTART;TZID=Atlantic/Azores:20260423T153000
DTEND;TZID=Atlantic/Azores:20260423T173000
DTSTAMP:20260422T001115
CREATED:20260420T115603Z
LAST-MODIFIED:20260420T121250Z
UID:5223-1776958200-1776965400@ecomuseu-corvo.cultura.azores.gov.pt
SUMMARY:Encontros com Memória
DESCRIPTION:No âmbito da continuidade da atividade mensal “Encontros com Memória”\, o Ecomuseu do Corvo realizará\, no dia 23 de abril\, em articulação com a Santa Casa da Misericórdia do Corvo\, mais um encontro desta iniciativa\, que visa promover a inclusão\, a participação ativa e a valorização dos mais velhos na vida cultural da ilha.\nEsta ação reafirma o compromisso do Ecomuseu com a integração da população sénior\, reconhecendo o seu papel fundamental enquanto detentora de saberes\, memórias e vivências essenciais à preservação da identidade e do património corvino.\nA sessão deste mês será dedicada aos Moinhos de Vento e à moagem\, destacando a importância destes elementos na história\, cultura e património do Corvo\, num momento de partilha intergeracional e de construção coletiva da memória local.
URL:https://ecomuseu-corvo.cultura.azores.gov.pt/evento/encontros-com-memoria-6/
CATEGORIES:Encontros com Memória,Projeto social
ATTACH;FMTTYPE=image/png:https://ecomuseu-corvo.cultura.azores.gov.pt/wp-content/uploads/2026/02/Divulgacao-e1776686317649.png
END:VEVENT
BEGIN:VEVENT
DTSTART;TZID=Atlantic/Azores:20260425T143000
DTEND;TZID=Atlantic/Azores:20260425T170000
DTSTAMP:20260422T001115
CREATED:20260420T115456Z
LAST-MODIFIED:20260420T115456Z
UID:5225-1777127400-1777136400@ecomuseu-corvo.cultura.azores.gov.pt
SUMMARY:Dia Aberto dos Moinhos- Moinhos que celebram Abril
DESCRIPTION:O Ecomuseu do Corvo promove\, no próximo dia 25 de abril\, a partir das 14h30\, o Dia Aberto dos Moinhos\, sob o mote “Moinhos que celebram Abril”.\nOs moinhos de vento\, tal como as eiras e a atafona do Lourenço\, constituem testemunhos de um passado não muito distante\, em que os cereais assumiam um papel central na alimentação da população e em que o trigo funcionava como moeda de pagamento dos pesados impostos a que a comunidade corvina esteve sujeita até ao século XIX.\nCom esta iniciativa pretende‑se dar vida a este património\, alertar para o inestimável valor patrimonial dos moinhos tradicionais\, valorizar as memórias e tradições a eles associadas e contribuir para a sua salvaguarda. Em simultâneo\, procura‑se fomentar processos educativos e de capacitação da comunidade.\nAo longo do dia\, a comunidade\, em especial os mais jovens\, terá a oportunidade de conhecer todo o processo de moagem\, desde a montagem das velas\, o rodar e a fixação da carapuça\, a moagem propriamente dita\, a travagem e o controlo do grão\, culminando no ensacar da farinha\, na pesagem e no pagamento ao moleiro.\nPara a concretização desta atividade contaremos com a preciosa colaboração dos proprietários dos moinhos e dos anciãos da ilha\, verdadeiros testemunhos vivos desta prática ancestral\, que assumirão o papel de guias e intérpretes.\nEm paralelo\, decorrerão diversas atividades complementares\, nomeadamente\, exposições\, mostras artesanais\, o jogo “Segredos ao Vento – A Aventura dos Moinhos do Corvo”\, destinado aos mais jovens\, jogos do património\, desafios do “Falar Corvino”\, bem como outras ações associadas a este evento e à comemoração do 52.º aniversário da Revolução de 25 de Abril.\nConvidamos toda a comunidade a participar neste dia de celebração do património\, da Liberdade\, da Democracia e da Paz.\nNota: Tratando‑se de uma atividade ao ar livre\, a sua realização está dependente das condições meteorológicas.
URL:https://ecomuseu-corvo.cultura.azores.gov.pt/evento/dia-aberto-dos-moinhos-moinhos-que-celebram-abril-2/
ATTACH;FMTTYPE=image/jpeg:https://ecomuseu-corvo.cultura.azores.gov.pt/wp-content/uploads/2026/04/Div_Moinhos26_DestaquePortal.jpg
END:VEVENT
END:VCALENDAR