BEGIN:VCALENDAR
VERSION:2.0
PRODID:-//Ecomuseu do Corvo - ECPv6.15.17//NONSGML v1.0//EN
CALSCALE:GREGORIAN
METHOD:PUBLISH
X-WR-CALNAME:Ecomuseu do Corvo
X-ORIGINAL-URL:https://ecomuseu-corvo.cultura.azores.gov.pt
X-WR-CALDESC:Eventos para Ecomuseu do Corvo
REFRESH-INTERVAL;VALUE=DURATION:PT1H
X-Robots-Tag:noindex
X-PUBLISHED-TTL:PT1H
BEGIN:VTIMEZONE
TZID:Atlantic/Azores
BEGIN:DAYLIGHT
TZOFFSETFROM:-0100
TZOFFSETTO:+0000
TZNAME:+00
DTSTART:20250330T010000
END:DAYLIGHT
BEGIN:STANDARD
TZOFFSETFROM:+0000
TZOFFSETTO:-0100
TZNAME:-01
DTSTART:20251026T010000
END:STANDARD
BEGIN:DAYLIGHT
TZOFFSETFROM:-0100
TZOFFSETTO:+0000
TZNAME:+00
DTSTART:20260329T010000
END:DAYLIGHT
BEGIN:STANDARD
TZOFFSETFROM:+0000
TZOFFSETTO:-0100
TZNAME:-01
DTSTART:20261025T010000
END:STANDARD
BEGIN:DAYLIGHT
TZOFFSETFROM:-0100
TZOFFSETTO:+0000
TZNAME:+00
DTSTART:20270328T010000
END:DAYLIGHT
BEGIN:STANDARD
TZOFFSETFROM:+0000
TZOFFSETTO:-0100
TZNAME:-01
DTSTART:20271031T010000
END:STANDARD
END:VTIMEZONE
BEGIN:VEVENT
DTSTART;TZID=Atlantic/Azores:20260121T160000
DTEND;TZID=Atlantic/Azores:20261231T170000
DTSTAMP:20260425T164900
CREATED:20260112T164809Z
LAST-MODIFIED:20260122T164743Z
UID:5004-1769011200-1798736400@ecomuseu-corvo.cultura.azores.gov.pt
SUMMARY:3.ª edição da formação: “A Hora da Barreta”
DESCRIPTION:O Ecomuseu do Corvo informa que abertas as inscrições para a frequência da 3.ª edição da formação: “A Hora da Barreta”.\nPara participar neste workshop em Barretas do Corvo só necessita inscrever-se.\nQuem já se inscreveu no ano transato deverá inscrever-se novamente\, para nos indicar qual o local da sua preferência para frequentar este curso\, uma vez que o mesmo será dinamizado\, em simultâneo\, no Multiusos e na Casa da Memória.\nO curso é gratuito\, terá início a 21 de janeiro de 2026 e decorrerá todas as quartas-feiras\, entre as 16h00 e as 17h00.\nPara mais pormenores e inscrições basta seguir o seguinte link:\nhttps://forms.office.com/e/unPDNHwRt9\nCom esta ação\, iniciada em dezembro de 2023\, o Ecomuseu pretende preservar o saber fazer.\nTrata-se de uma ação prolongada no tempo\, que desenvolvemos semanalmente\, à quarta-feira\, com a duração de apenas uma hora\, onde os inscritos podem comparecer conforme a sua disponibilidade.\nPretende-se\, assim\, transmitir a arte de produzir a típica barreta do Corvo e capacitar a comunidade para a importância da preservação deste património único.\nTal como tem vindo a acontecer\, pretendemos articular esta atividade com os nossos anciãos\, durante a atividade “Encontros com Memória”\, com o intuito de com eles reavivarmos memórias de tempos antigos e aprendermos mais sobre este elemento único do património da ilha do Corvo.\nPara mais informações sobre a barreta típica do Corvo poderá consultar o site do Ecomuseu do Corvo: https://ecomuseu-corvo.cultura.azores.gov.pt/boina-de-la-do-corvo/\nAgradecemos o interesse da comunidade pela preservação do património do Corvo!
URL:https://ecomuseu-corvo.cultura.azores.gov.pt/evento/3-a-edicao-da-formacao-a-hora-da-barreta/
CATEGORIES:Workshops
ATTACH;FMTTYPE=image/png:https://ecomuseu-corvo.cultura.azores.gov.pt/wp-content/uploads/2026/01/Hora-da-barreta_divulgacao--e1768236361421.png
END:VEVENT
BEGIN:VEVENT
DTSTART;TZID=Atlantic/Azores:20260122T080000
DTEND;TZID=Atlantic/Azores:20260131T170000
DTSTAMP:20260425T164900
CREATED:20260122T165229Z
LAST-MODIFIED:20260122T165259Z
UID:5037-1769068800-1769878800@ecomuseu-corvo.cultura.azores.gov.pt
SUMMARY:A Feira do Feira do Livro continua até 31 de janeiro
DESCRIPTION:Devido ao enorme carinho e entusiasmo da nossa comunidade\, a 2.ª Feira do Livro do Ecomuseu do Corvo será prolongada até ao final do mês de janeiro.\nPorque os livros iluminam os nossos dias\, despertam sonhos e aquecem o coração\, queremos dar mais tempo para descobrir histórias que inspiram e transformam.\n“Ler é viajar sem sair de casa\, é voar mesmo sem ter asas e crescer sem mudar de estatura.” António Costta\nDeixe‑se envolver pela magia da leitura\, porque cada página que abrimos não só emociona\, como educa. Ler amplia a nossa sensibilidade\, fortalece o pensamento e ajuda-nos a compreender melhor a nós mesmos e ao mundo.\nÉ através dos livros que crescemos por dentro\, despertamos novas ideias e descobrimos horizontes que jamais imaginaríamos alcançar.\nVisite-nos até 31 de janeiro.\n\n\nO Ecomuseu do Corvo agradece a todos os que tornam esta feira tão especial.
URL:https://ecomuseu-corvo.cultura.azores.gov.pt/evento/a-feira-do-feira-do-livro-continua-ate-31-de-janeiro/
CATEGORIES:Literatura
ATTACH;FMTTYPE=image/png:https://ecomuseu-corvo.cultura.azores.gov.pt/wp-content/uploads/2026/01/feira-do-livro_janeiro-e1769100724171.png
END:VEVENT
END:VCALENDAR