BEGIN:VCALENDAR
VERSION:2.0
PRODID:-//Ecomuseu do Corvo - ECPv6.15.17//NONSGML v1.0//EN
CALSCALE:GREGORIAN
METHOD:PUBLISH
X-WR-CALNAME:Ecomuseu do Corvo
X-ORIGINAL-URL:https://ecomuseu-corvo.cultura.azores.gov.pt
X-WR-CALDESC:Eventos para Ecomuseu do Corvo
REFRESH-INTERVAL;VALUE=DURATION:PT1H
X-Robots-Tag:noindex
X-PUBLISHED-TTL:PT1H
BEGIN:VTIMEZONE
TZID:Atlantic/Azores
BEGIN:DAYLIGHT
TZOFFSETFROM:-0100
TZOFFSETTO:+0000
TZNAME:+00
DTSTART:20240331T010000
END:DAYLIGHT
BEGIN:STANDARD
TZOFFSETFROM:+0000
TZOFFSETTO:-0100
TZNAME:-01
DTSTART:20241027T010000
END:STANDARD
BEGIN:DAYLIGHT
TZOFFSETFROM:-0100
TZOFFSETTO:+0000
TZNAME:+00
DTSTART:20250330T010000
END:DAYLIGHT
BEGIN:STANDARD
TZOFFSETFROM:+0000
TZOFFSETTO:-0100
TZNAME:-01
DTSTART:20251026T010000
END:STANDARD
BEGIN:DAYLIGHT
TZOFFSETFROM:-0100
TZOFFSETTO:+0000
TZNAME:+00
DTSTART:20260329T010000
END:DAYLIGHT
BEGIN:STANDARD
TZOFFSETFROM:+0000
TZOFFSETTO:-0100
TZNAME:-01
DTSTART:20261025T010000
END:STANDARD
BEGIN:DAYLIGHT
TZOFFSETFROM:-0100
TZOFFSETTO:+0000
TZNAME:+00
DTSTART:20270328T010000
END:DAYLIGHT
BEGIN:STANDARD
TZOFFSETFROM:+0000
TZOFFSETTO:-0100
TZNAME:-01
DTSTART:20271031T010000
END:STANDARD
END:VTIMEZONE
BEGIN:VEVENT
DTSTART;TZID=Atlantic/Azores:20251202T080000
DTEND;TZID=Atlantic/Azores:20260112T170000
DTSTAMP:20260425T112322
CREATED:20251127T184826Z
LAST-MODIFIED:20260122T165343Z
UID:4924-1764662400-1768237200@ecomuseu-corvo.cultura.azores.gov.pt
SUMMARY:2.ª Feira do Livro do Ecomuseu do Corvo
DESCRIPTION:Em sintonia com os objetivos do Plano Regional de Leitura\, o Ecomuseu do Corvo realiza\, durante o mês de dezembro\, a 2.ª Feira do Livro.\nEsta iniciativa pretende aproximar o livro das pessoas\, transformando-o num verdadeiro instrumento de acesso à informação\, ao conhecimento e à imaginação. Queremos incentivar o prazer da leitura e criar oportunidades para ampliar a cultura através do lazer e do entretenimento.\nEste ano a feira acontece numa época muito especial: o Natal.\nOfereça livros neste Natal!\nOs livros abrem portas para mundos mágicos\, ajudam-nos a pensar e a escrever\, não precisam de baterias e estão sempre disponíveis para nos acompanhar.\nVisite a nossa feira e descubra o poder dos livros!
URL:https://ecomuseu-corvo.cultura.azores.gov.pt/evento/2-a-feira-do-livro-do-ecomuseu-do-corvo/
CATEGORIES:Feira do Livro
ATTACH;FMTTYPE=image/png:https://ecomuseu-corvo.cultura.azores.gov.pt/wp-content/uploads/2025/11/cartaz-e1764269269625.png
END:VEVENT
BEGIN:VEVENT
DTSTART;TZID=Atlantic/Azores:20251229T203000
DTEND;TZID=Atlantic/Azores:20260105T200000
DTSTAMP:20260425T112322
CREATED:20251226T160008Z
LAST-MODIFIED:20251223T134157Z
UID:4977-1767040200-1767643200@ecomuseu-corvo.cultura.azores.gov.pt
SUMMARY:Desafio "Falar Corvino"
DESCRIPTION:No dia 29 de dezembro\, será lançado o novo desafio “Falar Corvino” da semana.\nAs sugestões quanto ao significado da palavra ou expressão serão dadas através da publicação que estará patente no facebook do Ecomuseu do Corvo. \nNão hesitem em contactar-nos com as vossas sugestões.\nObrigada a todos pela participação e pelos contributos que nos têm enviado.\nPara acompanharem o resultado das vossas sugestões deixamos o link do glossário “Falar Corvino”.
URL:https://ecomuseu-corvo.cultura.azores.gov.pt/evento/desafio-falar-corvino-15/
CATEGORIES:Falar Corvino,Património Imaterial
ATTACH;FMTTYPE=image/png:https://ecomuseu-corvo.cultura.azores.gov.pt/wp-content/uploads/2025/12/52-e1766161296904.png
END:VEVENT
BEGIN:VEVENT
DTSTART;TZID=Atlantic/Azores:20260103T180000
DTEND;TZID=Atlantic/Azores:20260103T220000
DTSTAMP:20260425T112322
CREATED:20251223T140345Z
LAST-MODIFIED:20260112T164825Z
UID:4988-1767463200-1767477600@ecomuseu-corvo.cultura.azores.gov.pt
SUMMARY:Minimaratona de Leitura de Moby Dick.
DESCRIPTION:O Ecomuseu do Corvo junta-se\, pela primeira vez\, à Minimaratona de Leitura de Moby Dick.\nA iniciativa terá lugar no dia 3 de janeiro de 2026\, às 18h00\, no Pavilhão Multiusos do Corvo.\nEsta atividade é promovida pelo Museu de Angra do Heroísmo\, em parceria com o OMA – Observatório do Mar dos Açores\, o New Bedford Whaling Museum\, o Museu das Flores\, o Museu da Baleia da Madeira (MBM)\, a Biblioteca Nacional de Cabo Verde\, o Museu de Santa Maria e o Museu Marítimo de Sesimbra.\nO objetivo é reforçar a rede cultural lusófona e atlântica\, celebrando a vitalidade da leitura pública e o poder simbólico desta obra\, considerada uma das maiores criações da literatura mundial.\nPublicado em 1851\, Moby Dick\, de Herman Melville\, permanece um clássico intemporal que nos convida a refletir sobre os limites da ambição humana e a eterna luta entre razão e instinto.\nA Minimaratona será realizada em simultâneo por todas as instituições participantes\, cada uma dinamizando a leitura localmente. No Corvo\, os excertos serão lidos por participantes da comunidade.\nOs textos serão disponibilizados aos leitores com antecedência.\nAs inscrições para leitores estão abertas a crianças e adultos e podem ser feitas através dos seguintes endereços de e-mail:ecomuseu.corvo.info@azores.gov.pt e ana.tl.mota@azores.gov.pt\nContamos com a sua participação nesta celebração de uma obra fundamental para a cultura lusófona e atlântica!
URL:https://ecomuseu-corvo.cultura.azores.gov.pt/evento/minimaratona-de-leitura-de-moby-dick/
CATEGORIES:Literatura
ATTACH;FMTTYPE=image/jpeg:https://ecomuseu-corvo.cultura.azores.gov.pt/wp-content/uploads/2025/12/moby-e1766498611393.jpg
END:VEVENT
END:VCALENDAR