BEGIN:VCALENDAR
VERSION:2.0
PRODID:-//Ecomuseu do Corvo - ECPv6.15.17//NONSGML v1.0//EN
CALSCALE:GREGORIAN
METHOD:PUBLISH
X-WR-CALNAME:Ecomuseu do Corvo
X-ORIGINAL-URL:https://ecomuseu-corvo.cultura.azores.gov.pt
X-WR-CALDESC:Eventos para Ecomuseu do Corvo
REFRESH-INTERVAL;VALUE=DURATION:PT1H
X-Robots-Tag:noindex
X-PUBLISHED-TTL:PT1H
BEGIN:VTIMEZONE
TZID:Atlantic/Azores
BEGIN:DAYLIGHT
TZOFFSETFROM:-0100
TZOFFSETTO:+0000
TZNAME:+00
DTSTART:20240331T010000
END:DAYLIGHT
BEGIN:STANDARD
TZOFFSETFROM:+0000
TZOFFSETTO:-0100
TZNAME:-01
DTSTART:20241027T010000
END:STANDARD
BEGIN:DAYLIGHT
TZOFFSETFROM:-0100
TZOFFSETTO:+0000
TZNAME:+00
DTSTART:20250330T010000
END:DAYLIGHT
BEGIN:STANDARD
TZOFFSETFROM:+0000
TZOFFSETTO:-0100
TZNAME:-01
DTSTART:20251026T010000
END:STANDARD
BEGIN:DAYLIGHT
TZOFFSETFROM:-0100
TZOFFSETTO:+0000
TZNAME:+00
DTSTART:20260329T010000
END:DAYLIGHT
BEGIN:STANDARD
TZOFFSETFROM:+0000
TZOFFSETTO:-0100
TZNAME:-01
DTSTART:20261025T010000
END:STANDARD
END:VTIMEZONE
BEGIN:VEVENT
DTSTART;TZID=Atlantic/Azores:20250110T080000
DTEND;TZID=Atlantic/Azores:20251231T170000
DTSTAMP:20260425T165707
CREATED:20250110T182624Z
LAST-MODIFIED:20250124T142443Z
UID:4166-1736496000-1767200400@ecomuseu-corvo.cultura.azores.gov.pt
SUMMARY:Grupo de colaboradores do Ecomuseu
DESCRIPTION:Grupo de Colaboradores do Ecomuseu do Corvo \n“Os Grupos de [colaboradores] de Museus e Monumentos são associações sem fins lucrativos\, constituídos por pessoas individuais ou coletivas que decidem desenvolver iniciativas e atividades em prol do estudo\, inventário\, preservação e valorização dos bens imóveis e móveis geridos pelas entidades museológicas e patrimoniais.\nDe um modo geral\, [estes Grupos]\, através do trabalho voluntário e do mecenato\, têm como objetivos da sua atividade o enriquecimento das coleções\, a promoção de investigação\, a realização de exposições\, a edição de publicações\, o desenvolvimento de ações de formação\, a defesa do património próprio e o existente nas áreas envolventes de museus e monumentos e a cooperação com outras entidades empenhadas na defesa e valorização do Património Cultural.”\nin\, Direção-Geral do Património Cultural (DGPC)\nConsideramos\, assim\, da máxima importância dar continuidade à dinamização de um grupo de colaboradores do Ecomuseu do Corvo que possa contribuir para o desenvolvimento local\, preservação e valorização do Património e da Memória Histórica da ilha do Corvo. Um Património que é de todos nós!\nSe ainda não faz parte deste grupo preencha\, por favor\, o presente formulário ( https://forms.office.com/r/64jqpPxMZn). O tratamento dos dados pessoais será limitado à finalidade para a qual os dados são recolhidos.\nObjetivos:\n– Divulgar o trabalho do Ecomuseu e o Património corvino nas suas múltiplas vertentes e dimensões;\n– Criar uma rede de colaboradores que possa contribuir\, de acordo com as suas aspirações\, conhecimento e experiência\, para o trabalho do Ecomuseu;\n– Assegurar o envolvimento da comunidade nos processos ecomuseológicos;\n– Incentivar à apropriação consciente do Património\, por parte da comunidade que é sua herdeira;\n– Contribuir com ideias de projetos que possam promover a valorização\, salvaguarda e transmissão do património corvino\, com vista ao desenvolvimento local que o Ecomuseu prevê.\nSendo este um Museu de Território\, onde a Comunidade é a protagonista\, é nosso dever garantir e incentivar o envolvimento desta\, pois também eles são os atores no processo dinâmico que é o Ecomuseu. Assim\, propõe-se a ampliação de uma “rede de amigos e colaboradores” que inclua todos aqueles que entenderem colaborar e trabalhar com a equipa do Ecomuseu nas várias ações e projetos que se pretendem desenvolver.\nAs “novas” práticas museológicas e\, em particular\, o nosso Ecomuseu tem assumido um papel importante na conservação e valorização do património natural e cultural nas suas diferentes vertentes e\, também\, nos processos de desenvolvimento do território que se vão alargando continuamente\, e que incluam todos aqueles que entenderem colaborar e trabalhar com a equipa do Ecomuseu. O Ecomuseu do Corvo assume-se como um verdadeiro centro de conservação da Memória e da Identidade cultural da Ilha do Corvo e dos seus habitantes. O seu contributo e colaboração são muito importantes para o Ecomuseu\, pois o Ecomuseu somos todos nós!\nObrigada por colaborar e contribuir para que o Ecomuseu do Corvo prossiga a sua Missão!\nA equipa do Ecomuseu do Corvo
URL:https://ecomuseu-corvo.cultura.azores.gov.pt/evento/grupo-de-colaboradores-do-ecomuseu/
CATEGORIES:Divulgação
ATTACH;FMTTYPE=image/png:https://ecomuseu-corvo.cultura.azores.gov.pt/wp-content/uploads/2025/01/Grupo-de-amigos-e1736533543134.png
END:VEVENT
BEGIN:VEVENT
DTSTART;TZID=Atlantic/Azores:20250205T160000
DTEND;TZID=Atlantic/Azores:20251231T170000
DTSTAMP:20260425T165707
CREATED:20250124T140548Z
LAST-MODIFIED:20250124T143933Z
UID:4184-1738771200-1767200400@ecomuseu-corvo.cultura.azores.gov.pt
SUMMARY:Workshop: A Hora da Barreta
DESCRIPTION:Vimos informar que estão abertas as inscrições para a frequência da 2.ª edição da formação: “A Hora da Barreta”.\nPara participar neste workshop em Barretas do Corvo só necessita inscrever-se.\nQuem já se inscreveu no ano transato deverá inscrever-se novamente\, para nos indicar qual o local da sua preferência para frequentar este curso\, uma vez que o mesmo será dinamizado\, em simultâneo\, no Multiusos e na Casa da Memória.\nO curso é gratuito\, terá início a 05 de fevereiro de 2025 e decorrerá todas as quartas-feiras\, entre as 16h00 e as 17h00.\nPara mais pormenores e inscrições basta seguir o seguinte link:\nhttps://forms.office.com/e/bwubj05Jbm?origin=lprLinkhttps://forms.office.com/e/bwubj05Jbm?origin=lprLink\nCom esta ação\, iniciada em dezembro de 2023\, o Ecomuseu pretende preservar o saber fazer.\nTrata-se de uma ação prolongada no tempo\, que desenvolvemos semanalmente\, à quarta-feira\, com a duração de apenas uma hora\, onde os inscritos podem comparecer conforme a sua disponibilidade.\nPretende-se\, assim\, transmitir a arte de produzir a típica barreta do Corvo e capacitar a comunidade para a importância da preservação deste património único.\nTal como tem vindo a acontecer\, pretendemos articular esta atividade com os nossos anciãos\, durante a atividade “Encontros com Memória”\, com o intuito de com eles reavivarmos memórias de tempos antigos e aprendermos mais sobre este elemento único do património da ilha do Corvo. \nMais informações sobre a barreta típica do Corvo poderá consultar »»
URL:https://ecomuseu-corvo.cultura.azores.gov.pt/evento/workshop-a-hora-da-barreta/
CATEGORIES:Oficinas/Cursos/Workshops
ATTACH;FMTTYPE=image/png:https://ecomuseu-corvo.cultura.azores.gov.pt/wp-content/uploads/2025/01/Hora-da-barreta--e1737727513186.png
END:VEVENT
BEGIN:VEVENT
DTSTART;TZID=Atlantic/Azores:20250801T080000
DTEND;TZID=Atlantic/Azores:20250930T170000
DTSTAMP:20260425T165707
CREATED:20250721T174848Z
LAST-MODIFIED:20250916T173038Z
UID:4664-1754035200-1759251600@ecomuseu-corvo.cultura.azores.gov.pt
SUMMARY:Exposição Participativa - A Arte Secular do Trabalho da Lã nos Açores: Da Tosquia ao Lar
DESCRIPTION:Pela primeira vez\, os oito museus públicos da Região Autónoma dos Açores reúnem-se numa exposição conjunta\, em colaboração com o Ecomuseu do Corvo e com a comunidade corvina\, para construir um retrato insular do ciclo tradicional da lã – da tosquia ao lar. \nDurante séculos\, a lã foi um pilar da economia doméstica e da coesão social nas ilhas. Esta exposição participativa recorda os gestos\, as ferramentas\, os saberes e as histórias que fizeram da lã muito mais do que um recurso: um símbolo de sobrevivência\, entreajuda e identidade. \nA exposição será inaugurada na sexta-feira\, 1 de agosto\, às 17h45\, no edifício Multiusos do Corvo\, e estará patente até 31 de setembro de 2025\, no seguinte horário: de segunda a sexta-feira\, das 10h00 às 12h30 e das 14h00 às 16h30. \nA mostra reúne peças etnográficas dos oito museus dos Açores\, do Ecomuseu do Corvo  e objetos cedidos\, temporariamente\, pela comunidade do Corvo – colchas\, camisoulas\, camurças\, camisolas\, barretes\, cardas\, fusos\, sarilhos e outros fragmentos de um tempo em que a lã fazia parte de todos os lares. \nO percurso expositivo alia tradição e inovação: com conteúdos bilingues (português-inglês)\, acessíveis por QR code\, pensados para um público atento\, curioso e emocionalmente ligado à história da sua terra. \nEsta exposição é um elogio ao labor invisível e uma homenagem às mãos que fiaram\, teceram e transmitiram saberes entre gerações. \n“Isto bem pensado faz chorar pedras”\, disse Alfredo Emílio.\nQue esta mostra faça sentir\, lembrar e entrelaçar os fios que ainda nos ligam ao que fomos. \nEntrada livre. Toda a comunidade está convidada.
URL:https://ecomuseu-corvo.cultura.azores.gov.pt/evento/exposicao-participativa-a-arte-secular-do-trabalho-da-la-nos-acores-da-tosquia-ao-lar/
CATEGORIES:Exposições
ATTACH;FMTTYPE=image/jpeg:https://ecomuseu-corvo.cultura.azores.gov.pt/wp-content/uploads/2025/07/Div_ExpoLa_DestaqueCA-e1753120219589.jpg
END:VEVENT
BEGIN:VEVENT
DTSTART;TZID=Atlantic/Azores:20250920T080000
DTEND;TZID=Atlantic/Azores:20250925T170000
DTSTAMP:20260425T165707
CREATED:20250916T172259Z
LAST-MODIFIED:20250916T192302Z
UID:4802-1758355200-1758819600@ecomuseu-corvo.cultura.azores.gov.pt
SUMMARY:5.ª Campanha do Património do Corvo
DESCRIPTION:No coração do Atlântico\, a mais pequena ilha dos Açores volta a afirmar-se como guardiã da sua memória coletiva. O Ecomuseu do Corvo\, em estreita articulação com a comunidade local\, promove de 𝟐𝟎 𝐚 𝟐𝟓 𝐝𝐞 𝐬𝐞𝐭𝐞𝐦𝐛𝐫𝐨 𝐚 𝟓.ª 𝐂𝐚𝐦𝐩𝐚𝐧𝐡𝐚 𝐝𝐨 𝐏𝐚𝐭𝐫𝐢𝐦𝐨́𝐧𝐢𝐨 𝐝𝐨 𝐂𝐨𝐫𝐯𝐨\, uma iniciativa realizada ininterruptamente desde 2021 e já reconhecida como marca identitária da ilha.\nO programa desta edição integra momentos de forte simbolismo cultural e comunitário:\n𝟐𝟎 𝐝𝐞 𝐬𝐞𝐭𝐞𝐦𝐛𝐫𝐨 – 𝐋𝐚𝐫𝐠𝐨 𝐝𝐨 𝐎𝐮𝐭𝐞𝐢𝐫𝐨 𝐞 𝐂𝐚𝐬𝐚 𝐝𝐚 𝐌𝐞𝐦𝐨́𝐫𝐢𝐚\n𝟐𝟎𝐡𝟎𝟎 – Inauguração de uma placa evocativa em homenagem a José Leite de Vasconcelos\, figura maior dos estudos da língua\, da arqueologia e das tradições populares em Portugal\, considerado o pai da etnografia e da arqueologia científica no país.\n𝟐𝟎𝐡𝟏𝟓 Inauguração da Casa da Memória\, novo espaço dedicado à preservação da história corvina; abertura da exposição de longa duração “Ilha do Corvo Marcas de um Passado”; e lançamento do respetivo catálogo\, que será oferecido a todos os presentes.\n𝟐𝟎𝐡𝟑𝟎 – Apresentação do livro “Arqueologia no Corvo Um percurso com a Comunidade”\, com a presença dos autores José Luís Neto e Pedro Parreira\, seguida de convívio cultural. Cada participante receberá um exemplar da obra.\nAs celebrações do dia 20 encerram com um convívio cultural junto à Casa da Memória.\n𝟐𝟐 𝐚 𝟐𝟓 𝐝𝐞 𝐬𝐞𝐭𝐞𝐦𝐛𝐫𝐨\nWorkshop em Conservação e Intervenção Preventiva do Património Móvel\, orientado pelo técnico Paulo da Silveira\, em regime de porta aberta. O trabalho decorrerá no Multiusos e\, a partir do dia 23 de setembro\, também nas Casas da Rua do Porto da Casa\, entre as 09h30 e as 12h30 e as 13h30 e as 17h30.\n𝐀 𝐩𝐚𝐫𝐭𝐢𝐫 𝐝𝐞 𝟐𝟐 𝐝𝐞 𝐬𝐞𝐭𝐞𝐦𝐛𝐫𝐨\nSerão realizadas diversas ações de recolha de património material e imaterial\, reforçando a participação ativa da comunidade. Estas iniciativas têm como objetivo central a sensibilização para a importância do património cultural\, numa perspetiva de futuro partilhado.\nMais do que um programa de atividades\, a Campanha do Património do Corvo é uma celebração da identidade da ilha: cada barreta\, cada fechadura\, cada objeto do quotidiano transporta consigo memórias de gerações e constrói pontes entre o passado\, o presente e o futuro.\nO Ecomuseu somos todos nós.\nTodas as atividades são abertas à comunidade.
URL:https://ecomuseu-corvo.cultura.azores.gov.pt/evento/5o-camapanha-do-patrimonio-do-corvo/
CATEGORIES:Património
ATTACH;FMTTYPE=image/png:https://ecomuseu-corvo.cultura.azores.gov.pt/wp-content/uploads/2025/09/Banner_campanha-do-Patrimonio-e1758048746182.png
END:VEVENT
END:VCALENDAR