BEGIN:VCALENDAR
VERSION:2.0
PRODID:-//Ecomuseu do Corvo - ECPv6.15.17//NONSGML v1.0//EN
CALSCALE:GREGORIAN
METHOD:PUBLISH
X-WR-CALNAME:Ecomuseu do Corvo
X-ORIGINAL-URL:https://ecomuseu-corvo.cultura.azores.gov.pt
X-WR-CALDESC:Eventos para Ecomuseu do Corvo
REFRESH-INTERVAL;VALUE=DURATION:PT1H
X-Robots-Tag:noindex
X-PUBLISHED-TTL:PT1H
BEGIN:VTIMEZONE
TZID:Atlantic/Azores
BEGIN:DAYLIGHT
TZOFFSETFROM:-0100
TZOFFSETTO:+0000
TZNAME:+00
DTSTART:20240331T010000
END:DAYLIGHT
BEGIN:STANDARD
TZOFFSETFROM:+0000
TZOFFSETTO:-0100
TZNAME:-01
DTSTART:20241027T010000
END:STANDARD
BEGIN:DAYLIGHT
TZOFFSETFROM:-0100
TZOFFSETTO:+0000
TZNAME:+00
DTSTART:20250330T010000
END:DAYLIGHT
BEGIN:STANDARD
TZOFFSETFROM:+0000
TZOFFSETTO:-0100
TZNAME:-01
DTSTART:20251026T010000
END:STANDARD
BEGIN:DAYLIGHT
TZOFFSETFROM:-0100
TZOFFSETTO:+0000
TZNAME:+00
DTSTART:20260329T010000
END:DAYLIGHT
BEGIN:STANDARD
TZOFFSETFROM:+0000
TZOFFSETTO:-0100
TZNAME:-01
DTSTART:20261025T010000
END:STANDARD
END:VTIMEZONE
BEGIN:VEVENT
DTSTART;TZID=Atlantic/Azores:20250101T153000
DTEND;TZID=Atlantic/Azores:20250731T170000
DTSTAMP:20260425T115840
CREATED:20250410T115045Z
LAST-MODIFIED:20250917T184306Z
UID:4316-1735745400-1753981200@ecomuseu-corvo.cultura.azores.gov.pt
SUMMARY:Encontros com Memória
DESCRIPTION:A realizar mensalmente junto dos utentes da Santa Casa da Misericórdia para com eles interagirmos e recordarmos\, através de diversas atividades\, tempos e vivências de antigamente.\nEsta é uma atividade que tem como objetivos principais a criação de momentos de convívio com os idosos\, que propiciem a retoma de histórias e memórias passadas\, bem como proporcionar situações de bem-estar social\, que quebrem a monotonia do quotidiano e que permitam incrementar o relacionamento intergeracional.
URL:https://ecomuseu-corvo.cultura.azores.gov.pt/evento/encontros-com-memoria-3/
CATEGORIES:Encontros com Memória
ATTACH;FMTTYPE=image/png:https://ecomuseu-corvo.cultura.azores.gov.pt/wp-content/uploads/2025/04/Encontros-com-memoria.png
END:VEVENT
BEGIN:VEVENT
DTSTART;TZID=Atlantic/Azores:20250110T080000
DTEND;TZID=Atlantic/Azores:20251231T170000
DTSTAMP:20260425T115840
CREATED:20250110T182624Z
LAST-MODIFIED:20250124T142443Z
UID:4166-1736496000-1767200400@ecomuseu-corvo.cultura.azores.gov.pt
SUMMARY:Grupo de colaboradores do Ecomuseu
DESCRIPTION:Grupo de Colaboradores do Ecomuseu do Corvo \n“Os Grupos de [colaboradores] de Museus e Monumentos são associações sem fins lucrativos\, constituídos por pessoas individuais ou coletivas que decidem desenvolver iniciativas e atividades em prol do estudo\, inventário\, preservação e valorização dos bens imóveis e móveis geridos pelas entidades museológicas e patrimoniais.\nDe um modo geral\, [estes Grupos]\, através do trabalho voluntário e do mecenato\, têm como objetivos da sua atividade o enriquecimento das coleções\, a promoção de investigação\, a realização de exposições\, a edição de publicações\, o desenvolvimento de ações de formação\, a defesa do património próprio e o existente nas áreas envolventes de museus e monumentos e a cooperação com outras entidades empenhadas na defesa e valorização do Património Cultural.”\nin\, Direção-Geral do Património Cultural (DGPC)\nConsideramos\, assim\, da máxima importância dar continuidade à dinamização de um grupo de colaboradores do Ecomuseu do Corvo que possa contribuir para o desenvolvimento local\, preservação e valorização do Património e da Memória Histórica da ilha do Corvo. Um Património que é de todos nós!\nSe ainda não faz parte deste grupo preencha\, por favor\, o presente formulário ( https://forms.office.com/r/64jqpPxMZn). O tratamento dos dados pessoais será limitado à finalidade para a qual os dados são recolhidos.\nObjetivos:\n– Divulgar o trabalho do Ecomuseu e o Património corvino nas suas múltiplas vertentes e dimensões;\n– Criar uma rede de colaboradores que possa contribuir\, de acordo com as suas aspirações\, conhecimento e experiência\, para o trabalho do Ecomuseu;\n– Assegurar o envolvimento da comunidade nos processos ecomuseológicos;\n– Incentivar à apropriação consciente do Património\, por parte da comunidade que é sua herdeira;\n– Contribuir com ideias de projetos que possam promover a valorização\, salvaguarda e transmissão do património corvino\, com vista ao desenvolvimento local que o Ecomuseu prevê.\nSendo este um Museu de Território\, onde a Comunidade é a protagonista\, é nosso dever garantir e incentivar o envolvimento desta\, pois também eles são os atores no processo dinâmico que é o Ecomuseu. Assim\, propõe-se a ampliação de uma “rede de amigos e colaboradores” que inclua todos aqueles que entenderem colaborar e trabalhar com a equipa do Ecomuseu nas várias ações e projetos que se pretendem desenvolver.\nAs “novas” práticas museológicas e\, em particular\, o nosso Ecomuseu tem assumido um papel importante na conservação e valorização do património natural e cultural nas suas diferentes vertentes e\, também\, nos processos de desenvolvimento do território que se vão alargando continuamente\, e que incluam todos aqueles que entenderem colaborar e trabalhar com a equipa do Ecomuseu. O Ecomuseu do Corvo assume-se como um verdadeiro centro de conservação da Memória e da Identidade cultural da Ilha do Corvo e dos seus habitantes. O seu contributo e colaboração são muito importantes para o Ecomuseu\, pois o Ecomuseu somos todos nós!\nObrigada por colaborar e contribuir para que o Ecomuseu do Corvo prossiga a sua Missão!\nA equipa do Ecomuseu do Corvo
URL:https://ecomuseu-corvo.cultura.azores.gov.pt/evento/grupo-de-colaboradores-do-ecomuseu/
CATEGORIES:Divulgação
ATTACH;FMTTYPE=image/png:https://ecomuseu-corvo.cultura.azores.gov.pt/wp-content/uploads/2025/01/Grupo-de-amigos-e1736533543134.png
END:VEVENT
BEGIN:VEVENT
DTSTART;TZID=Atlantic/Azores:20250205T160000
DTEND;TZID=Atlantic/Azores:20251231T170000
DTSTAMP:20260425T115840
CREATED:20250124T140548Z
LAST-MODIFIED:20250124T143933Z
UID:4184-1738771200-1767200400@ecomuseu-corvo.cultura.azores.gov.pt
SUMMARY:Workshop: A Hora da Barreta
DESCRIPTION:Vimos informar que estão abertas as inscrições para a frequência da 2.ª edição da formação: “A Hora da Barreta”.\nPara participar neste workshop em Barretas do Corvo só necessita inscrever-se.\nQuem já se inscreveu no ano transato deverá inscrever-se novamente\, para nos indicar qual o local da sua preferência para frequentar este curso\, uma vez que o mesmo será dinamizado\, em simultâneo\, no Multiusos e na Casa da Memória.\nO curso é gratuito\, terá início a 05 de fevereiro de 2025 e decorrerá todas as quartas-feiras\, entre as 16h00 e as 17h00.\nPara mais pormenores e inscrições basta seguir o seguinte link:\nhttps://forms.office.com/e/bwubj05Jbm?origin=lprLinkhttps://forms.office.com/e/bwubj05Jbm?origin=lprLink\nCom esta ação\, iniciada em dezembro de 2023\, o Ecomuseu pretende preservar o saber fazer.\nTrata-se de uma ação prolongada no tempo\, que desenvolvemos semanalmente\, à quarta-feira\, com a duração de apenas uma hora\, onde os inscritos podem comparecer conforme a sua disponibilidade.\nPretende-se\, assim\, transmitir a arte de produzir a típica barreta do Corvo e capacitar a comunidade para a importância da preservação deste património único.\nTal como tem vindo a acontecer\, pretendemos articular esta atividade com os nossos anciãos\, durante a atividade “Encontros com Memória”\, com o intuito de com eles reavivarmos memórias de tempos antigos e aprendermos mais sobre este elemento único do património da ilha do Corvo. \nMais informações sobre a barreta típica do Corvo poderá consultar »»
URL:https://ecomuseu-corvo.cultura.azores.gov.pt/evento/workshop-a-hora-da-barreta/
CATEGORIES:Oficinas/Cursos/Workshops
ATTACH;FMTTYPE=image/png:https://ecomuseu-corvo.cultura.azores.gov.pt/wp-content/uploads/2025/01/Hora-da-barreta--e1737727513186.png
END:VEVENT
BEGIN:VEVENT
DTSTART;TZID=Atlantic/Azores:20250428T080000
DTEND;TZID=Atlantic/Azores:20250606T170000
DTSTAMP:20260425T115840
CREATED:20250428T184602Z
LAST-MODIFIED:20250530T180643Z
UID:4366-1745827200-1749229200@ecomuseu-corvo.cultura.azores.gov.pt
SUMMARY:Inscrições para a formação: "iniciação às técnicas de tecelagem"
DESCRIPTION:O Ecomuseu do Corvo informa que estão abertas as inscrições\, até ao dia 30/05/2025\, para a 4.ª edição da formação: “iniciação às técnicas de tecelagem”\, que irá decorrer entre os dias 02 a 06 de junho de 2025\, em horário pós-laboral\, no Pavilhão Multiusos do Corvo.\nAs inscrições podem ser efetuadas mediante o preenchimento do formulário de inscrição disponível online:https://forms.office.com/e/UqN4a3CrLq\nO curso é de frequência gratuita e tem um limite de inscrição de 8 formandos. A seleção é feita por ordem de inscrição.\nPara mais informações contactar\, por favor\, o  Ecomuseu do Corvo\, através do telefone: 292596063\nA dinamização desta formação faz parte do programa de atividades do Ecomuseu do Corvo\, fluxo da ação: vivências e tradições. Integra a componente formativa e expositiva\, com vista à promoção do empreendedorismo e à integração de fatores de inovação em setores económicos tradicionais e\, ou\, áreas de negócios emergentes\, tais como o artesanato\, produtos locais\, áreas criativas\, entre outros.\nObjetivos do curso:\n·         Selecionar as matérias-primas;\n·         Identificar e caracterizar os componentes do tear e a sua função;\n·         Identificar e caracterizar os acessórios do tear e a sua função;\n·         Montagem do tear;\n·         Manusear o tear e seus acessórios;\n·         Executar tecidos com base nas estruturas fundamentais e seus derivados;\n·         Resolver problemas que surjam durante a laboração no tear.\nOs conteúdos a abordar na formação:\n·         Matérias-primas;\n·         O tear e seu funcionamento: movimentos fundamentais;\n·         Acessórios da tecelagem;\n·         Tecidos com base nas três estruturas fundamentais e seus derivados;\n·         Nó de tecedeira;\n·         Correção da tensão da teia;\n·         Alinhamento de liços.\nO curso será ministrado por um formador com reconhecido trabalho e experiência em tecelagem\, responsável por inúmeros projetos semelhantes no território continental português. Esta é uma ação de dinamização cultural de extrema importância\, pois esta formação permitirá viabilizar a preservação deste elemento patrimonial\, bem como a dinamização de ações de valorização e vivificação do património e das tradições corvinas.
URL:https://ecomuseu-corvo.cultura.azores.gov.pt/evento/inscricoes-para-a-formacao-iniciacao-as-tecnicas-de-tecelagem/
CATEGORIES:Património Imaterial
ATTACH;FMTTYPE=image/png:https://ecomuseu-corvo.cultura.azores.gov.pt/wp-content/uploads/2025/04/Banner_inscricoes_formacao_tecelagem-e1746635428429.png
END:VEVENT
BEGIN:VEVENT
DTSTART;TZID=Atlantic/Azores:20250529T210000
DTEND;TZID=Atlantic/Azores:20250617T210000
DTSTAMP:20260425T115840
CREATED:20250507T173544Z
LAST-MODIFIED:20250530T180700Z
UID:4404-1748552400-1750194000@ecomuseu-corvo.cultura.azores.gov.pt
SUMMARY:Encontros à Quinta- Do Corvo à Diáspora
DESCRIPTION:Informa-se que o Ecomuseu do Corvo está de regresso com a atividade “Encontros à Quinta”.\nA partir do dia 29 de maio\, vamos encontrar-nos às 21h00 na Casa do Tempo\, e online\, via Zoom\, para aqueles que não podem estar presencialmente.\nO objetivo é manter vivo o património\, conviver\, aproximar os corvinos que estão longe da sua terra e partilhar memórias de tempos antigos.\nMensalmente\, na quinta-feira agendada\, teremos preparado um pequeno desafio: “Desafio Falar Corvino” que coloca à prova os conhecimentos sobre os falares do Corvo.\nEste desafio servirá de mote para conversarmos sobre muitas coisas\, mas sobretudo de memórias e tradições de antigamente.\nPara enviarmos o link da sessão Zoom necessitamos que se inscrevam e\, por isso\, solicitamos que preencham alguns dados na ficha de inscrição disponível na seguinte ligação: https://forms.office.com/e/2fgvur8wwj \nPara a comunidade residente na ilha do Corvo basta comparecerem na Casa do Tempo\, às 21h00\, no dia agendado. \nEsta é\, também\, uma forma de retribuirmos e agradecermos todos os contributos que têm sido dados\, ao longo dos últimos anos\, para a atividade “Falar Corvino”- Recolha participativa do léxico e dos falares do Corvo.\nAgradecemos o interesse e a preciosa colaboração\, pois o Ecomuseu somos todos nós!
URL:https://ecomuseu-corvo.cultura.azores.gov.pt/evento/encontros-a-quinta-do-corvo-a-diaspora/
ATTACH;FMTTYPE=image/png:https://ecomuseu-corvo.cultura.azores.gov.pt/wp-content/uploads/2025/05/EQ_banner-e1746639306874.png
END:VEVENT
BEGIN:VEVENT
DTSTART;TZID=Atlantic/Azores:20250602T080000
DTEND;TZID=Atlantic/Azores:20250606T170000
DTSTAMP:20260425T115840
CREATED:20250530T180902Z
LAST-MODIFIED:20250616T135146Z
UID:4486-1748851200-1749229200@ecomuseu-corvo.cultura.azores.gov.pt
SUMMARY:Formação de iniciação às técnicas de tecelagem - 4.ª Edição
DESCRIPTION:O Ecomuseu do Corvo informa que a 4.ª edição do curso de formação em iniciação às técnicas de tecelagem terá início no dia 02 de junho e irá decorrer\, em horário pós-laboral\, até ao dia 06 de junho. Os formandos deste curso foram selecionados\, mediante inscrição prévia\, tendo a seleção sido feita por ordem de inscrição.\nNeste período estaremos\, a partir das 17H15\, no Multiusos.\nConvidamos a comunidade a visitar-nos\, no sentido de assim ser possível partilhar experiências\, conhecimentos e técnicas na área da tecelagem.\nSão todos muito bem-vindos!\nA dinamização desta formação faz parte do programa de atividades do Ecomuseu do Corvo no âmbito do fluxo da ação: vivências e tradições.\nIntegra a componente formativa e expositiva\, com vista à promoção do empreendedorismo e à integração de fatores de inovação em setores económicos tradicionais e/ou áreas de negócios emergentes\, tais como o artesanato\, os produtos locais e as áreas criativas.\nO curso será ministrado por um formador com vasta experiência e trabalho reconhecido na área da tecelagem\, Fernando Pereira\, responsável por inúmeros projetos semelhantes no território continental do país. Esta é uma ação de dinamização cultural de extrema importância\, na medida em que com estas formações se pretende viabilizar a preservação e vivificação deste importante elemento patrimonial da ilha do Corvo.\nO curso é de 20 horas e será atribuído um certificado de participação.
URL:https://ecomuseu-corvo.cultura.azores.gov.pt/evento/formacao-de-iniciacao-as-tecnicas-de-tecelagem-4-a-edicao/
CATEGORIES:Oficinas/Cursos/Workshops
ATTACH;FMTTYPE=image/png:https://ecomuseu-corvo.cultura.azores.gov.pt/wp-content/uploads/2025/04/Banner_inscricoes_formacao_tecelagem-e1746635428429.png
END:VEVENT
BEGIN:VEVENT
DTSTART;TZID=Atlantic/Azores:20250603T080000
DTEND;TZID=Atlantic/Azores:20250604T170000
DTSTAMP:20260425T115840
CREATED:20250522T122738Z
LAST-MODIFIED:20250616T135205Z
UID:4446-1748937600-1749056400@ecomuseu-corvo.cultura.azores.gov.pt
SUMMARY:Shorts@Fringe no Corvo
DESCRIPTION:O Ecomuseu do Corvo\, em articulação com a associação MiratecArts\, irá promover no âmbito do festival Azores Fringe a apresentação das sessões de Shorts@Fringe\, entre os dias 3 e 4 de junho\, na Casa do Tempo. \nPrograma Shorts@Fringe no Corvo: \n03 junho | terça-feira | 15h30 – “Santa Rita Dream” \n04 junho | quarta-feira | 15h30 – “Curtas de animação” \nA entrada é livre. \nPara mais informações visite azoresfringe.com e siga o festival no Facebook: azoresfringefestival.
URL:https://ecomuseu-corvo.cultura.azores.gov.pt/evento/shortsfringe-no-corvo/
CATEGORIES:Cinema
ATTACH;FMTTYPE=image/png:https://ecomuseu-corvo.cultura.azores.gov.pt/wp-content/uploads/2025/05/cartaz_fringe_corvo-e1747916837768.png
END:VEVENT
END:VCALENDAR