BEGIN:VCALENDAR
VERSION:2.0
PRODID:-//Ecomuseu do Corvo - ECPv6.15.17//NONSGML v1.0//EN
CALSCALE:GREGORIAN
METHOD:PUBLISH
X-WR-CALNAME:Ecomuseu do Corvo
X-ORIGINAL-URL:https://ecomuseu-corvo.cultura.azores.gov.pt
X-WR-CALDESC:Eventos para Ecomuseu do Corvo
REFRESH-INTERVAL;VALUE=DURATION:PT1H
X-Robots-Tag:noindex
X-PUBLISHED-TTL:PT1H
BEGIN:VTIMEZONE
TZID:Atlantic/Azores
BEGIN:DAYLIGHT
TZOFFSETFROM:-0100
TZOFFSETTO:+0000
TZNAME:+00
DTSTART:20240331T010000
END:DAYLIGHT
BEGIN:STANDARD
TZOFFSETFROM:+0000
TZOFFSETTO:-0100
TZNAME:-01
DTSTART:20241027T010000
END:STANDARD
BEGIN:DAYLIGHT
TZOFFSETFROM:-0100
TZOFFSETTO:+0000
TZNAME:+00
DTSTART:20250330T010000
END:DAYLIGHT
BEGIN:STANDARD
TZOFFSETFROM:+0000
TZOFFSETTO:-0100
TZNAME:-01
DTSTART:20251026T010000
END:STANDARD
BEGIN:DAYLIGHT
TZOFFSETFROM:-0100
TZOFFSETTO:+0000
TZNAME:+00
DTSTART:20260329T010000
END:DAYLIGHT
BEGIN:STANDARD
TZOFFSETFROM:+0000
TZOFFSETTO:-0100
TZNAME:-01
DTSTART:20261025T010000
END:STANDARD
END:VTIMEZONE
BEGIN:VEVENT
DTSTART;TZID=Atlantic/Azores:20250101T153000
DTEND;TZID=Atlantic/Azores:20250731T170000
DTSTAMP:20260425T125255
CREATED:20250410T115045Z
LAST-MODIFIED:20250917T184306Z
UID:4316-1735745400-1753981200@ecomuseu-corvo.cultura.azores.gov.pt
SUMMARY:Encontros com Memória
DESCRIPTION:A realizar mensalmente junto dos utentes da Santa Casa da Misericórdia para com eles interagirmos e recordarmos\, através de diversas atividades\, tempos e vivências de antigamente.\nEsta é uma atividade que tem como objetivos principais a criação de momentos de convívio com os idosos\, que propiciem a retoma de histórias e memórias passadas\, bem como proporcionar situações de bem-estar social\, que quebrem a monotonia do quotidiano e que permitam incrementar o relacionamento intergeracional.
URL:https://ecomuseu-corvo.cultura.azores.gov.pt/evento/encontros-com-memoria-3/
CATEGORIES:Encontros com Memória
ATTACH;FMTTYPE=image/png:https://ecomuseu-corvo.cultura.azores.gov.pt/wp-content/uploads/2025/04/Encontros-com-memoria.png
END:VEVENT
BEGIN:VEVENT
DTSTART;TZID=Atlantic/Azores:20250110T080000
DTEND;TZID=Atlantic/Azores:20251231T170000
DTSTAMP:20260425T125255
CREATED:20250110T182624Z
LAST-MODIFIED:20250124T142443Z
UID:4166-1736496000-1767200400@ecomuseu-corvo.cultura.azores.gov.pt
SUMMARY:Grupo de colaboradores do Ecomuseu
DESCRIPTION:Grupo de Colaboradores do Ecomuseu do Corvo \n“Os Grupos de [colaboradores] de Museus e Monumentos são associações sem fins lucrativos\, constituídos por pessoas individuais ou coletivas que decidem desenvolver iniciativas e atividades em prol do estudo\, inventário\, preservação e valorização dos bens imóveis e móveis geridos pelas entidades museológicas e patrimoniais.\nDe um modo geral\, [estes Grupos]\, através do trabalho voluntário e do mecenato\, têm como objetivos da sua atividade o enriquecimento das coleções\, a promoção de investigação\, a realização de exposições\, a edição de publicações\, o desenvolvimento de ações de formação\, a defesa do património próprio e o existente nas áreas envolventes de museus e monumentos e a cooperação com outras entidades empenhadas na defesa e valorização do Património Cultural.”\nin\, Direção-Geral do Património Cultural (DGPC)\nConsideramos\, assim\, da máxima importância dar continuidade à dinamização de um grupo de colaboradores do Ecomuseu do Corvo que possa contribuir para o desenvolvimento local\, preservação e valorização do Património e da Memória Histórica da ilha do Corvo. Um Património que é de todos nós!\nSe ainda não faz parte deste grupo preencha\, por favor\, o presente formulário ( https://forms.office.com/r/64jqpPxMZn). O tratamento dos dados pessoais será limitado à finalidade para a qual os dados são recolhidos.\nObjetivos:\n– Divulgar o trabalho do Ecomuseu e o Património corvino nas suas múltiplas vertentes e dimensões;\n– Criar uma rede de colaboradores que possa contribuir\, de acordo com as suas aspirações\, conhecimento e experiência\, para o trabalho do Ecomuseu;\n– Assegurar o envolvimento da comunidade nos processos ecomuseológicos;\n– Incentivar à apropriação consciente do Património\, por parte da comunidade que é sua herdeira;\n– Contribuir com ideias de projetos que possam promover a valorização\, salvaguarda e transmissão do património corvino\, com vista ao desenvolvimento local que o Ecomuseu prevê.\nSendo este um Museu de Território\, onde a Comunidade é a protagonista\, é nosso dever garantir e incentivar o envolvimento desta\, pois também eles são os atores no processo dinâmico que é o Ecomuseu. Assim\, propõe-se a ampliação de uma “rede de amigos e colaboradores” que inclua todos aqueles que entenderem colaborar e trabalhar com a equipa do Ecomuseu nas várias ações e projetos que se pretendem desenvolver.\nAs “novas” práticas museológicas e\, em particular\, o nosso Ecomuseu tem assumido um papel importante na conservação e valorização do património natural e cultural nas suas diferentes vertentes e\, também\, nos processos de desenvolvimento do território que se vão alargando continuamente\, e que incluam todos aqueles que entenderem colaborar e trabalhar com a equipa do Ecomuseu. O Ecomuseu do Corvo assume-se como um verdadeiro centro de conservação da Memória e da Identidade cultural da Ilha do Corvo e dos seus habitantes. O seu contributo e colaboração são muito importantes para o Ecomuseu\, pois o Ecomuseu somos todos nós!\nObrigada por colaborar e contribuir para que o Ecomuseu do Corvo prossiga a sua Missão!\nA equipa do Ecomuseu do Corvo
URL:https://ecomuseu-corvo.cultura.azores.gov.pt/evento/grupo-de-colaboradores-do-ecomuseu/
CATEGORIES:Divulgação
ATTACH;FMTTYPE=image/png:https://ecomuseu-corvo.cultura.azores.gov.pt/wp-content/uploads/2025/01/Grupo-de-amigos-e1736533543134.png
END:VEVENT
BEGIN:VEVENT
DTSTART;TZID=Atlantic/Azores:20250205T160000
DTEND;TZID=Atlantic/Azores:20251231T170000
DTSTAMP:20260425T125255
CREATED:20250124T140548Z
LAST-MODIFIED:20250124T143933Z
UID:4184-1738771200-1767200400@ecomuseu-corvo.cultura.azores.gov.pt
SUMMARY:Workshop: A Hora da Barreta
DESCRIPTION:Vimos informar que estão abertas as inscrições para a frequência da 2.ª edição da formação: “A Hora da Barreta”.\nPara participar neste workshop em Barretas do Corvo só necessita inscrever-se.\nQuem já se inscreveu no ano transato deverá inscrever-se novamente\, para nos indicar qual o local da sua preferência para frequentar este curso\, uma vez que o mesmo será dinamizado\, em simultâneo\, no Multiusos e na Casa da Memória.\nO curso é gratuito\, terá início a 05 de fevereiro de 2025 e decorrerá todas as quartas-feiras\, entre as 16h00 e as 17h00.\nPara mais pormenores e inscrições basta seguir o seguinte link:\nhttps://forms.office.com/e/bwubj05Jbm?origin=lprLinkhttps://forms.office.com/e/bwubj05Jbm?origin=lprLink\nCom esta ação\, iniciada em dezembro de 2023\, o Ecomuseu pretende preservar o saber fazer.\nTrata-se de uma ação prolongada no tempo\, que desenvolvemos semanalmente\, à quarta-feira\, com a duração de apenas uma hora\, onde os inscritos podem comparecer conforme a sua disponibilidade.\nPretende-se\, assim\, transmitir a arte de produzir a típica barreta do Corvo e capacitar a comunidade para a importância da preservação deste património único.\nTal como tem vindo a acontecer\, pretendemos articular esta atividade com os nossos anciãos\, durante a atividade “Encontros com Memória”\, com o intuito de com eles reavivarmos memórias de tempos antigos e aprendermos mais sobre este elemento único do património da ilha do Corvo. \nMais informações sobre a barreta típica do Corvo poderá consultar »»
URL:https://ecomuseu-corvo.cultura.azores.gov.pt/evento/workshop-a-hora-da-barreta/
CATEGORIES:Oficinas/Cursos/Workshops
ATTACH;FMTTYPE=image/png:https://ecomuseu-corvo.cultura.azores.gov.pt/wp-content/uploads/2025/01/Hora-da-barreta--e1737727513186.png
END:VEVENT
BEGIN:VEVENT
DTSTART;TZID=Atlantic/Azores:20250402T203000
DTEND;TZID=Atlantic/Azores:20250501T233000
DTSTAMP:20260425T125255
CREATED:20250328T125855Z
LAST-MODIFIED:20250328T130645Z
UID:4253-1743625800-1746142200@ecomuseu-corvo.cultura.azores.gov.pt
SUMMARY:Fotografia do Mês - Abril
DESCRIPTION:No dia 2 de abril\, será lançada a Fotografia do Mês de Abril de 2025.\nAs informações quanto à identidade das pessoas e o local fotografados poderão ser dadas através da publicação que estará patente no facebook do Ecomuseu do Corvo. \nNecessitamos de ajuda na identificação das pessoas fotografadas e do local onde foi captada a fotografia. A vossa ajuda é preciosa para podermos preservar a História e a Memória da comunidade corvina. Poderá fazer a identificação através dos números constantes na foto\, fazendo um comentário à publicação. \nPoderá\, em alternativa\, endereçar um e-mail ao Ecomuseu do Corvo: ecomuseu.corvo.info@azores.gov.pt. \nA sua participação e contributos são muito importantes e o Ecomuseu agradece. \nO Ecomuseu somos todos nós! \nPara acompanharem o resultado dos vosso contributos deixamos o link do Padlet “A Foto do Mês“.
URL:https://ecomuseu-corvo.cultura.azores.gov.pt/evento/fotografia-do-mes/
CATEGORIES:Fotografia do Mês
ATTACH;FMTTYPE=image/png:https://ecomuseu-corvo.cultura.azores.gov.pt/wp-content/uploads/2025/02/04_2025-e1743166698462.png
END:VEVENT
BEGIN:VEVENT
DTSTART;TZID=Atlantic/Azores:20250409T203000
DTEND;TZID=Atlantic/Azores:20250514T200000
DTSTAMP:20260425T125255
CREATED:20250404T160239Z
LAST-MODIFIED:20250916T172850Z
UID:4261-1744230600-1747252800@ecomuseu-corvo.cultura.azores.gov.pt
SUMMARY:Peça do Mês
DESCRIPTION:No dia 9 de abril\, será lançada a Peça do Mês de Abril de 2025.\nAs informações quanto à denominação e função da peça poderão ser dadas através da publicação que estará patente no facebook do Ecomuseu do Corvo. \nEsta peça pertence a Paulo Jorge Abraços Estêvão. Quem nos sabe dizer que objeto é este e para que seria utilizado? \nA sua participação é muito importante para o trabalho que o Ecomuseu do Corvo está a realizar no âmbito do inventário participativo do património móvel do Corvo. \nO Ecomuseu somos todos nós! Para acompanharem o resultado dos vossos contributos deixamos o link das informações recolhidas da Peça do Mês.
URL:https://ecomuseu-corvo.cultura.azores.gov.pt/evento/peca-do-mes-2/
CATEGORIES:Peça do Mês
ATTACH;FMTTYPE=image/png:https://ecomuseu-corvo.cultura.azores.gov.pt/wp-content/uploads/2025/03/04_2025-e1743782512797.png
END:VEVENT
BEGIN:VEVENT
DTSTART;TZID=Atlantic/Azores:20250416T080000
DTEND;TZID=Atlantic/Azores:20250430T170000
DTSTAMP:20260425T125255
CREATED:20250416T150735Z
LAST-MODIFIED:20250423T154513Z
UID:4337-1744790400-1746032400@ecomuseu-corvo.cultura.azores.gov.pt
SUMMARY:Ler é Saber!
DESCRIPTION:O Ecomuseu do Corvo tem disponível para requisição\, na Casa do Tempo\, alguns livros para as leituras da Páscoa.\nTemos livros para todas idades e preferências.\nCom esta ação pretendemos estimular hábitos de leitura\, garantir o acesso aos livros oferecendo\, assim\, a oportunidade de ampliar a cultura e o conhecimento por meio do lazer e do entretenimento.
URL:https://ecomuseu-corvo.cultura.azores.gov.pt/evento/ler-e-saber-4/
CATEGORIES:Férias no Ecomuseu
ATTACH;FMTTYPE=image/png:https://ecomuseu-corvo.cultura.azores.gov.pt/wp-content/uploads/2025/04/ler_e_saber_redes_sociais-e1744816035409.png
END:VEVENT
BEGIN:VEVENT
DTSTART;TZID=Atlantic/Azores:20250424T143000
DTEND;TZID=Atlantic/Azores:20250425T170000
DTSTAMP:20260425T125255
CREATED:20250410T114338Z
LAST-MODIFIED:20250428T184626Z
UID:4312-1745505000-1745600400@ecomuseu-corvo.cultura.azores.gov.pt
SUMMARY:Férias da Páscoa no Ecomuseu
DESCRIPTION:Nas férias da Páscoa o Ecomuseu do Corvo\, em articulação com a Biblioteca Escolar\, promove atividades com as crianças e jovens\, em que se pretende estimular a imaginação\, a criatividade e demonstrar como aprender pode ser divertido.\nPreparámos um conjunto de atividades especiais alusivas à época da Páscoa\, à educação ambiental e patrimonial. As mesmas serão dinamizadas\, a partir das 14h30\, nos dias 14 e 24 de abril\, no Pavilhão Multiusos e no dia 25 de abril\, junto aos moinhos de vento.\nPrograma:\n14/04/2025 – Sessão de cinema com oferta de pipocas – Local: Pavilhão Multiusos.\n24/04/2025 – WORKSHOP – Vem construir o teu brinquedo\, orientado pelo formador Francisco Pereira (atividade do Orçamento Participativo) – Local: Pavilhão Multiusos.\n25/04/2025 – Eco Easter + Caça aos Ovos. Realização de decorações de Páscoa com materiais reutilizáveis. Atividade integrada no “Dia Aberto dos Moinhos”. Caça aos ovos – Local: Junto aos Moinhos de Vento\nAo longo das duas semanas de interrupção da Páscoa iremos promover a atividade “Ler é Saber!” com propostas de leitura no Ecomuseu. Os livros poderão ser requisitados na Casa do Tempo.\nEm todas as atividades as crianças e jovens serão acompanhados pelos técnicos do Ecomuseu.\nSe ainda não inscreveu o seu filho(a) ainda está tempo de o fazer através do preenchimento do formulário online: https://forms.office.com/e/xcG0UC05NX ou através do envio de um email para: Ecomuseu.corvo.info@azores.gov
URL:https://ecomuseu-corvo.cultura.azores.gov.pt/evento/ferias-da-pascoa-no-ecomuseu-2/
CATEGORIES:Férias no Ecomuseu
ATTACH;FMTTYPE=image/png:https://ecomuseu-corvo.cultura.azores.gov.pt/wp-content/uploads/2025/04/cartaz_redes_sociais-e1744285354413.png
END:VEVENT
BEGIN:VEVENT
DTSTART;TZID=Atlantic/Azores:20250425T143000
DTEND;TZID=Atlantic/Azores:20250425T170000
DTSTAMP:20260425T125255
CREATED:20250411T174057Z
LAST-MODIFIED:20250428T184645Z
UID:4334-1745591400-1745600400@ecomuseu-corvo.cultura.azores.gov.pt
SUMMARY:Dia Aberto dos Moinhos- Moinhos que celebram Abril
DESCRIPTION:O Ecomuseu do Corvo irá promover\, pelo quinto ano consecutivo\, o Dia Aberto dos Moinhos. Esta atividade irá decorrer no próximo dia 25 de abril\, a partir das 14h30\, sobre o mote “Moinhos que celebram Abril”.\nOs moinhos de vento\, tal como as eiras e a atafona do “Lourenço”\, são testemunhos de um passado não muito longínquo\, em que os cereais eram a base da alimentação e o trigo era a moeda que pagava os pesados impostos a que a comunidade corvina esteve sujeita até ao séc. XIX.\nNeste dia pretende-se dar vida a este património\, chamar a atenção para o inestimável valor patrimonial dos moinhos tradicionais\, valorizar as memórias e as tradições a eles associadas\, garantindo a sua salvaguarda e\, em simultâneo\, criar processos educativos e de capacitação da comunidade.\nCom esta atividade pretende-se dar a conhecer à comunidade\, principalmente aos mais jovens\, todo o processo de moagem\, desde a montagem das velas\, ao rodar da carapuça e à sua fixação\, a moagem propriamente dita\, a travagem e controlo do grão da moagem\, culminando no ensacar da farinha\, pesagem e pagamento ao moleiro.\nPara tal contaremos com a colaboração dos seus proprietários e dos anciãos\, testemunhos vivos desta atividade\, que assumirão o papel de guias intérpretes.\nEm simultâneo\, decorrerão outras atividades\, nomeadamente\, mostras artesanais\, uma caça aos ovos\, para os mais jovens\, jogos do património e desafios do “Falar Corvino”\, bem como outras ações associadas a este evento e à celebração do 51.º aniversário da Revolução do  25 de Abril. \nContamos com a presença de todos neste dia que também assinala a Liberdade\, a Democracia e a Paz.\nObs: Sendo uma atividade ao ar livre a mesma está dependente das condições meteorológicas.
URL:https://ecomuseu-corvo.cultura.azores.gov.pt/evento/dia-aberto-dos-moinhos-moinhos-que-celebram-abril/
CATEGORIES:Datas comemorativas,Património
ATTACH;FMTTYPE=image/jpeg:https://ecomuseu-corvo.cultura.azores.gov.pt/wp-content/uploads/2025/04/Div_DiaAbertodosMoinhos_FBeInsta.jpg
END:VEVENT
END:VCALENDAR