BEGIN:VCALENDAR
VERSION:2.0
PRODID:-//Ecomuseu do Corvo - ECPv6.15.17//NONSGML v1.0//EN
CALSCALE:GREGORIAN
METHOD:PUBLISH
X-WR-CALNAME:Ecomuseu do Corvo
X-ORIGINAL-URL:https://ecomuseu-corvo.cultura.azores.gov.pt
X-WR-CALDESC:Eventos para Ecomuseu do Corvo
REFRESH-INTERVAL;VALUE=DURATION:PT1H
X-Robots-Tag:noindex
X-PUBLISHED-TTL:PT1H
BEGIN:VTIMEZONE
TZID:Atlantic/Azores
BEGIN:DAYLIGHT
TZOFFSETFROM:-0100
TZOFFSETTO:+0000
TZNAME:+00
DTSTART:20220327T010000
END:DAYLIGHT
BEGIN:STANDARD
TZOFFSETFROM:+0000
TZOFFSETTO:-0100
TZNAME:-01
DTSTART:20221030T010000
END:STANDARD
BEGIN:DAYLIGHT
TZOFFSETFROM:-0100
TZOFFSETTO:+0000
TZNAME:+00
DTSTART:20230326T010000
END:DAYLIGHT
BEGIN:STANDARD
TZOFFSETFROM:+0000
TZOFFSETTO:-0100
TZNAME:-01
DTSTART:20231029T010000
END:STANDARD
BEGIN:DAYLIGHT
TZOFFSETFROM:-0100
TZOFFSETTO:+0000
TZNAME:+00
DTSTART:20240331T010000
END:DAYLIGHT
BEGIN:STANDARD
TZOFFSETFROM:+0000
TZOFFSETTO:-0100
TZNAME:-01
DTSTART:20241027T010000
END:STANDARD
END:VTIMEZONE
BEGIN:VEVENT
DTSTART;VALUE=DATE:20231023
DTEND;VALUE=DATE:20231030
DTSTAMP:20260425T140213
CREATED:20231023T135533Z
LAST-MODIFIED:20231024T135734Z
UID:3054-1698019200-1698623999@ecomuseu-corvo.cultura.azores.gov.pt
SUMMARY:Falar Corvino - 23 de outubro
DESCRIPTION:Começamos a semana com mais um desafio “Falar Corvino” novinho em folha!\nNão hesitem em contactar-nos com as vossas sugestões.\nObrigada a todos pela participação e pelos contributos que nos têm enviado.\nPara acompanharem o resultado das vossas sugestões deixamos o link do glossário “Falar Corvino”: https://padlet.com/ecomuseu/5zdomsu4rcejijqy\nVotos de uma boa semana para todos!
URL:https://ecomuseu-corvo.cultura.azores.gov.pt/evento/falar-corvino-23-de-outubro/
LOCATION:Ecomuseu do Corvo
CATEGORIES:Falar Corvino
ATTACH;FMTTYPE=image/png:https://ecomuseu-corvo.cultura.azores.gov.pt/wp-content/uploads/2023/02/Imagem2.png
END:VEVENT
BEGIN:VEVENT
DTSTART;VALUE=DATE:20231023
DTEND;VALUE=DATE:20231031
DTSTAMP:20260425T140213
CREATED:20231030T110217Z
LAST-MODIFIED:20231114T180450Z
UID:3206-1698019200-1698710399@ecomuseu-corvo.cultura.azores.gov.pt
SUMMARY:Falar Corvino - 30 de outubro
DESCRIPTION:Terminamos o mês de outubro em grande com mais um desafio “Falar Corvino”!\nNão hesitem em contactar-nos com as vossas sugestões.\nObrigada a todos pela participação e pelos contributos que nos têm enviado.\nPara acompanharem o resultado das vossas sugestões deixamos o link do glossário “Falar Corvino”: https://padlet.com/ecomuseu/5zdomsu4rcejijqy\nVotos de uma boa semana para todos!
URL:https://ecomuseu-corvo.cultura.azores.gov.pt/evento/falar-corvino-30-de-outubro/
LOCATION:Ecomuseu do Corvo
CATEGORIES:Falar Corvino
ATTACH;FMTTYPE=image/png:https://ecomuseu-corvo.cultura.azores.gov.pt/wp-content/uploads/2023/02/Imagem2.png
END:VEVENT
END:VCALENDAR