BEGIN:VCALENDAR
VERSION:2.0
PRODID:-//Ecomuseu do Corvo - ECPv6.15.17//NONSGML v1.0//EN
CALSCALE:GREGORIAN
METHOD:PUBLISH
X-WR-CALNAME:Ecomuseu do Corvo
X-ORIGINAL-URL:https://ecomuseu-corvo.cultura.azores.gov.pt
X-WR-CALDESC:Eventos para Ecomuseu do Corvo
REFRESH-INTERVAL;VALUE=DURATION:PT1H
X-Robots-Tag:noindex
X-PUBLISHED-TTL:PT1H
BEGIN:VTIMEZONE
TZID:Atlantic/Azores
BEGIN:DAYLIGHT
TZOFFSETFROM:-0100
TZOFFSETTO:+0000
TZNAME:+00
DTSTART:20220327T010000
END:DAYLIGHT
BEGIN:STANDARD
TZOFFSETFROM:+0000
TZOFFSETTO:-0100
TZNAME:-01
DTSTART:20221030T010000
END:STANDARD
BEGIN:DAYLIGHT
TZOFFSETFROM:-0100
TZOFFSETTO:+0000
TZNAME:+00
DTSTART:20230326T010000
END:DAYLIGHT
BEGIN:STANDARD
TZOFFSETFROM:+0000
TZOFFSETTO:-0100
TZNAME:-01
DTSTART:20231029T010000
END:STANDARD
BEGIN:DAYLIGHT
TZOFFSETFROM:-0100
TZOFFSETTO:+0000
TZNAME:+00
DTSTART:20240331T010000
END:DAYLIGHT
BEGIN:STANDARD
TZOFFSETFROM:+0000
TZOFFSETTO:-0100
TZNAME:-01
DTSTART:20241027T010000
END:STANDARD
END:VTIMEZONE
BEGIN:VEVENT
DTSTART;VALUE=DATE:20230801
DTEND;VALUE=DATE:20230901
DTSTAMP:20260425T154140
CREATED:20230802T140420Z
LAST-MODIFIED:20231004T140634Z
UID:2960-1690848000-1693526399@ecomuseu-corvo.cultura.azores.gov.pt
SUMMARY:Exposição "Da Tosquia ao Tear"
DESCRIPTION:Informa-se que a exposição “Da Tosquia ao Tear” continuará patente no Multiusos durante o mês de agosto\, de segunda a sexta-feira\, entre as 10h30 e as 12h30 e as 14H00 e as 17h00. Com esta exposição pretende-se divulgar\, através de fotografias do arquivo fotográfico do Ecomuseu\, de objetos associados ao trabalho da lã e de variadas peças de vestuário\, o património cultural associado ao lanifício na ilha do Corvo.\nNa ilha do Corvo\, a criação de ovelhas assumiu\, desde o início do povoamento\, uma grande importância\, pois\, por um lado\, uma parte do “foro” era pago em lã e\, por outro\, o grande isolamento da ilha obrigou os seus habitantes a serem autossuficientes e a produzirem os seus bens de primeira necessidade\, nomeadamente o seu vestuário e agasalhos. Este espírito de autarcia\, que caracterizou as populações arquipelágicas\, está bem marcado na população do Corvo que\, desde muito cedo\, soube ser resiliente e adaptar-se às condições muito adversas a que estava sujeita.\nEsta exposição pretende\, por isso\, dar a conhecer um pouco da História e das memórias associadas à atividade lanígera na ilha do Corvo.
URL:https://ecomuseu-corvo.cultura.azores.gov.pt/evento/exposicao-da-tosquia-ao-tear-2/
LOCATION:Espaço Cultural Multiusos
CATEGORIES:Exposições
ATTACH;FMTTYPE=image/png:https://ecomuseu-corvo.cultura.azores.gov.pt/wp-content/uploads/2023/10/Divulgacao-fotos-1-e1696428325840.png
END:VEVENT
BEGIN:VEVENT
DTSTART;VALUE=DATE:20230801
DTEND;VALUE=DATE:20230901
DTSTAMP:20260425T154140
CREATED:20230803T140639Z
LAST-MODIFIED:20231004T140952Z
UID:2963-1690848000-1693526399@ecomuseu-corvo.cultura.azores.gov.pt
SUMMARY:Peça do Mês - agosto
DESCRIPTION:A peça do mês de julho é dedicada à temática cerealífera. Trata-se da razoula.\nQuem nos sabe dizer para que servia?\nPrecisamos de ajuda na identificação\, bem como de informação sobre a sua utilização.\nA sua participação é muito importante para o trabalho que o Ecomuseu do Corvo está a realizar\, no âmbito do inventário participativo do património móvel do Corvo.\nO Ecomuseu somos todos nós!\nPara acompanharem o resultado dos vossos contributos deixamos o link das informações recolhidas da “Peça do Mês”:\nhttps://padlet.com/tatianamfragata/sd9vd5npqbzulcoj
URL:https://ecomuseu-corvo.cultura.azores.gov.pt/evento/peca-do-mes-agosto-2/
LOCATION:Ecomuseu do Corvo
CATEGORIES:Peça do Mês
ATTACH;FMTTYPE=image/png:https://ecomuseu-corvo.cultura.azores.gov.pt/wp-content/uploads/2023/10/Copia-de-Publicacao-para-Twitter-de-Oficina-de-Artesanato-e1696428521707.png
END:VEVENT
BEGIN:VEVENT
DTSTART;VALUE=DATE:20230807
DTEND;VALUE=DATE:20230814
DTSTAMP:20260425T154140
CREATED:20230807T141004Z
LAST-MODIFIED:20231004T141414Z
UID:2966-1691366400-1691971199@ecomuseu-corvo.cultura.azores.gov.pt
SUMMARY:Falar Corvino - 7 de agosto
DESCRIPTION:Um início da semana sem o desafio “Falar Corvino” não é o mesmo.\nQuem tiver sugestões por favor entre em contacto connosco.\nObrigada a todos pela participação e pelos contributos que nos têm enviado.\nPara acompanharem o resultado dos vossos contributos deixamos o link do glossário “Falar Corvino”: https://padlet.com/ecomuseu/5zdomsu4rcejijqy\nVotos de uma boa semana para todos!
URL:https://ecomuseu-corvo.cultura.azores.gov.pt/evento/falar-corvino-7-de-agosto/
LOCATION:Ecomuseu do Corvo
CATEGORIES:Falar Corvino
ATTACH;FMTTYPE=image/png:https://ecomuseu-corvo.cultura.azores.gov.pt/wp-content/uploads/2023/02/Imagem2.png
END:VEVENT
END:VCALENDAR