BEGIN:VCALENDAR
VERSION:2.0
PRODID:-//Ecomuseu do Corvo - ECPv6.15.17//NONSGML v1.0//EN
CALSCALE:GREGORIAN
METHOD:PUBLISH
X-WR-CALNAME:Ecomuseu do Corvo
X-ORIGINAL-URL:https://ecomuseu-corvo.cultura.azores.gov.pt
X-WR-CALDESC:Eventos para Ecomuseu do Corvo
REFRESH-INTERVAL;VALUE=DURATION:PT1H
X-Robots-Tag:noindex
X-PUBLISHED-TTL:PT1H
BEGIN:VTIMEZONE
TZID:Atlantic/Azores
BEGIN:DAYLIGHT
TZOFFSETFROM:-0100
TZOFFSETTO:+0000
TZNAME:+00
DTSTART:20220327T010000
END:DAYLIGHT
BEGIN:STANDARD
TZOFFSETFROM:+0000
TZOFFSETTO:-0100
TZNAME:-01
DTSTART:20221030T010000
END:STANDARD
BEGIN:DAYLIGHT
TZOFFSETFROM:-0100
TZOFFSETTO:+0000
TZNAME:+00
DTSTART:20230326T010000
END:DAYLIGHT
BEGIN:STANDARD
TZOFFSETFROM:+0000
TZOFFSETTO:-0100
TZNAME:-01
DTSTART:20231029T010000
END:STANDARD
BEGIN:DAYLIGHT
TZOFFSETFROM:-0100
TZOFFSETTO:+0000
TZNAME:+00
DTSTART:20240331T010000
END:DAYLIGHT
BEGIN:STANDARD
TZOFFSETFROM:+0000
TZOFFSETTO:-0100
TZNAME:-01
DTSTART:20241027T010000
END:STANDARD
END:VTIMEZONE
BEGIN:VEVENT
DTSTART;VALUE=DATE:20230424
DTEND;VALUE=DATE:20230701
DTSTAMP:20260425T153930
CREATED:20230424T151747Z
LAST-MODIFIED:20231010T151034Z
UID:2518-1682294400-1688169599@ecomuseu-corvo.cultura.azores.gov.pt
SUMMARY:Exposição “Da tosquia ao tear”
DESCRIPTION:O Ecomuseu do Corvo inaugura\, no dia 24 de abril\, às 17h00 a exposição da Tosquia ao Tear. Com esta exposição pretende-se divulgar\, através de fotografias do arquivo fotográfico do Ecomuseu\, de objetos associados ao trabalho da lã e de variadas peças de vestuário\, o património cultural associado ao lanifício na ilha do Corvo.\nNa ilha do Corvo\, a criação de ovelhas assumiu\, desde o início do povoamento\, uma grande importância\, pois\, por um lado\, uma parte do “foro” era pago em lã e\, por outro\, o grande isolamento da ilha obrigou os seus habitantes a serem autossuficientes e a produzirem os seus bens de primeira necessidade\, nomeadamente o seu vestuário e agasalhos. Este espírito de autarcia\, que caracterizou as populações arquipelágicas\, está bem marcado na população do Corvo que\, desde muito cedo\, soube ser resiliente e adaptar-se às condições muito adversas a que estava sujeita.\nEsta exposição pretende\, por isso\, dar a conhecer um pouco da História e das memórias associadas à atividade lanígera na ilha do Corvo.\nA mesma estará patente no Pavilhão Multiusos até julho de 2023\, de segunda a sexta-feira\,  entre as 10h30 e as 12h30 e as 14h30 e as 17h00. 
URL:https://ecomuseu-corvo.cultura.azores.gov.pt/evento/exposicao-da-tosquia-ao-tear/
LOCATION:Espaço Cultural Multiusos
CATEGORIES:Exposições
ATTACH;FMTTYPE=image/png:https://ecomuseu-corvo.cultura.azores.gov.pt/wp-content/uploads/2023/04/Divulgacao-fotos-1-e1682349460464.png
END:VEVENT
BEGIN:VEVENT
DTSTART;VALUE=DATE:20230605
DTEND;VALUE=DATE:20230610
DTSTAMP:20260425T153930
CREATED:20230510T111553Z
LAST-MODIFIED:20231010T151205Z
UID:2547-1685923200-1686355199@ecomuseu-corvo.cultura.azores.gov.pt
SUMMARY:Formação "Da tosquia à meada"
DESCRIPTION:No âmbito da implementação do projeto sobre o ciclo da lã o Ecomuseu do Corvo irá promover\, em articulação com o CADA – Centro de Artesanato e Design dos Açores\, a 1. ª edição da formação na área do trabalho e tingimento da lã\, que irá decorrer entre os dias 05 a 09 de junho de 2023\, em horário pós-laboral\, no Pavilhão Multiusos do Corvo. O horário será definido na 1.ª sessão que irá decorrer no dia 05 de junho. Esta 1.ª sessão terá início às 17h15.\nPara fazer a sua inscrição solicitamos o preenchimento da presente ficha\, até ao dia 30-05-2023.\nhttps://forms.office.com/Pages/ResponsePage.aspx…\nA dinamização desta formação faz parte do programa de atividades do Ecomuseu do Corvo\, fluxo da ação: vivências e tradições. Integra a componente formativa e expositiva\, com vista à promoção do empreendedorismo e à integração de fatores de inovação em setores económicos tradicionais e\, ou\, áreas de negócios emergentes\, tais como o artesanato\, produtos locais\, áreas criativas\, entre outros.\nEsta é também uma formação promovida em articulação com o CADA – “Hora do Ofício” que visa essencialmente promover e incentivar a transmissão do saber-fazer das atividades artesanais tradicionais dos Açores e\, ao mesmo tempo\, fomentar a inovação e a criatividade na produção artesanal.\nPlano de trabalho:\n. Seleção da lã após a tosquia\n. Lavagem da lã\n. Cardação e penteação\n. Iniciação à fiação\n. Princípios da tinturaria natural\n. Mordentagem da lã\n. As principais plantas tintureiras\n. Tingimentos com algumas plantas tintureiras\nO curso\, de 20 horas\, será ministrado por Guida Fonseca uma formadora com reconhecido trabalho e experiência na área\, responsável por inúmeros projetos semelhantes no território continental português. Esta é uma ação de dinamização cultural de extrema importância\, pois esta formação permitirá viabilizar a preservação deste elemento patrimonial\, bem como a dinamização de ações de valorização e vivificação do Património e das tradições corvinas.
URL:https://ecomuseu-corvo.cultura.azores.gov.pt/evento/formacao-da-tosquia-a-meada/
LOCATION:Ecomuseu do Corvo
CATEGORIES:Oficinas/Cursos/Workshops
ATTACH;FMTTYPE=image/png:https://ecomuseu-corvo.cultura.azores.gov.pt/wp-content/uploads/2023/05/Divulgacao-fotos-e1683717336958.png
END:VEVENT
BEGIN:VEVENT
DTSTART;VALUE=DATE:20230605
DTEND;VALUE=DATE:20230612
DTSTAMP:20260425T153930
CREATED:20230607T101011Z
LAST-MODIFIED:20230607T171237Z
UID:2612-1685923200-1686527999@ecomuseu-corvo.cultura.azores.gov.pt
SUMMARY:Falar Corvino - 5 de junho
DESCRIPTION:As palavras que lançamos à comunidade no desafio “Falar Corvino” neste mês de junho\, resultaram de sugestões dos nossos participantes dos “Encontros à Quinta – Do Corvo à Diáspora”\n\n\nQuem sabe esta?\n\n\nQuem tiver sugestões por favor entre em contacto connosco.\nObrigada a todos pela participação e pelos contributos que nos têm enviado.\nPara acompanharem o resultado dos vossos contributos deixamos o link do glossário “Falar Corvino”: https://padlet.com/ecomuseu/5zdomsu4rcejijqy\nVotos de uma boa semana para todos!
URL:https://ecomuseu-corvo.cultura.azores.gov.pt/evento/falar-corvino-5-de-junho/
LOCATION:Ecomuseu do Corvo
CATEGORIES:Falar Corvino
ATTACH;FMTTYPE=image/png:https://ecomuseu-corvo.cultura.azores.gov.pt/wp-content/uploads/2023/02/Imagem2.png
END:VEVENT
END:VCALENDAR