BEGIN:VCALENDAR
VERSION:2.0
PRODID:-//Ecomuseu do Corvo - ECPv6.15.17//NONSGML v1.0//EN
CALSCALE:GREGORIAN
METHOD:PUBLISH
X-WR-CALNAME:Ecomuseu do Corvo
X-ORIGINAL-URL:https://ecomuseu-corvo.cultura.azores.gov.pt
X-WR-CALDESC:Eventos para Ecomuseu do Corvo
REFRESH-INTERVAL;VALUE=DURATION:PT1H
X-Robots-Tag:noindex
X-PUBLISHED-TTL:PT1H
BEGIN:VTIMEZONE
TZID:Atlantic/Azores
BEGIN:DAYLIGHT
TZOFFSETFROM:-0100
TZOFFSETTO:+0000
TZNAME:+00
DTSTART:20220327T010000
END:DAYLIGHT
BEGIN:STANDARD
TZOFFSETFROM:+0000
TZOFFSETTO:-0100
TZNAME:-01
DTSTART:20221030T010000
END:STANDARD
BEGIN:DAYLIGHT
TZOFFSETFROM:-0100
TZOFFSETTO:+0000
TZNAME:+00
DTSTART:20230326T010000
END:DAYLIGHT
BEGIN:STANDARD
TZOFFSETFROM:+0000
TZOFFSETTO:-0100
TZNAME:-01
DTSTART:20231029T010000
END:STANDARD
BEGIN:DAYLIGHT
TZOFFSETFROM:-0100
TZOFFSETTO:+0000
TZNAME:+00
DTSTART:20240331T010000
END:DAYLIGHT
BEGIN:STANDARD
TZOFFSETFROM:+0000
TZOFFSETTO:-0100
TZNAME:-01
DTSTART:20241027T010000
END:STANDARD
END:VTIMEZONE
BEGIN:VEVENT
DTSTART;VALUE=DATE:20230401
DTEND;VALUE=DATE:20230501
DTSTAMP:20260425T135104
CREATED:20230401T155611Z
LAST-MODIFIED:20230330T155836Z
UID:2417-1680307200-1682899199@ecomuseu-corvo.cultura.azores.gov.pt
SUMMARY:Peça do Mês - abril
DESCRIPTION:A peça do mês de abril é dedicada à área da marcenaria/agricultura. Trata-se da caneca. \nEste bem móvel passou recentemente por um procedimento de intervenção de conservação preventiva com limpeza mecânica da peça e aplicação de cera de abelha e aguarrás e cera microcristalina.\nQuem nos sabe dizer para que servia?\nPrecisamos de ajuda na identificação\, bem como de informação sobre a sua utilização.\nA sua participação é muito importante para o trabalho que o Ecomuseu do Corvo está a realizar\, no âmbito do inventário participativo do património móvel do Corvo.\nO Ecomuseu somos todos nós!\nPara acompanharem o resultado dos vossos contributos deixamos o link das informações recolhidas da “Peça do Mês”:\nhttps://padlet.com/tatianamfragata/sd9vd5npqbzulcoj
URL:https://ecomuseu-corvo.cultura.azores.gov.pt/evento/peca-do-mes-abril/
LOCATION:Ecomuseu do Corvo
CATEGORIES:Peça do Mês
ATTACH;FMTTYPE=image/png:https://ecomuseu-corvo.cultura.azores.gov.pt/wp-content/uploads/2023/03/Copia-de-Publicacao-para-Twitter-de-Oficina-de-Artesanato-1-e1680191847129.png
END:VEVENT
BEGIN:VEVENT
DTSTART;TZID=Atlantic/Azores:20230417T080000
DTEND;TZID=Atlantic/Azores:20230423T170000
DTSTAMP:20260425T135104
CREATED:20230417T141137Z
LAST-MODIFIED:20230502T141249Z
UID:2530-1681718400-1682269200@ecomuseu-corvo.cultura.azores.gov.pt
SUMMARY:Falar Corvino - 17 de abril
DESCRIPTION:Quem sabe esta? \nQuem tiver sugestões por favor entre em contacto connosco.\nObrigada a todos pela participação e pelos contributos que nos têm enviado.\nPara acompanharem o resultado dos vossos contributos deixamos o link do glossário “Falar Corvino”: https://padlet.com/ecomuseu/5zdomsu4rcejijqy\nVotos de uma boa semana para todos!
URL:https://ecomuseu-corvo.cultura.azores.gov.pt/evento/falar-corvino-17-de-abril/
LOCATION:Ecomuseu do Corvo
CATEGORIES:Falar Corvino
ATTACH;FMTTYPE=image/png:https://ecomuseu-corvo.cultura.azores.gov.pt/wp-content/uploads/2023/02/Imagem2.png
END:VEVENT
END:VCALENDAR