BEGIN:VCALENDAR
VERSION:2.0
PRODID:-//Ecomuseu do Corvo - ECPv6.15.17//NONSGML v1.0//EN
CALSCALE:GREGORIAN
METHOD:PUBLISH
X-WR-CALNAME:Ecomuseu do Corvo
X-ORIGINAL-URL:https://ecomuseu-corvo.cultura.azores.gov.pt
X-WR-CALDESC:Eventos para Ecomuseu do Corvo
REFRESH-INTERVAL;VALUE=DURATION:PT1H
X-Robots-Tag:noindex
X-PUBLISHED-TTL:PT1H
BEGIN:VTIMEZONE
TZID:Atlantic/Azores
BEGIN:DAYLIGHT
TZOFFSETFROM:-0100
TZOFFSETTO:+0000
TZNAME:+00
DTSTART:20210328T010000
END:DAYLIGHT
BEGIN:STANDARD
TZOFFSETFROM:+0000
TZOFFSETTO:-0100
TZNAME:-01
DTSTART:20211031T010000
END:STANDARD
BEGIN:DAYLIGHT
TZOFFSETFROM:-0100
TZOFFSETTO:+0000
TZNAME:+00
DTSTART:20220327T010000
END:DAYLIGHT
BEGIN:STANDARD
TZOFFSETFROM:+0000
TZOFFSETTO:-0100
TZNAME:-01
DTSTART:20221030T010000
END:STANDARD
BEGIN:DAYLIGHT
TZOFFSETFROM:-0100
TZOFFSETTO:+0000
TZNAME:+00
DTSTART:20230326T010000
END:DAYLIGHT
BEGIN:STANDARD
TZOFFSETFROM:+0000
TZOFFSETTO:-0100
TZNAME:-01
DTSTART:20231029T010000
END:STANDARD
END:VTIMEZONE
BEGIN:VEVENT
DTSTART;VALUE=DATE:20220103
DTEND;VALUE=DATE:20230101
DTSTAMP:20260425T203248
CREATED:20220103T111254Z
LAST-MODIFIED:20221031T111612Z
UID:834-1641168000-1672531199@ecomuseu-corvo.cultura.azores.gov.pt
SUMMARY:Inventário Participativo do Património Cultural do Corvo
DESCRIPTION:O Ecomuseu do Corvo iniciou o trabalho de resgate e inventário do Património Cultural Imaterial da ilha do Corvo. \nA Unesco define como Património Cultural Imaterial “as práticas\, representações\, expressões\, conhecimentos e técnicas – juntamente com os instrumentos\, objetos\, artefactos e lugares culturais que lhes são associados – que as comunidades\, os grupos e\, em alguns casos\, os indivíduos reconhecem como parte integrante de seu património cultural.” \nPretende-se com esta ação incorporar no acervo do Património móvel do Ecomuseu do Corvo os instrumentos\, objetos e artefactos ligados ao quotidiano ancestral da comunidade corvina e\, assim\, preservar a sua História e a sua Memória para as gerações vindouras. \nCom esta ação o Ecomuseu do Corvo iniciará um processo de resgate do rico Património móvel ainda existente na ilha. Esta ação é de extrema importância\, pois pretende-se que o Património móvel seja transmitido de geração em geração e constantemente recriado pelas comunidades e pelos grupos em função do seu ambiente\, da sua interação com a natureza e da sua História\, gerando um sentimento de identidade e de continuidade\, contribuindo\, assim\, para promover o respeito pela diversidade cultural e pela criatividade humana.
URL:https://ecomuseu-corvo.cultura.azores.gov.pt/evento/inventario-participativo-do-patrimonio-cultural-do-corvo/
LOCATION:Ecomuseu do Corvo
CATEGORIES:Património
ATTACH;FMTTYPE=image/png:https://ecomuseu-corvo.cultura.azores.gov.pt/wp-content/uploads/2022/03/Copia-de-inventario-participativo-do-patrimonio-movel.png
END:VEVENT
BEGIN:VEVENT
DTSTART;TZID=Atlantic/Azores:20220919T080000
DTEND;TZID=Atlantic/Azores:20220925T170000
DTSTAMP:20260425T203248
CREATED:20220919T093813Z
LAST-MODIFIED:20220924T144000Z
UID:2053-1663574400-1664125200@ecomuseu-corvo.cultura.azores.gov.pt
SUMMARY:Falar Corvino - 19 de setembro
DESCRIPTION:E o desafio continua com mais uma palavra…\nQuem tiver sugestões por favor entre em contacto connosco.\nObrigada a todos pela participação e pelos contributos que nos têm enviado.\nPara acompanharem o resultado dos vossos contributos deixamos o link do glossário “Falar Corvino”: https://padlet.com/ecomuseu/5zdomsu4rcejijqy\nUma boa semana para todos!
URL:https://ecomuseu-corvo.cultura.azores.gov.pt/evento/falar-corvino-19-de-setembro/
LOCATION:Ecomuseu do Corvo
CATEGORIES:Falar Corvino
ATTACH;FMTTYPE=image/png:https://ecomuseu-corvo.cultura.azores.gov.pt/wp-content/uploads/2022/09/falar-corvino-1-1.png
END:VEVENT
BEGIN:VEVENT
DTSTART;VALUE=DATE:20220922
DTEND;VALUE=DATE:20220923
DTSTAMP:20260425T203248
CREATED:20220921T143337Z
LAST-MODIFIED:20220924T143537Z
UID:2047-1663804800-1663891199@ecomuseu-corvo.cultura.azores.gov.pt
SUMMARY:2ª Campanha do Património
DESCRIPTION:Na sequência da 2.ª campanha do Património da Ilha do Corvo\, dinamizada através de uma parceria direta com o Centro do Património Móvel\, Imaterial e Arqueológico dos Açores\, vimos informar que amanhã\, dia 22 de setembro\, irá decorrer\, no centro de convívio da Santa Casa da Misericórdia da Vila do Corvo\, uma sessão de sensibilização\, dinamizada pela equipa de arqueólogos\, que está no Corvo a realizar uma nova expedição focada no Património cultural subaquático.\nEsta campanha centrou-se na procura de vestígios de antigos naufrágios resultantes de embarcações que por aqui passaram\, desde o tempo das naus da Índia até aos grandes barcos a vapor que atravessaram o Atlântico\, para ligar a Europa à América.\nEsta sessão de sensibilização será desdobrada em duas ações\, a decorrer nos seguintes horários:\n1.ª sessão – alunos do 1.º e 2.º ciclos: das 13h15 às 1400\n2.ª sessão – aberta a toda a comunidade – a partir das 16h00\nNestas ações os arqueólogos Pedro Parreira e Luís Borges irão apresentar os resultados desta campanha\, sempre com o objetivo de devolver a herança cultural do Corvo às suas gentes.\nEstão todos convidados!
URL:https://ecomuseu-corvo.cultura.azores.gov.pt/evento/2a-campanha-do-patrimonio/
LOCATION:Ecomuseu do Corvo
CATEGORIES:Património
ATTACH;FMTTYPE=image/jpeg:https://ecomuseu-corvo.cultura.azores.gov.pt/wp-content/uploads/2022/09/308341367_464272242417101_6163480970262154225_n-e1678963986223.jpg
END:VEVENT
BEGIN:VEVENT
DTSTART;TZID=Atlantic/Azores:20220922T160000
DTEND;TZID=Atlantic/Azores:20220922T180000
DTSTAMP:20260425T203248
CREATED:20220908T154012Z
LAST-MODIFIED:20221031T111422Z
UID:1931-1663862400-1663869600@ecomuseu-corvo.cultura.azores.gov.pt
SUMMARY:2.ª Campanha do Património da Ilha do Corvo
DESCRIPTION:Entre 12 e 23 de setembro\, a Direção Regional dos Assuntos Culturais\, na figura do Ecomuseu do Corvo\, promove a 2.ª Campanha do Património da Ilha do Corvo.\nAo longo desses onze dias\, irão desenrolar-se várias atividades\, numa parceria direta com o Centro do Património Móvel\, Imaterial e Arqueológico dos Açores\, à semelhança do já ocorrido no passado ano de 2021\, aquando das prospeções arqueológicas\, realizadas na zona do “Engenho” e no moinho do Caldeirão\, e das ações de restauro do tear típico do Corvo.\nEste ano\, o Ecomuseu promove um trabalho de formação na área de conservação e restauro do património cultural móvel\, contando para tal com a presença de Paulo Silveira\, especialista nas áreas de marcenaria\, carpintaria especializada e restauro em madeira. O profissional irá orientar uma formação interna\, com a equipa do Ecomuseu\, e apresentar esclarecimentos junto da comunidade\, encontrando-se\, para esse efeito\, a trabalhar no Pavilhão Multiusos\, das 09h30 às 12:30 e das 13:30 às 17:30\, entre os dias 12 e 16 de setembro\, em regime “porta aberta”.\nA equipa de arqueologia regressa este ano ao Corvo com uma nova missão\, focada no património cultural subaquático. Os arqueólogos Pedro Parreira e Luís Borges irão promover uma campanha de batimento da costa da ilha\, em busca de vestígios de antigos naufrágios que por ali passaram\, desde o tempo das naus da Índia até aos grandes barcos a vapor que atravessaram o Atlântico\, para ligar a Europa à América.\nIrão também apresentar os resultados e as expectativas junto da comunidade\, numa sessão de boas-práticas\, com os mais novos\, e uma outra\, aberta a todo o público\, sempre com o objetivo de devolver a herança cultural do Corvo às suas pessoas.\nO Ecomuseu do Corvo convida toda a comunidade a participar.
URL:https://ecomuseu-corvo.cultura.azores.gov.pt/evento/2-a-campanha-do-patrimonio-da-ilha-do-corvo/
LOCATION:Ecomuseu do Corvo
CATEGORIES:Património
ATTACH;FMTTYPE=image/jpeg:https://ecomuseu-corvo.cultura.azores.gov.pt/wp-content/uploads/2022/09/305806773_454728853371440_5810611417149683152_n-1.jpg
END:VEVENT
END:VCALENDAR