BEGIN:VCALENDAR
VERSION:2.0
PRODID:-//Ecomuseu do Corvo - ECPv6.15.17//NONSGML v1.0//EN
CALSCALE:GREGORIAN
METHOD:PUBLISH
X-WR-CALNAME:Ecomuseu do Corvo
X-ORIGINAL-URL:https://ecomuseu-corvo.cultura.azores.gov.pt
X-WR-CALDESC:Eventos para Ecomuseu do Corvo
REFRESH-INTERVAL;VALUE=DURATION:PT1H
X-Robots-Tag:noindex
X-PUBLISHED-TTL:PT1H
BEGIN:VTIMEZONE
TZID:Atlantic/Azores
BEGIN:DAYLIGHT
TZOFFSETFROM:-0100
TZOFFSETTO:+0000
TZNAME:+00
DTSTART:20200329T010000
END:DAYLIGHT
BEGIN:STANDARD
TZOFFSETFROM:+0000
TZOFFSETTO:-0100
TZNAME:-01
DTSTART:20201025T010000
END:STANDARD
BEGIN:DAYLIGHT
TZOFFSETFROM:-0100
TZOFFSETTO:+0000
TZNAME:+00
DTSTART:20210328T010000
END:DAYLIGHT
BEGIN:STANDARD
TZOFFSETFROM:+0000
TZOFFSETTO:-0100
TZNAME:-01
DTSTART:20211031T010000
END:STANDARD
BEGIN:DAYLIGHT
TZOFFSETFROM:-0100
TZOFFSETTO:+0000
TZNAME:+00
DTSTART:20220327T010000
END:DAYLIGHT
BEGIN:STANDARD
TZOFFSETFROM:+0000
TZOFFSETTO:-0100
TZNAME:-01
DTSTART:20221030T010000
END:STANDARD
BEGIN:DAYLIGHT
TZOFFSETFROM:-0100
TZOFFSETTO:+0000
TZNAME:+00
DTSTART:20230326T010000
END:DAYLIGHT
BEGIN:STANDARD
TZOFFSETFROM:+0000
TZOFFSETTO:-0100
TZNAME:-01
DTSTART:20231029T010000
END:STANDARD
END:VTIMEZONE
BEGIN:VEVENT
DTSTART;VALUE=DATE:20211208
DTEND;VALUE=DATE:20220801
DTSTAMP:20260425T164849
CREATED:20211208T172510Z
LAST-MODIFIED:20220310T173427Z
UID:813-1638921600-1659311999@ecomuseu-corvo.cultura.azores.gov.pt
SUMMARY:Exposição "Retalho da Saudade"
DESCRIPTION:Uma imagem vale mais que mil palavras! \nMais do que a objetividade de um texto\, a fotografia contextualiza uma vivência\, uma tradição\, uma época\, a História de uma Comunidade e a sua Identidade. \nNesta exposição\, intitulada Retalho de Saudade\, a Comunidade corvina vai poder relembrar e contar um pouco da sua História\, tal como um “retalho”\, narrado visualmente. Aqui poderá estabelecer uma relação entre o passado e o presente e isto acontece porque as fotografias têm o poder da sensibilização – ou seja\, atingem quem as observa tanto a nível estético como emocional – por vezes marcada pela “Saudade”. \nQuem nos visita poderá\, através destas fotografias\, retalhos de um passado próximo\, imaginar a História e as tradições desta Comunidade ancestral e resiliente. \nApós a inauguração\, a exposição ficará patente até ao mês de julho de 2022 no seguinte horário: de segunda a sexta-feira das 10h30 às 12h30 e das 14h30 às 17h00. \nNo atual contexto pandémico\, serão cumpridas todas as regras determinadas pela Autoridade de Saúde\, nomeadamente o uso de máscara\, o distanciamento social e a desinfeção das mãos.
URL:https://ecomuseu-corvo.cultura.azores.gov.pt/evento/exposicao-retalho-da-saudade/
LOCATION:Espaço Cultural Multiusos
CATEGORIES:Exposições
ATTACH;FMTTYPE=image/png:https://ecomuseu-corvo.cultura.azores.gov.pt/wp-content/uploads/2022/03/CartazA4_retalhosdesaudade_v4OT-1.png
END:VEVENT
BEGIN:VEVENT
DTSTART;VALUE=DATE:20220103
DTEND;VALUE=DATE:20230101
DTSTAMP:20260425T164849
CREATED:20220103T111254Z
LAST-MODIFIED:20221031T111612Z
UID:834-1641168000-1672531199@ecomuseu-corvo.cultura.azores.gov.pt
SUMMARY:Inventário Participativo do Património Cultural do Corvo
DESCRIPTION:O Ecomuseu do Corvo iniciou o trabalho de resgate e inventário do Património Cultural Imaterial da ilha do Corvo. \nA Unesco define como Património Cultural Imaterial “as práticas\, representações\, expressões\, conhecimentos e técnicas – juntamente com os instrumentos\, objetos\, artefactos e lugares culturais que lhes são associados – que as comunidades\, os grupos e\, em alguns casos\, os indivíduos reconhecem como parte integrante de seu património cultural.” \nPretende-se com esta ação incorporar no acervo do Património móvel do Ecomuseu do Corvo os instrumentos\, objetos e artefactos ligados ao quotidiano ancestral da comunidade corvina e\, assim\, preservar a sua História e a sua Memória para as gerações vindouras. \nCom esta ação o Ecomuseu do Corvo iniciará um processo de resgate do rico Património móvel ainda existente na ilha. Esta ação é de extrema importância\, pois pretende-se que o Património móvel seja transmitido de geração em geração e constantemente recriado pelas comunidades e pelos grupos em função do seu ambiente\, da sua interação com a natureza e da sua História\, gerando um sentimento de identidade e de continuidade\, contribuindo\, assim\, para promover o respeito pela diversidade cultural e pela criatividade humana.
URL:https://ecomuseu-corvo.cultura.azores.gov.pt/evento/inventario-participativo-do-patrimonio-cultural-do-corvo/
LOCATION:Ecomuseu do Corvo
CATEGORIES:Património
ATTACH;FMTTYPE=image/png:https://ecomuseu-corvo.cultura.azores.gov.pt/wp-content/uploads/2022/03/Copia-de-inventario-participativo-do-patrimonio-movel.png
END:VEVENT
BEGIN:VEVENT
DTSTART;VALUE=DATE:20220401
DTEND;VALUE=DATE:20220501
DTSTAMP:20260425T164849
CREATED:20220401T104043Z
LAST-MODIFIED:20220422T111740Z
UID:1493-1648771200-1651363199@ecomuseu-corvo.cultura.azores.gov.pt
SUMMARY:Peça do mês_abril
DESCRIPTION:Estamos a realizar o inventário desta peça!\nPrecisamos de ajuda na identificação\, bem como de informação sobre a sua utilização.\nA sua participação é muito importante para o trabalho que o Ecomuseu do Corvo está a realizar\, no âmbito do inventário participativo do património móvel do Corvo.\nO Ecomuseu somos todos nós!\nPara acompanharem o resultado dos vossos contributos deixamos o link das informações recolhidas da “Peça do Mês“.
URL:https://ecomuseu-corvo.cultura.azores.gov.pt/evento/peca-do-mes_abril/
LOCATION:Ecomuseu do Corvo
CATEGORIES:Peça do Mês
ATTACH;FMTTYPE=image/png:https://ecomuseu-corvo.cultura.azores.gov.pt/wp-content/uploads/2022/04/Peca-do-mes_Cola.png
END:VEVENT
BEGIN:VEVENT
DTSTART;VALUE=DATE:20220406
DTEND;VALUE=DATE:20220420
DTSTAMP:20260425T164849
CREATED:20220408T151840Z
LAST-MODIFIED:20220422T152205Z
UID:1507-1649203200-1650412799@ecomuseu-corvo.cultura.azores.gov.pt
SUMMARY:Ler é Saber!
DESCRIPTION:Ler é Saber!\nO Ecomuseu do Corvo tem disponível para requisição\, na Casa do Tempo\, alguns livros para as leituras da Páscoa.\nTemos livros para todas idades e preferências.\nCom esta ação pretendemos estimular hábitos de leitura\, garantir o acesso aos livros oferecendo\, assim\, a oportunidade de ampliar a cultura e o conhecimento por meio do lazer e do entretenimento.
URL:https://ecomuseu-corvo.cultura.azores.gov.pt/evento/ler-e-saber/
LOCATION:Casa do Tempo
CATEGORIES:Férias no Ecomuseu
ATTACH;FMTTYPE=image/png:https://ecomuseu-corvo.cultura.azores.gov.pt/wp-content/uploads/2022/04/ler-e-saber-1.png
END:VEVENT
BEGIN:VEVENT
DTSTART;TZID=Atlantic/Azores:20220407T143000
DTEND;TZID=Atlantic/Azores:20220413T163000
DTSTAMP:20260425T164849
CREATED:20220402T152427Z
LAST-MODIFIED:20220422T152640Z
UID:1512-1649341800-1649867400@ecomuseu-corvo.cultura.azores.gov.pt
SUMMARY:Férias no Ecomuseu
DESCRIPTION:Nas férias da Páscoa o Ecomuseu do Corvo\, em articulação com a Biblioteca Escolar\, promove atividades com as crianças e jovens\, em que se pretende estimular a imaginação\, a criatividade e demonstrar como aprender pode ser divertido.\nPreparámos um conjunto de atividades especiais alusivas à época da Páscoa\, à educação ambiental e patrimonial. Estas atividades irão decorrer Multiusos do Corvo nos dias 07\, 08 12 e 13 de abril\, a partir das 14h30. \nPrograma: \n07/04/2022 – das 14h30 às 15h30 –  Sessão de cinema – Extensão Cine’Eco (1.º\, 2.º e 3.º ciclos)\n07/04/2022 – das 15h30 às 16h45 –  Sessão de cinema – Extensão Cine’Eco (alunos do terceiro ciclo e do ensino secundário) \n08/04/2022 – Educação ambiental e Patrimonial – “Faz o teu moinho de vento” (alunos do 1.º e 2.º ciclos)\nPretende-se com esta atividade explicar o engenho do moinho\, demonstrar a importância dos moinhos na História do Corvo e sensibilizar para a preservação dos moinhos.\nNo final cada criança irá construir um moinho de vento com materiais reutilizáveis. Apenas será necessário trazerem o estojo escolar. \n12/04/2022 – Educação ambiental e Patrimonial – “Vamos Tecer” (alunos do 1.º e 2.º ciclos)\nPretende-se com esta atividade explicar a importância do tear antigamente e no presente\, mostrar a ação de urdir e sensibilizar para a preservação dos teares.\nO Ecomuseu oferece os materiais para cada criança elaborar o seu tear de cartão. \n13/04/2022 – Jogos do Património e Caça ao Ovo (alunos do 1.º e 2.º ciclos)\nRealização de vários jogos didáticos:\nTorneio quarteto de marcas; puzzle do património; Jarmo Corvino e Enigma da fechadura.\nEncerramento das atividades com uma caça ao ovo e entrega de certificados.\nAo longo das duas semanas de interrupção da Páscoa iremos promover a atividade “Ler é Saber!” com propostas de leitura no Ecomuseu. Os livros poderão ser requisitados na Casa do Tempo.\nEm todas as atividades as crianças e jovens serão acompanhados pelos técnicos do Ecomuseu.
URL:https://ecomuseu-corvo.cultura.azores.gov.pt/evento/ferias-no-ecomuseu/
LOCATION:Espaço Cultural Multiusos
CATEGORIES:Férias no Ecomuseu
ATTACH;FMTTYPE=image/png:https://ecomuseu-corvo.cultura.azores.gov.pt/wp-content/uploads/2022/04/Ferias-da-Pascoa-no-Ecomuseu.png
END:VEVENT
BEGIN:VEVENT
DTSTART;VALUE=DATE:20220411
DTEND;VALUE=DATE:20220418
DTSTAMP:20260425T164849
CREATED:20220411T101044Z
LAST-MODIFIED:20220422T102034Z
UID:1484-1649635200-1650239999@ecomuseu-corvo.cultura.azores.gov.pt
SUMMARY:Falar Corvino_11 de abril
DESCRIPTION:Mais uma semana\, mais um desafio “Falar Corvino”!\nObrigada a todos pela participação e pelos contributos que nos têm enviado.\nPara acompanharem o resultado dos vossos contributos deixamos o link do glossário “Falar Corvino” (onde já está disponível o significado de “Jampa”). \nUma boa semana para todos!
URL:https://ecomuseu-corvo.cultura.azores.gov.pt/evento/falar-corvino_11-de-abril/
LOCATION:Ecomuseu do Corvo
CATEGORIES:Falar Corvino
ATTACH;FMTTYPE=image/png:https://ecomuseu-corvo.cultura.azores.gov.pt/wp-content/uploads/2022/03/275667009_336335045210822_3824569513640557406_n-1-1-1.png
END:VEVENT
END:VCALENDAR