BEGIN:VCALENDAR
VERSION:2.0
PRODID:-//Ecomuseu do Corvo - ECPv6.15.17//NONSGML v1.0//EN
CALSCALE:GREGORIAN
METHOD:PUBLISH
X-WR-CALNAME:Ecomuseu do Corvo
X-ORIGINAL-URL:https://ecomuseu-corvo.cultura.azores.gov.pt
X-WR-CALDESC:Eventos para Ecomuseu do Corvo
REFRESH-INTERVAL;VALUE=DURATION:PT1H
X-Robots-Tag:noindex
X-PUBLISHED-TTL:PT1H
BEGIN:VTIMEZONE
TZID:Atlantic/Azores
BEGIN:DAYLIGHT
TZOFFSETFROM:-0100
TZOFFSETTO:+0000
TZNAME:+00
DTSTART:20200329T010000
END:DAYLIGHT
BEGIN:STANDARD
TZOFFSETFROM:+0000
TZOFFSETTO:-0100
TZNAME:-01
DTSTART:20201025T010000
END:STANDARD
BEGIN:DAYLIGHT
TZOFFSETFROM:-0100
TZOFFSETTO:+0000
TZNAME:+00
DTSTART:20210328T010000
END:DAYLIGHT
BEGIN:STANDARD
TZOFFSETFROM:+0000
TZOFFSETTO:-0100
TZNAME:-01
DTSTART:20211031T010000
END:STANDARD
BEGIN:DAYLIGHT
TZOFFSETFROM:-0100
TZOFFSETTO:+0000
TZNAME:+00
DTSTART:20220327T010000
END:DAYLIGHT
BEGIN:STANDARD
TZOFFSETFROM:+0000
TZOFFSETTO:-0100
TZNAME:-01
DTSTART:20221030T010000
END:STANDARD
BEGIN:DAYLIGHT
TZOFFSETFROM:-0100
TZOFFSETTO:+0000
TZNAME:+00
DTSTART:20230326T010000
END:DAYLIGHT
BEGIN:STANDARD
TZOFFSETFROM:+0000
TZOFFSETTO:-0100
TZNAME:-01
DTSTART:20231029T010000
END:STANDARD
END:VTIMEZONE
BEGIN:VEVENT
DTSTART;VALUE=DATE:20211208
DTEND;VALUE=DATE:20220801
DTSTAMP:20260425T164357
CREATED:20211208T172510Z
LAST-MODIFIED:20220310T173427Z
UID:813-1638921600-1659311999@ecomuseu-corvo.cultura.azores.gov.pt
SUMMARY:Exposição "Retalho da Saudade"
DESCRIPTION:Uma imagem vale mais que mil palavras! \nMais do que a objetividade de um texto\, a fotografia contextualiza uma vivência\, uma tradição\, uma época\, a História de uma Comunidade e a sua Identidade. \nNesta exposição\, intitulada Retalho de Saudade\, a Comunidade corvina vai poder relembrar e contar um pouco da sua História\, tal como um “retalho”\, narrado visualmente. Aqui poderá estabelecer uma relação entre o passado e o presente e isto acontece porque as fotografias têm o poder da sensibilização – ou seja\, atingem quem as observa tanto a nível estético como emocional – por vezes marcada pela “Saudade”. \nQuem nos visita poderá\, através destas fotografias\, retalhos de um passado próximo\, imaginar a História e as tradições desta Comunidade ancestral e resiliente. \nApós a inauguração\, a exposição ficará patente até ao mês de julho de 2022 no seguinte horário: de segunda a sexta-feira das 10h30 às 12h30 e das 14h30 às 17h00. \nNo atual contexto pandémico\, serão cumpridas todas as regras determinadas pela Autoridade de Saúde\, nomeadamente o uso de máscara\, o distanciamento social e a desinfeção das mãos.
URL:https://ecomuseu-corvo.cultura.azores.gov.pt/evento/exposicao-retalho-da-saudade/
LOCATION:Espaço Cultural Multiusos
CATEGORIES:Exposições
ATTACH;FMTTYPE=image/png:https://ecomuseu-corvo.cultura.azores.gov.pt/wp-content/uploads/2022/03/CartazA4_retalhosdesaudade_v4OT-1.png
END:VEVENT
BEGIN:VEVENT
DTSTART;VALUE=DATE:20220103
DTEND;VALUE=DATE:20230101
DTSTAMP:20260425T164357
CREATED:20220103T111254Z
LAST-MODIFIED:20221031T111612Z
UID:834-1641168000-1672531199@ecomuseu-corvo.cultura.azores.gov.pt
SUMMARY:Inventário Participativo do Património Cultural do Corvo
DESCRIPTION:O Ecomuseu do Corvo iniciou o trabalho de resgate e inventário do Património Cultural Imaterial da ilha do Corvo. \nA Unesco define como Património Cultural Imaterial “as práticas\, representações\, expressões\, conhecimentos e técnicas – juntamente com os instrumentos\, objetos\, artefactos e lugares culturais que lhes são associados – que as comunidades\, os grupos e\, em alguns casos\, os indivíduos reconhecem como parte integrante de seu património cultural.” \nPretende-se com esta ação incorporar no acervo do Património móvel do Ecomuseu do Corvo os instrumentos\, objetos e artefactos ligados ao quotidiano ancestral da comunidade corvina e\, assim\, preservar a sua História e a sua Memória para as gerações vindouras. \nCom esta ação o Ecomuseu do Corvo iniciará um processo de resgate do rico Património móvel ainda existente na ilha. Esta ação é de extrema importância\, pois pretende-se que o Património móvel seja transmitido de geração em geração e constantemente recriado pelas comunidades e pelos grupos em função do seu ambiente\, da sua interação com a natureza e da sua História\, gerando um sentimento de identidade e de continuidade\, contribuindo\, assim\, para promover o respeito pela diversidade cultural e pela criatividade humana.
URL:https://ecomuseu-corvo.cultura.azores.gov.pt/evento/inventario-participativo-do-patrimonio-cultural-do-corvo/
LOCATION:Ecomuseu do Corvo
CATEGORIES:Património
ATTACH;FMTTYPE=image/png:https://ecomuseu-corvo.cultura.azores.gov.pt/wp-content/uploads/2022/03/Copia-de-inventario-participativo-do-patrimonio-movel.png
END:VEVENT
BEGIN:VEVENT
DTSTART;VALUE=DATE:20220301
DTEND;VALUE=DATE:20220401
DTSTAMP:20260425T164357
CREATED:20220301T171746Z
LAST-MODIFIED:20231010T160053Z
UID:809-1646092800-1648771199@ecomuseu-corvo.cultura.azores.gov.pt
SUMMARY:Peça do Mês - março
DESCRIPTION:Necessitamos de ajuda na identificação desta peça\, bem como de informação sobre a sua utilização.\nA sua participação é muito importante para o trabalho que o Ecomuseu do Corvo está a realizar\, no âmbito do inventário participativo do património móvel do Corvo\nO seu contributo é muito importante e o Ecomuseu agradece.\nO Ecomuseu somos todos nós!
URL:https://ecomuseu-corvo.cultura.azores.gov.pt/evento/peca-do-mes-marco/
LOCATION:Ecomuseu do Corvo
CATEGORIES:Peça do Mês
ATTACH;FMTTYPE=image/png:https://ecomuseu-corvo.cultura.azores.gov.pt/wp-content/uploads/2022/03/peca_mes_marco-1.png
END:VEVENT
BEGIN:VEVENT
DTSTART;VALUE=DATE:20220308
DTEND;VALUE=DATE:20220406
DTSTAMP:20260425T164357
CREATED:20220308T161502Z
LAST-MODIFIED:20231010T160043Z
UID:778-1646697600-1649203199@ecomuseu-corvo.cultura.azores.gov.pt
SUMMARY:Foto do mês - março
DESCRIPTION:“A foto do mês” de março é dedicada a todas as Mulheres\, em especial à Mulher Corvina.\nA foto selecionada representa algumas Mulheres sentadas no Largo do Outeiro nos anos 50.\nPertence a Óscar Valentim Rocha– Arquivo Fotográfico do Corvo.\nNecessitamos de ajuda na identificação das pessoas fotografadas. A vossa ajuda é preciosa para podermos enriquecer o arquivo fotográfico do Corvo e\, assim\, preservar a História e a Memória da comunidade corvina.\nPoderá fazer a identificação através dos números constantes na foto\, fazendo um comentário à presente publicação.\nPoderá\, em alternativa\, endereçar um email ao Ecomuseu do Corvo: ecomuseu.corvo.info@azores.gov.pt.\nA sua participação e contributos são muito importantes e o Ecomuseu agradece.\nO Ecomuseu somos todos nós!
URL:https://ecomuseu-corvo.cultura.azores.gov.pt/evento/foto-do-mes-marco/
LOCATION:Ecomuseu do Corvo
CATEGORIES:Fotografia do Mês
ATTACH;FMTTYPE=image/png:https://ecomuseu-corvo.cultura.azores.gov.pt/wp-content/uploads/2022/03/Foto-do-mes-3.png
END:VEVENT
BEGIN:VEVENT
DTSTART;VALUE=DATE:20220321
DTEND;VALUE=DATE:20220328
DTSTAMP:20260425T164357
CREATED:20220321T105955Z
LAST-MODIFIED:20220422T100510Z
UID:1475-1647820800-1648425599@ecomuseu-corvo.cultura.azores.gov.pt
SUMMARY:Falar Corvino_21 de março
DESCRIPTION:Para esta semana temos dois desafios que nos foram propostos pelo Pedro Felicidade e pela Zita Mendes. Partilhamos\, também\, o Glossário “Falar Corvino” com os contributos reunidos até hoje. Todas as semanas lançamos um desafio à comunidade para\, de uma forma participativa\, construirmos um glossário online que\, inicialmente servirá para nos ajudar na recolha e divulgação do trabalho feito. \nObrigada pela vossa participação e contributos. O Ecomuseu somos todos nós!\nGlossário: “Falar Corvino“.
URL:https://ecomuseu-corvo.cultura.azores.gov.pt/evento/falar-corvino_21-de-marco/
LOCATION:Ecomuseu do Corvo
CATEGORIES:Falar Corvino
ATTACH;FMTTYPE=image/png:https://ecomuseu-corvo.cultura.azores.gov.pt/wp-content/uploads/2022/03/275667009_336335045210822_3824569513640557406_n-1-1-1.png
END:VEVENT
BEGIN:VEVENT
DTSTART;TZID=Atlantic/Azores:20220323T203000
DTEND;TZID=Atlantic/Azores:20220323T223000
DTSTAMP:20260425T164357
CREATED:20220321T163629Z
LAST-MODIFIED:20220422T153819Z
UID:1517-1648067400-1648074600@ecomuseu-corvo.cultura.azores.gov.pt
SUMMARY:Extensão Cine'Eco
DESCRIPTION:Extensão Cine’Eco\n23 de março\, às 20:30h \nO Ecomuseu do Corvo\, em parceria com o Cineclube da Ilha Terceira\, promove mais cinema da extensão Cine’Eco Seia -Festival Internacional de Cinema Ambiental da Serra da Estrela.\nFilmes:\n– FISHINGTHEPLASTIC\, Marina Lobo\, Portugal\, 2020\, Animação (4’)– PRÉMIO CURTA-METRAGEM EDUCAÇÃO AMBIENTAL / 2021\n– MIGRANTS\, Hugo Caby\, Antoine Dupriez\, Aubin Kubiak\, Lucas Lermytte e Zoé Devise\, França\, 2020\, Animação (8′) – MENÇÃO HONROSA CURTA-METRAGEM INTERNACIONAL /2021\n\n– ARICA\, Lars Edman e William Johansson Kalén\, Suécia\, Chile\, Noruega\, Bélgica e UK\, 2020\, Documentário (95’) – PRÉMIO ANTROPOLOGIA AMBIENTAL / 2021\n\nA entrada é gratuita!\nConsulte o programa e marque a sua presença.\nhttp://www.cineeco.pt/extensoes/2021/acores-corvo.pdf…
URL:https://ecomuseu-corvo.cultura.azores.gov.pt/evento/extensao-cineeco-4/
LOCATION:Espaço Cultural Multiusos
CATEGORIES:Cinema
ATTACH;FMTTYPE=image/jpeg:https://ecomuseu-corvo.cultura.azores.gov.pt/wp-content/uploads/2022/03/Banner_CineEco-1-1.jpg
END:VEVENT
BEGIN:VEVENT
DTSTART;TZID=Atlantic/Azores:20220323T210000
DTEND;TZID=Atlantic/Azores:20220323T223000
DTSTAMP:20260425T164357
CREATED:20220311T110348Z
LAST-MODIFIED:20231010T155931Z
UID:818-1648069200-1648074600@ecomuseu-corvo.cultura.azores.gov.pt
SUMMARY:Extensão Cine'ECO
DESCRIPTION:O Ecomuseu do Corvo\, em parceria com o Cineclube da Ilha Terceira\, irá dinamizar na ilha do Corvo a extensão Cine’Eco Seia -Festival Internacional de Cinema Ambiental da Serra da Estrela.\nDurante seis sessões serão exibidos os documentários premiados na 27.ª edição do Cine’Eco\, que decorreu em Seia em 2021.\nAs sessões decorrem todas as quartas-feiras\, pelas 21H00\, entre os dias 16 de março a 04 de maio\, no Multiusos do Corvo.\nNo dia 16 de março\, pelas 20h30\, decorrerá a sessão de abertura desta extensão cinematográfica\, que contará com a presença do Dr. Jorge Bruno Diretor do Cineclube da Ilha Terceira.\nA entrada é gratuita!\nConsulte o programa e marque a sua presença.
URL:https://ecomuseu-corvo.cultura.azores.gov.pt/evento/extensao-cineeco/
LOCATION:Espaço Cultural Multiusos
CATEGORIES:Cinema
ATTACH;FMTTYPE=image/jpeg:https://ecomuseu-corvo.cultura.azores.gov.pt/wp-content/uploads/2022/03/Banner_CineEco-1-1.jpg
END:VEVENT
END:VCALENDAR