BEGIN:VCALENDAR
VERSION:2.0
PRODID:-//Ecomuseu do Corvo - ECPv6.15.17//NONSGML v1.0//EN
CALSCALE:GREGORIAN
METHOD:PUBLISH
X-WR-CALNAME:Ecomuseu do Corvo
X-ORIGINAL-URL:https://ecomuseu-corvo.cultura.azores.gov.pt
X-WR-CALDESC:Eventos para Ecomuseu do Corvo
REFRESH-INTERVAL;VALUE=DURATION:PT1H
X-Robots-Tag:noindex
X-PUBLISHED-TTL:PT1H
BEGIN:VTIMEZONE
TZID:Atlantic/Azores
BEGIN:DAYLIGHT
TZOFFSETFROM:-0100
TZOFFSETTO:+0000
TZNAME:+00
DTSTART:20200329T010000
END:DAYLIGHT
BEGIN:STANDARD
TZOFFSETFROM:+0000
TZOFFSETTO:-0100
TZNAME:-01
DTSTART:20201025T010000
END:STANDARD
BEGIN:DAYLIGHT
TZOFFSETFROM:-0100
TZOFFSETTO:+0000
TZNAME:+00
DTSTART:20210328T010000
END:DAYLIGHT
BEGIN:STANDARD
TZOFFSETFROM:+0000
TZOFFSETTO:-0100
TZNAME:-01
DTSTART:20211031T010000
END:STANDARD
BEGIN:DAYLIGHT
TZOFFSETFROM:-0100
TZOFFSETTO:+0000
TZNAME:+00
DTSTART:20220327T010000
END:DAYLIGHT
BEGIN:STANDARD
TZOFFSETFROM:+0000
TZOFFSETTO:-0100
TZNAME:-01
DTSTART:20221030T010000
END:STANDARD
END:VTIMEZONE
BEGIN:VEVENT
DTSTART;VALUE=DATE:20210524
DTEND;VALUE=DATE:20220101
DTSTAMP:20260425T125703
CREATED:20210520T125140Z
LAST-MODIFIED:20220308T145325Z
UID:411-1621814400-1640995199@ecomuseu-corvo.cultura.azores.gov.pt
SUMMARY:Exposição Comemorativa dos 150 anos da Casa do Espírito Santo
DESCRIPTION:O Ecomuseu do Corvo vai inaugurar a 24 de maio uma exposição de fotografias comemorativa dos 150 anos da Casa do Espírito Santo do Corvo\, que ficará patente até ao final do ano na Casa do Espírito Santo do Corvo\, localizada no Largo do Outeiro\, no Núcleo Antigo da Vila.\n\n\n\n\nEsta exposição\, constituída por 50 fotografias pertencentes ao Arquivo Fotográfico do Corvo\, procura homenagear esta tradição secular e refletir a evolução que ocorreu ao longo das décadas\, naquelas que são as manifestações associadas ao Culto do Espírito Santo na mais pequena ilha dos Açores e que remontam aos primórdios do povoamento.
URL:https://ecomuseu-corvo.cultura.azores.gov.pt/evento/awesome-event/
LOCATION:Casa do Espírito Santo do Corvo\, Largo do Outeiro
CATEGORIES:Exposições
ATTACH;FMTTYPE=image/png:https://ecomuseu-corvo.cultura.azores.gov.pt/wp-content/uploads/2021/05/cartaz-impressao-horario-2.png
END:VEVENT
BEGIN:VEVENT
DTSTART;VALUE=DATE:20210816
DTEND;VALUE=DATE:20210901
DTSTAMP:20260425T125703
CREATED:20210809T141032Z
LAST-MODIFIED:20220310T151959Z
UID:649-1629072000-1630454399@ecomuseu-corvo.cultura.azores.gov.pt
SUMMARY:1.ª Feira do Livro do Ecomuseu do Corvo
DESCRIPTION:Em articulação com os objetivos do Plano Regional de Leitura o Ecomuseu do Corvo irá prolongar\, durante o mês de setembro\, a 1.ª Feira do Livro do Ecomuseu. Pretende-se com esta ação popularizar o livro tornando-o um instrumento de acesso à informação e ao conhecimento\, incentivando-se à leitura. Com a realização da 1.ª Feira do Livro do Ecomuseu pretende-se\, ainda\, garantir o acesso aos livros oferecendo-se\, assim\, a oportunidade de ampliar a cultura e o conhecimento por meio do lazer e do entretenimento. \n———————————- // ————————————————- \nIrá decorrer\, a partir das 14h30 do dia 01 de dezembro de 2021\, no Multiusos do Corvo a 1.ª edição da Feira do Livro de Natal do Ecomuseu. \nTemos descontos especiais de Natal! \nEste Natal ofereça livros! Os livros abrem as portas da nossa imaginação\, dão-nos a mão por universos mágicos\, ajudam-nos a pensar e a escrever\, não precisam de baterias e estão sempre disponíveis.
URL:https://ecomuseu-corvo.cultura.azores.gov.pt/evento/1-a-feira-do-livro-do-ecomuseu-do-corvo/
LOCATION:Espaço Cultural Multiusos
CATEGORIES:Feira do Livro
ATTACH;FMTTYPE=image/jpeg:https://ecomuseu-corvo.cultura.azores.gov.pt/wp-content/uploads/2022/03/feira-do-livro_face-1.jpg
END:VEVENT
END:VCALENDAR